Report for Dist-Zilla-Plugin-Git-2.042

Back
From: metabase:user:30ae4450-2aae-11df-837a-5e0a49663a4f
Subject: PASS Dist-Zilla-Plugin-Git-2.042 v5.24.0 
Date: 2017-05-12T19:47:05Z

This distribution has been tested as part of the CPAN Testers
project, supporting the Perl programming language.  See
http://wiki.cpantesters.org/ for more information or email
questions to cpan-testers-discuss@perl.org


--
Dear Karen Etheridge,

This is a computer-generated report for Dist-Zilla-Plugin-Git-2.042
on perl 5.24.0, created by CPAN-Reporter-1.2018.

Thank you for uploading your work to CPAN.  Congratulations!
All tests were successful.

Sections of this report:

    * Tester comments
    * Program output
    * Prerequisites
    * Environment and other context

------------------------------
TESTER COMMENTS
------------------------------

Additional comments from tester:

this report is from an automated smoke testing program
and was not reviewed by a human for accuracy

------------------------------
PROGRAM OUTPUT
------------------------------

Output from 'C:\STRAWB~1\c\bin\dmake.exe test':

"C:\Strawberry240\perl\bin\perl.exe" "-MExtUtils::Command::MM" "-MTest::Harness" "-e" "undef *Test::Harness::Switches; test_harness(0, 'blib\lib', 'blib\arch')" t/*.t
# 
# Versions for all modules listed in MYMETA.json (including optional ones):
# 
# === Configure Requires ===
# 
#     Module              Want   Have
#     ------------------- ---- ------
#     ExtUtils::MakeMaker  any   7.24
#     Text::ParseWords     any   3.30
#     version              any 0.9917
# 
# === Build Requires ===
# 
#     Module              Want Have
#     ------------------- ---- ----
#     ExtUtils::MakeMaker  any 7.24
# 
# === Test Requires ===
# 
#     Module                            Want     Have
#     -------------------------------- ----- --------
#     CPAN::Meta::Check                0.011    0.014
#     CPAN::Meta::Requirements           any    2.140
#     Devel::SimpleTrace                 any     0.08
#     Dist::Zilla::File::InMemory        any    6.008
#     Dist::Zilla::Plugin::Config::Git   any     0.92
#     Dist::Zilla::Role::Releaser        any    6.008
#     Dist::Zilla::Tester                any    6.008
#     Encode                             any     2.88
#     Exporter                           any     5.72
#     ExtUtils::MakeMaker                any     7.24
#     File::Copy                         any     2.31
#     File::Copy::Recursive              any     0.38
#     File::Path                        2.07  2.12_01
#     File::Spec                         any     3.63
#     File::Which                        any     1.21
#     File::pushd                        any    1.014
#     Log::Dispatchouli                  any    2.015
#     Test::DZil                         any    6.008
#     Test::Fatal                        any    0.014
#     Test::More                        0.88 1.302073
#     lib                                any     0.63
#     utf8                               any     1.19
# 
# === Test Recommends ===
# 
#     Module         Want     Have
#     ---------- -------- --------
#     CPAN::Meta 2.120900 2.150010
# 
# === Runtime Requires ===
# 
#     Module                                 Want     Have
#     ---------------------------------- -------- --------
#     Cwd                                     any     3.63
#     DateTime                                any     1.42
#     Dist::Zilla                               4    6.008
#     Dist::Zilla::Plugin::GatherDir     4.200016    6.008
#     Dist::Zilla::Role::AfterBuild           any    6.008
#     Dist::Zilla::Role::AfterMint            any    6.008
#     Dist::Zilla::Role::AfterRelease         any    6.008
#     Dist::Zilla::Role::BeforeRelease        any    6.008
#     Dist::Zilla::Role::FilePruner           any    6.008
#     Dist::Zilla::Role::GitConfig            any     0.92
#     Dist::Zilla::Role::PluginBundle         any    6.008
#     Dist::Zilla::Role::VersionProvider      any    6.008
#     File::HomeDir                          0.81     1.00
#     File::Spec::Functions                   any     3.63
#     File::Temp                              any   0.2304
#     File::chdir                             any   0.1010
#     Git::Wrapper                          0.021    0.047
#     IPC::Open3                              any     1.20
#     IPC::System::Simple                     any     1.25
#     List::Util                             1.45     1.47
#     Module::Runtime                         any    0.014
#     Moose                                   any   2.1807
#     Moose::Role                             any   2.1807
#     Moose::Util::TypeConstraints            any   2.1807
#     MooseX::Has::Sugar                      any 1.000004
#     MooseX::Types::Moose                    any     0.49
#     MooseX::Types::Path::Tiny             0.010    0.011
#     Path::Tiny                            0.048    0.098
#     String::Formatter                       any 0.102084
#     Try::Tiny                               any     0.27
#     Version::Next                           any    1.000
#     constant                                any     1.33
#     namespace::autoclean                   0.09     0.28
#     strict                                  any     1.11
#     version                                0.80   0.9917
#     warnings                                any     1.36
# 
# === Other Modules ===
# 
#     Module           Have
#     ------------- -------
#     JSON::PP      2.27400
#     Pod::Coverage    0.23
#     Sub::Name        0.21
#     YAML             1.21
#     autodie          2.29
# 
t/00-report-prereqs.t ........... ok
# git version 2.10.0.windows.1
t/000-report-git-version.t ...... ok
t/check.t ....................... ok
t/commit-build-custom.t ......... ok
t/commit-build-src-as-parent.t .. ok
t/commit-build.t ................ ok
t/commit-dirtydir.t ............. ok
t/commit-message.t .............. ok
t/commit-utf8.t ................. ok
t/commit-ws.t ................... ok
t/commit.t ...................... ok
t/gatherdir-multi.t ............. ok
t/gatherdir.t ................... ok
t/push-gitconfig.t .............. ok
t/push-multi.t .................. ok
t/push.t ........................ ok
t/repo-dir.t .................... ok
t/tag-signed.t .................. skipped: gpg couldn't be located in $PATH; required for GPG-signed tags
t/tag.t ......................... ok
t/version-by-branch.t ........... ok
t/version-default.t ............. ok
t/version-extraction.t .......... ok
t/version-regexp.t .............. ok
t/zzz-check-breaks.t ............ ok
All tests successful.
Files=24, Tests=198, 144 wallclock secs ( 0.13 usr +  0.15 sys =  0.28 CPU)
Result: PASS

------------------------------
PREREQUISITES
------------------------------

Prerequisite modules loaded:

requires:

    Module                             Need     Have    
    ---------------------------------- -------- --------
    constant                           0        1.33    
    Cwd                                0        3.63    
    DateTime                           0        1.42    
    Dist::Zilla                        4        6.008   
    Dist::Zilla::Plugin::GatherDir     4.200016 6.008   
    Dist::Zilla::Role::AfterBuild      0        6.008   
    Dist::Zilla::Role::AfterMint       0        6.008   
    Dist::Zilla::Role::AfterRelease    0        6.008   
    Dist::Zilla::Role::BeforeRelease   0        6.008   
    Dist::Zilla::Role::FilePruner      0        6.008   
    Dist::Zilla::Role::GitConfig       0        0.92    
    Dist::Zilla::Role::PluginBundle    0        6.008   
    Dist::Zilla::Role::VersionProvider 0        6.008   
    File::chdir                        0        0.1010  
    File::HomeDir                      0.81     1.00    
    File::Spec::Functions              0        3.63    
    File::Temp                         0        0.2304  
    Git::Wrapper                       0.021    0.047   
    IPC::Open3                         0        1.20    
    IPC::System::Simple                0        1.25    
    List::Util                         1.45     1.47    
    Module::Runtime                    0        0.014   
    Moose                              0        2.1807  
    Moose::Role                        0        2.1807  
    Moose::Util::TypeConstraints       0        2.1807  
    MooseX::Has::Sugar                 0        1.000004
    MooseX::Types::Moose               0        0.49    
    MooseX::Types::Path::Tiny          0.010    0.011   
    namespace::autoclean               0.09     0.28    
    Path::Tiny                         0.048    0.098   
    perl                               5.010    5.024000
    strict                             0        1.11    
    String::Formatter                  0        0.102084
    Try::Tiny                          0        0.27    
    version                            0.80     0.9917  
    Version::Next                      0        1.000   
    warnings                           0        1.36    

build_requires:

    Module                             Need     Have    
    ---------------------------------- -------- --------
    CPAN::Meta::Check                  0.011    0.014   
    CPAN::Meta::Requirements           0        2.140   
    Devel::SimpleTrace                 0        0.08    
    Dist::Zilla::File::InMemory        0        6.008   
    Dist::Zilla::Plugin::Config::Git   0        0.92    
    Dist::Zilla::Role::Releaser        0        6.008   
    Dist::Zilla::Tester                0        6.008   
    Encode                             0        2.88    
    Exporter                           0        5.72    
    ExtUtils::MakeMaker                0        7.24    
    File::Copy                         0        2.31    
    File::Copy::Recursive              0        0.38    
    File::Path                         2.07     2.12_01 
    File::pushd                        0        1.014   
    File::Spec                         0        3.63    
    File::Which                        0        1.21    
    lib                                0        0.63    
    Log::Dispatchouli                  0        2.015   
    Test::DZil                         0        6.008   
    Test::Fatal                        0        0.014   
    Test::More                         0.88     1.302073
    utf8                               0        1.19    

configure_requires:

    Module                             Need     Have    
    ---------------------------------- -------- --------
    ExtUtils::MakeMaker                0        7.24    
    perl                               5.010    5.024000
    Text::ParseWords                   0        3.30    
    version                            0        0.9917  


------------------------------
ENVIRONMENT AND OTHER CONTEXT
------------------------------

Environment variables:

    AUTOMATED_TESTING = 1
    COMSPEC = C:\WINDOWS\system32\cmd.exe
    NUMBER_OF_PROCESSORS = 1
    PATH = C:\WINDOWS\system32;C:\WINDOWS;C:\WINDOWS\System32\Wbem;C:\Git\cmd;C:\Strawberry240\c\bin;C:\Strawberry240\perl\site\bin;C:\Strawberry240\perl\bin
    PERL5LIB = 
    PERL5OPT = 
    PERL5_CPANPLUS_IS_RUNNING = 488
    PERL5_CPAN_IS_RUNNING = 488
    PERL5_CPAN_IS_RUNNING_IN_RECURSION = 916,488
    PERL_CR_SMOKER_CURRENT = Dist-Zilla-Plugin-Git-2.042
    PERL_CR_SMOKER_RUNONCE = 1
    PERL_EXTUTILS_AUTOINSTALL = --defaultdeps
    PERL_HASH_SEED = 0x11111111
    PERL_MM_USE_DEFAULT = 1
    PROCESSOR_IDENTIFIER = x86 Family 16 Model 5 Stepping 3, AuthenticAMD
    TEMP = C:\DOCUME~1\a\LOCALS~1\Temp

Perl special variables (and OS-specific diagnostics, for MSWin32):

    $^X = C:\Strawberry240\perl\bin\perl.exe
    $UID/$EUID = 0 / 0
    $GID = 0
    $EGID = 0
    Win32::GetOSName = WinXP/.Net
    Win32::GetOSVersion = Service Pack 3, 5, 1, 2600, 2, 3, 0, 256, 1
    Win32::FsType = NTFS
    Win32::IsAdminUser = 1

Perl module toolchain versions installed:

    Module              Have    
    ------------------- --------
    CPAN                2.14    
    CPAN::Meta          2.150010
    Cwd                 3.63    
    ExtUtils::CBuilder  0.280225
    ExtUtils::Command   7.24    
    ExtUtils::Install   2.04    
    ExtUtils::MakeMaker 7.24    
    ExtUtils::Manifest  1.70    
    ExtUtils::ParseXS   3.31    
    File::Spec          3.63    
    JSON                2.90    
    JSON::PP            2.27400 
    Module::Build       0.4220  
    Module::Signature   0.81    
    Parse::CPAN::Meta   2.150010
    Test::Harness       3.36    
    Test::More          1.302073
    YAML                1.21    
    YAML::Syck          1.29    
    version             0.9917  


--

Summary of my perl5 (revision 5 version 24 subversion 0) configuration:
   
  Platform:
    osname=MSWin32, osvers=4.0, archname=MSWin32-x86-multi-thread
    uname='Win32 strawberry-perl 5.24.0.1-beta1 #1 Thu Dec 29 16:46:05 2016 i386'
    config_args='undef'
    hint=recommended, useposix=true, d_sigaction=undef
    useithreads=define, usemultiplicity=define
    use64bitint=undef, use64bitall=undef, uselongdouble=undef
    usemymalloc=n, bincompat5005=undef
  Compiler:
    cc='gcc', ccflags =' -s -O2 -DWIN32  -DPERL_TEXTMODE_SCRIPTS -DPERL_IMPLICIT_CONTEXT -DPERL_IMPLICIT_SYS -fwrapv -fno-strict-aliasing -mms-bitfields',
    optimize='-s -O2',
    cppflags='-DWIN32'
    ccversion='', gccversion='4.9.2', gccosandvers=''
    intsize=4, longsize=4, ptrsize=4, doublesize=8, byteorder=1234, doublekind=3
    d_longlong=define, longlongsize=8, d_longdbl=define, longdblsize=12, longdblkind=3
    ivtype='long', ivsize=4, nvtype='double', nvsize=8, Off_t='long long', lseeksize=8
    alignbytes=8, prototype=define
  Linker and Libraries:
    ld='g++', ldflags ='-s -L"C:\STRAWB~1\perl\lib\CORE" -L"C:\STRAWB~1\c\lib"'
    libpth=C:\STRAWB~1\c\lib C:\STRAWB~1\c\i686-w64-mingw32\lib C:\STRAWB~1\c\lib\gcc\i686-w64-mingw32\4.9.2
    libs=-lmoldname -lkernel32 -luser32 -lgdi32 -lwinspool -lcomdlg32 -ladvapi32 -lshell32 -lole32 -loleaut32 -lnetapi32 -luuid -lws2_32 -lmpr -lwinmm -lversion -lodbc32 -lodbccp32 -lcomctl32
    perllibs=-lmoldname -lkernel32 -luser32 -lgdi32 -lwinspool -lcomdlg32 -ladvapi32 -lshell32 -lole32 -loleaut32 -lnetapi32 -luuid -lws2_32 -lmpr -lwinmm -lversion -lodbc32 -lodbccp32 -lcomctl32
    libc=, so=dll, useshrplib=true, libperl=libperl524.a
    gnulibc_version=''
  Dynamic Linking:
    dlsrc=dl_win32.xs, dlext=xs.dll, d_dlsymun=undef, ccdlflags=' '
    cccdlflags=' ', lddlflags='-mdll -s -L"C:\STRAWB~1\perl\lib\CORE" -L"C:\STRAWB~1\c\lib"'


Characteristics of this binary (from libperl): 
  Compile-time options: HAS_TIMES HAVE_INTERP_INTERN MULTIPLICITY
                        PERLIO_LAYERS PERL_COPY_ON_WRITE
                        PERL_DONT_CREATE_GVSV
                        PERL_HASH_FUNC_ONE_AT_A_TIME_HARD
                        PERL_IMPLICIT_CONTEXT PERL_IMPLICIT_SYS
                        PERL_MALLOC_WRAP PERL_PRESERVE_IVUV USE_ITHREADS
                        USE_LARGE_FILES USE_LOCALE USE_LOCALE_COLLATE
                        USE_LOCALE_CTYPE USE_LOCALE_NUMERIC USE_LOCALE_TIME
                        USE_PERLIO USE_PERL_ATOF
  Built under MSWin32
  Compiled at Dec 29 2016 16:55:33
  %ENV:
    PERL5_CPANPLUS_IS_RUNNING="488"
    PERL5_CPAN_IS_RUNNING="488"
    PERL5_CPAN_IS_RUNNING_IN_RECURSION="916,488"
    PERL_CR_SMOKER_CURRENT="Dist-Zilla-Plugin-Git-2.042"
    PERL_CR_SMOKER_RUNONCE="1"
    PERL_EXTUTILS_AUTOINSTALL="--defaultdeps"
    PERL_HASH_SEED="0x11111111"
    PERL_MM_USE_DEFAULT="1"
  @INC:
    C:/Strawberry240/perl/site/lib
    C:/Strawberry240/perl/vendor/lib
    C:/Strawberry240/perl/lib
    .