Report for Data-FormValidator-4.83

Back
From: metabase:user:cd035d39-6d5b-1014-ab3a-39c0c09612a1
Subject: PASS Data-FormValidator-4.83 v5.24.1 GNU/Linux
Date: 2017-02-24T04:42:11Z

This distribution has been tested as part of the CPAN Testers
project, supporting the Perl programming language.  See
http://wiki.cpantesters.org/ for more information or email
questions to cpan-testers-discuss@perl.org


--
Dear David Farrell,

This is a computer-generated report for Data-FormValidator-4.83
on perl 5.24.1, created by CPAN-Reporter-1.2018.

Thank you for uploading your work to CPAN.  Congratulations!
All tests were successful.

Sections of this report:

    * Tester comments
    * Program output
    * Prerequisites
    * Environment and other context

------------------------------
TESTER COMMENTS
------------------------------

Additional comments from tester:

this report is from an automated smoke testing program
and was not reviewed by a human for accuracy

------------------------------
PROGRAM OUTPUT
------------------------------

Output from '/usr/bin/make test':

PERL_DL_NONLAZY=1 "/srv/smoker/perl5/perlbrew/perls/perl-5.24.1/bin/perl" "-MExtUtils::Command::MM" "-MTest::Harness" "-e" "undef *Test::Harness::Switches; test_harness(0, 'blib/lib', 'blib/arch')" t/*.t
t/00_base.t .............................. ok
t/02_code_ref.t .......................... ok
t/03_dependency.t ........................ ok
t/04_arrayify_undef.t .................... ok
t/05_valid_ip_address.t .................. ok
t/06_regexp_map.t ........................ ok
t/09_require_some.t ...................... ok
t/11_procedural_match.t .................. ok
t/13_validator_packages.t ................ ok
t/15_literal_param_constraints.t ......... ok
t/16_cgi_object.t ........................ ok
t/17_multi_valued_keys.t ................. ok
t/18_constraint_refs.t ................... ok
t/19_refs_as_values.t .................... ok
t/20_careful_exception_handling.t ........ ok
t/21_multiple_fields.t ................... ok
t/25_results.t ........................... ok
t/26_qr.t ................................ ok
t/27_qualify_ref_happy_death.t ........... ok
t/28_defaults_for_new.t .................. ok
t/30_filter_definedness.t ................ ok
t/any_errors.t ........................... ok
t/check_profile_syntax.t ................. ok
t/closure_msgs.t ......................... ok
t/constraint_method.t .................... ok
t/constraint_method_string.t ............. ok
t/constraint_method_zero.t ............... ok
t/constraint_regexp_map_profile_reuse.t .. ok
t/constraints_builtin.t .................. ok
t/constraints_builtin_closure.t .......... ok
t/constraints_factory.t .................. ok
Use of uninitialized value $_ in exists at t/constraints_invalid_once_only.t line 40.
Use of uninitialized value $_ in hash element at t/constraints_invalid_once_only.t line 45.
t/constraints_invalid_once_only.t ........ ok
t/constraints_num_values.t ............... ok
t/constraints_regexp_map_interaction.t ... ok
t/constraints_reuse.t .................... ok
t/credit_card.t .......................... ok
t/dates.t ................................ ok
t/dates_closure.t ........................ ok
t/dependency_coderef.t ................... ok
t/dependency_groups.t .................... ok
t/filter_constraints.t ................... ok
"my" variable $replacer masks earlier declaration in same scope at t/filters_builtin.t line 19.
t/filters_builtin.t ...................... ok
t/filters_shouldnt_modify.t .............. ok
t/FV_length.t ............................ ok
t/get_filtered_data.t .................... ok
t/get_input_data.t ....................... ok
t/missing_optional.t ..................... ok
t/msgs.t ................................. ok
t/multiple_constraints.t ................. ok
t/params_not_mentioned.t ................. ok
t/pod.t .................................. ok
t/procedural_valid.t ..................... ok
t/profile_checking.t ..................... ok
t/regexp_common.t ........................ ok
t/regexp_common_closure.t ................ ok
t/rename_builtin_constraints.t ........... ok
t/results_success.t ...................... ok
t/simple.t ............................... ok
t/tt_and_overload.t ...................... skipped: Template Toolkit required
t/undefined_arrayref.t ................... ok
t/unknown.t .............................. ok
t/untaint.t .............................. ok
# Skipping CGI::Simple Tests
# testing with CGI.pm version: 4.35
# Running tests with CGI
t/upload.t ............................... ok
# testing with CGI.pm version: 4.35
t/upload_closure.t ....................... ok
t/upload_mime_types.t .................... ok
All tests successful.
Files=65, Tests=606, 201 wallclock secs ( 3.79 usr  0.57 sys + 151.22 cusr  9.82 csys = 165.40 CPU)
Result: PASS

------------------------------
PREREQUISITES
------------------------------

Prerequisite modules loaded:

requires:

    Module              Need  Have      
    ------------------- ----- ----------
    Date::Calc          5     6.4       
    Email::Valid        0     1.202     
    File::MMagic        1.17  1.30      
    Image::Size         0     3.300     
    MIME::Types         1.005 2.13      
    perl                5.008 5.024001  
    Regexp::Common      0.03  2016060801
    Scalar::Util        0     1.47      
    Test::More          0     1.302075  

build_requires:

    Module              Need  Have      
    ------------------- ----- ----------
    ExtUtils::MakeMaker 0     7.24      

configure_requires:

    Module              Need  Have      
    ------------------- ----- ----------
    ExtUtils::MakeMaker 0     7.24      


------------------------------
ENVIRONMENT AND OTHER CONTEXT
------------------------------

Environment variables:

    AUTOMATED_TESTING = 1
    LC_CTYPE = de_AT.utf8
    LD_LIBRARY_PATH = /usr/lib/libeatmydata
    NONINTERACTIVE_TESTING = 1
    PATH = /srv/smoker/bin:/usr/lib/ccache:/srv/smoker/perl5/perlbrew/bin:/srv/smoker/perl5/perlbrew/perls/perl-5.24.1/bin:/usr/local/bin:/usr/bin:/bin:/usr/local/games:/usr/games
    PERL5LIB = /srv/smoker/cpan/build/Test-Regexp-2016060501-2/blib/arch:/srv/smoker/cpan/build/Test-Regexp-2016060501-2/blib/lib:/srv/smoker/cpan/build/Regexp-Common-2016060801-2/blib/arch:/srv/smoker/cpan/build/Regexp-Common-2016060801-2/blib/lib:/srv/smoker/cpan/build/MIME-Types-2.13-2/blib/arch:/srv/smoker/cpan/build/MIME-Types-2.13-2/blib/lib:/srv/smoker/cpan/build/Image-Size-3.300-1/blib/arch:/srv/smoker/cpan/build/Image-Size-3.300-1/blib/lib:/srv/smoker/cpan/build/File-MMagic-1.30-2/blib/arch:/srv/smoker/cpan/build/File-MMagic-1.30-2/blib/lib:/srv/smoker/cpan/build/Email-Valid-1.202-1/blib/arch:/srv/smoker/cpan/build/Email-Valid-1.202-1/blib/lib:/srv/smoker/cpan/build/MailTools-2.18-1/blib/arch:/srv/smoker/cpan/build/MailTools-2.18-1/blib/lib
    PERL5OPT = 
    PERL5_CPANPLUS_IS_RUNNING = 17964
    PERL5_CPAN_IS_RUNNING = 17964
    PERL5_CPAN_IS_RUNNING_IN_RECURSION = 19565,17964
    PERLBREW_BASHRC_VERSION = 0.78
    PERLBREW_HOME = /srv/smoker/.perlbrew
    PERLBREW_MANPATH = /srv/smoker/perl5/perlbrew/perls/perl-5.24.1/man
    PERLBREW_PATH = /srv/smoker/perl5/perlbrew/bin:/srv/smoker/perl5/perlbrew/perls/perl-5.24.1/bin
    PERLBREW_PERL = perl-5.24.1
    PERLBREW_ROOT = /srv/smoker/perl5/perlbrew
    PERLBREW_VERSION = 0.78
    PERL_CR_SMOKER_CURRENT = Data-FormValidator-4.83
    PERL_EXTUTILS_AUTOINSTALL = --defaultdeps
    PERL_MM_USE_DEFAULT = 1
    SHELL = /bin/bash
    TERM = screen-256color

Perl special variables (and OS-specific diagnostics, for MSWin32):

    $^X = /srv/smoker/perl5/perlbrew/perls/perl-5.24.1/bin/perl
    $UID/$EUID = 1111 / 1111
    $GID = 65534 65534
    $EGID = 65534 65534

Perl module toolchain versions installed:

    Module              Have    
    ------------------- --------
    CPAN                2.16    
    CPAN::Meta          2.150010
    Cwd                 3.63_01 
    ExtUtils::CBuilder  0.280225
    ExtUtils::Command   7.24    
    ExtUtils::Install   2.04    
    ExtUtils::MakeMaker 7.24    
    ExtUtils::Manifest  1.70    
    ExtUtils::ParseXS   3.31    
    File::Spec          3.63_01 
    JSON                2.90    
    JSON::PP            2.27400 
    Module::Build       0.4220  
    Module::Signature   n/a     
    Parse::CPAN::Meta   2.150010
    Test::Harness       3.36_01 
    Test::More          1.302075
    YAML                1.22    
    YAML::Syck          n/a     
    version             0.9917  


--

Summary of my perl5 (revision 5 version 24 subversion 1) configuration:
   
  Platform:
    osname=linux, osvers=3.18.0-trunk-rpi, archname=armv6l-linux
    uname='linux smoker 3.18.0-trunk-rpi #1 preempt raspbian 3.18.5-1~exp1+rpi19+stretch (2015-10-14) armv6l gnulinux '
    config_args='-de -Dprefix=/srv/smoker/perl5/perlbrew/perls/perl-5.24.1 -Aeval:scriptdir=/srv/smoker/perl5/perlbrew/perls/perl-5.24.1/bin'
    hint=recommended, useposix=true, d_sigaction=define
    useithreads=undef, usemultiplicity=undef
    use64bitint=undef, use64bitall=undef, uselongdouble=undef
    usemymalloc=n, bincompat5005=undef
  Compiler:
    cc='cc', ccflags ='-fwrapv -fno-strict-aliasing -pipe -fstack-protector-strong -I/usr/local/include -D_LARGEFILE_SOURCE -D_FILE_OFFSET_BITS=64',
    optimize='-O2',
    cppflags='-fwrapv -fno-strict-aliasing -pipe -fstack-protector-strong -I/usr/local/include'
    ccversion='', gccversion='6.2.1 20161124', gccosandvers=''
    intsize=4, longsize=4, ptrsize=4, doublesize=8, byteorder=1234, doublekind=3
    d_longlong=define, longlongsize=8, d_longdbl=define, longdblsize=8, longdblkind=0
    ivtype='long', ivsize=4, nvtype='double', nvsize=8, Off_t='off_t', lseeksize=8
    alignbytes=8, prototype=define
  Linker and Libraries:
    ld='cc', ldflags =' -fstack-protector-strong -L/usr/local/lib'
    libpth=/usr/local/lib /usr/lib/gcc/arm-linux-gnueabihf/6/include-fixed /usr/include/arm-linux-gnueabihf /usr/lib /lib/arm-linux-gnueabihf /lib /usr/lib/arm-linux-gnueabihf
    libs=-lpthread -lnsl -ldl -lm -lcrypt -lutil -lc
    perllibs=-lpthread -lnsl -ldl -lm -lcrypt -lutil -lc
    libc=libc-2.24.so, so=so, useshrplib=false, libperl=libperl.a
    gnulibc_version='2.24'
  Dynamic Linking:
    dlsrc=dl_dlopen.xs, dlext=so, d_dlsymun=undef, ccdlflags='-Wl,-E'
    cccdlflags='-fPIC', lddlflags='-shared -O2 -L/usr/local/lib -fstack-protector-strong'


Characteristics of this binary (from libperl): 
  Compile-time options: HAS_TIMES PERLIO_LAYERS PERL_COPY_ON_WRITE
                        PERL_DONT_CREATE_GVSV
                        PERL_HASH_FUNC_ONE_AT_A_TIME_HARD PERL_MALLOC_WRAP
                        PERL_PRESERVE_IVUV USE_LARGE_FILES USE_LOCALE
                        USE_LOCALE_COLLATE USE_LOCALE_CTYPE
                        USE_LOCALE_NUMERIC USE_LOCALE_TIME USE_PERLIO
                        USE_PERL_ATOF
  Locally applied patches:
	Devel::PatchPerl 1.38
  Built under linux
  Compiled at Jan 16 2017 10:08:31
  %ENV:
    PERL5LIB="/srv/smoker/cpan/build/Test-Regexp-2016060501-2/blib/arch:/srv/smoker/cpan/build/Test-Regexp-2016060501-2/blib/lib:/srv/smoker/cpan/build/Regexp-Common-2016060801-2/blib/arch:/srv/smoker/cpan/build/Regexp-Common-2016060801-2/blib/lib:/srv/smoker/cpan/build/MIME-Types-2.13-2/blib/arch:/srv/smoker/cpan/build/MIME-Types-2.13-2/blib/lib:/srv/smoker/cpan/build/Image-Size-3.300-1/blib/arch:/srv/smoker/cpan/build/Image-Size-3.300-1/blib/lib:/srv/smoker/cpan/build/File-MMagic-1.30-2/blib/arch:/srv/smoker/cpan/build/File-MMagic-1.30-2/blib/lib:/srv/smoker/cpan/build/Email-Valid-1.202-1/blib/arch:/srv/smoker/cpan/build/Email-Valid-1.202-1/blib/lib:/srv/smoker/cpan/build/MailTools-2.18-1/blib/arch:/srv/smoker/cpan/build/MailTools-2.18-1/blib/lib"
    PERL5OPT=""
    PERL5_CPANPLUS_IS_RUNNING="17964"
    PERL5_CPAN_IS_RUNNING="17964"
    PERL5_CPAN_IS_RUNNING_IN_RECURSION="19565,17964"
    PERLBREW_BASHRC_VERSION="0.78"
    PERLBREW_HOME="/srv/smoker/.perlbrew"
    PERLBREW_MANPATH="/srv/smoker/perl5/perlbrew/perls/perl-5.24.1/man"
    PERLBREW_PATH="/srv/smoker/perl5/perlbrew/bin:/srv/smoker/perl5/perlbrew/perls/perl-5.24.1/bin"
    PERLBREW_PERL="perl-5.24.1"
    PERLBREW_ROOT="/srv/smoker/perl5/perlbrew"
    PERLBREW_VERSION="0.78"
    PERL_CR_SMOKER_CURRENT="Data-FormValidator-4.83"
    PERL_EXTUTILS_AUTOINSTALL="--defaultdeps"
    PERL_MM_USE_DEFAULT="1"
  @INC:
    /srv/smoker/cpan/build/Test-Regexp-2016060501-2/blib/arch
    /srv/smoker/cpan/build/Test-Regexp-2016060501-2/blib/lib
    /srv/smoker/cpan/build/Regexp-Common-2016060801-2/blib/arch
    /srv/smoker/cpan/build/Regexp-Common-2016060801-2/blib/lib
    /srv/smoker/cpan/build/MIME-Types-2.13-2/blib/arch
    /srv/smoker/cpan/build/MIME-Types-2.13-2/blib/lib
    /srv/smoker/cpan/build/Image-Size-3.300-1/blib/arch
    /srv/smoker/cpan/build/Image-Size-3.300-1/blib/lib
    /srv/smoker/cpan/build/File-MMagic-1.30-2/blib/arch
    /srv/smoker/cpan/build/File-MMagic-1.30-2/blib/lib
    /srv/smoker/cpan/build/Email-Valid-1.202-1/blib/arch
    /srv/smoker/cpan/build/Email-Valid-1.202-1/blib/lib
    /srv/smoker/cpan/build/MailTools-2.18-1/blib/arch
    /srv/smoker/cpan/build/MailTools-2.18-1/blib/lib
    /srv/smoker/perl5/perlbrew/perls/perl-5.24.1/lib/site_perl/5.24.1/armv6l-linux
    /srv/smoker/perl5/perlbrew/perls/perl-5.24.1/lib/site_perl/5.24.1
    /srv/smoker/perl5/perlbrew/perls/perl-5.24.1/lib/5.24.1/armv6l-linux
    /srv/smoker/perl5/perlbrew/perls/perl-5.24.1/lib/5.24.1
    .