DateTime-Format-Intl vv0.1.8 Perl 5 v5.16.3 MSWin32-x64-multi-thread

Status
Pass
From
LNATION
Dist
DateTime-Format-Intl vv0.1.8
Platform
Perl 5 v5.16.3 MSWin32-x64-multi-thread
Date
2025-05-19 14:20:32
ID
9af10dc0-6e8e-1014-8a75-fb5b0dab3fbf
This distribution has been tested as part of the CPAN Testers
project, supporting the Perl programming language.  See
http://wiki.cpantesters.org/ for more information or email
questions to cpan-testers-discuss@perl.org


--
Dear Jacques Deguest,

This is a computer-generated report for DateTime-Format-Intl-v0.1.8
on perl 5.16.3, created by CPAN-Reporter-1.2020.

Thank you for uploading your work to CPAN.  Congratulations!
All tests were successful.

Sections of this report:

    * Tester comments
    * Program output
    * Prerequisites
    * Environment and other context

------------------------------
TESTER COMMENTS
------------------------------

Additional comments from tester:

this report is from an automated smoke testing program
and was not reviewed by a human for accuracy

------------------------------
PROGRAM OUTPUT
------------------------------

Output from 'C:\strawberry\c\bin\dmake.exe test':

"C:\strawberry\perl\bin\perl.exe" "-MExtUtils::Command::MM" "-MTest::Harness" "-e" "undef *Test::Harness::Switches; test_harness(0, 'blib\lib', 'blib\arch')" t/*.t
t/001_load.t ....................... ok
t/002_methods.t .................... ok
Warning only: unsupported numbering system provided (jpanfin) via the locale "nu" extension (ja-Kana-JP-u-ca-gregory-nu-jpanfin-tz-jptyo). at lib/DateTime/Format/Intl.pm line 357.
Warning only: unsupported numbering system provided (jpanfin) via the locale "nu" extension (ja-Kana-JP-u-ca-gregory-nu-jpanfin-tz-jptyo). at lib/DateTime/Format/Intl.pm line 357.
Warning only: unsupported numbering system provided (arab) via the locale "nu" extension (ar-EG-u-ca-gregory-nu-arab-tz-egcai). at lib/DateTime/Format/Intl.pm line 357.
t/003_resolved_options.t ........... ok
t/004_supported_locales_of.t ....... ok
t/005_select_best_pattern.t ........ ok
t/006_format.t ..................... ok
Use of uninitialized value in join or string at C:/strawberry/perl/site/lib/DateTime/Locale/FromCLDR.pm line 471.
Warning: something's wrong at C:/strawberry/perl/site/lib/DateTime/Locale/FromCLDR.pm line 482.
Use of uninitialized value in join or string at C:/strawberry/perl/site/lib/DateTime/Locale/FromCLDR.pm line 471.
Warning: something's wrong at C:/strawberry/perl/site/lib/DateTime/Locale/FromCLDR.pm line 482.
Use of uninitialized value in join or string at C:/strawberry/perl/site/lib/DateTime/Locale/FromCLDR.pm line 471.
Warning: something's wrong at C:/strawberry/perl/site/lib/DateTime/Locale/FromCLDR.pm line 482.
Use of uninitialized value in join or string at C:/strawberry/perl/site/lib/DateTime/Locale/FromCLDR.pm line 471.
Warning: something's wrong at C:/strawberry/perl/site/lib/DateTime/Locale/FromCLDR.pm line 482.
Use of uninitialized value in join or string at C:/strawberry/perl/site/lib/DateTime/Locale/FromCLDR.pm line 471.
Warning: something's wrong at C:/strawberry/perl/site/lib/DateTime/Locale/FromCLDR.pm line 482.
Use of uninitialized value in join or string at C:/strawberry/perl/site/lib/DateTime/Locale/FromCLDR.pm line 471.
Warning: something's wrong at C:/strawberry/perl/site/lib/DateTime/Locale/FromCLDR.pm line 482.
Use of uninitialized value in join or string at C:/strawberry/perl/site/lib/DateTime/Locale/FromCLDR.pm line 471.
Warning: something's wrong at C:/strawberry/perl/site/lib/DateTime/Locale/FromCLDR.pm line 482.
Use of uninitialized value in join or string at C:/strawberry/perl/site/lib/DateTime/Locale/FromCLDR.pm line 471.
Warning: something's wrong at C:/strawberry/perl/site/lib/DateTime/Locale/FromCLDR.pm line 482.
t/007_select_best_range_pattern.t .. ok
Use of uninitialized value in join or string at C:/strawberry/perl/site/lib/DateTime/Locale/FromCLDR.pm line 471.
Warning: something's wrong at C:/strawberry/perl/site/lib/DateTime/Locale/FromCLDR.pm line 482.
Use of uninitialized value in join or string at C:/strawberry/perl/site/lib/DateTime/Locale/FromCLDR.pm line 471.
Warning: something's wrong at C:/strawberry/perl/site/lib/DateTime/Locale/FromCLDR.pm line 482.
Use of uninitialized value in join or string at C:/strawberry/perl/site/lib/DateTime/Locale/FromCLDR.pm line 471.
Warning: something's wrong at C:/strawberry/perl/site/lib/DateTime/Locale/FromCLDR.pm line 482.
Use of uninitialized value in join or string at C:/strawberry/perl/site/lib/DateTime/Locale/FromCLDR.pm line 471.
Warning: something's wrong at C:/strawberry/perl/site/lib/DateTime/Locale/FromCLDR.pm line 482.
Use of uninitialized value in join or string at C:/strawberry/perl/site/lib/DateTime/Locale/FromCLDR.pm line 471.
Warning: something's wrong at C:/strawberry/perl/site/lib/DateTime/Locale/FromCLDR.pm line 482.
Use of uninitialized value in join or string at C:/strawberry/perl/site/lib/DateTime/Locale/FromCLDR.pm line 471.
Warning: something's wrong at C:/strawberry/perl/site/lib/DateTime/Locale/FromCLDR.pm line 482.
Use of uninitialized value in join or string at C:/strawberry/perl/site/lib/DateTime/Locale/FromCLDR.pm line 471.
Warning: something's wrong at C:/strawberry/perl/site/lib/DateTime/Locale/FromCLDR.pm line 482.
Use of uninitialized value in join or string at C:/strawberry/perl/site/lib/DateTime/Locale/FromCLDR.pm line 471.
Warning: something's wrong at C:/strawberry/perl/site/lib/DateTime/Locale/FromCLDR.pm line 482.
t/008_format_range.t ............... ok
t/009_date_time_combination.t ...... ok
t/010_format_to_parts.t ............ ok
Use of uninitialized value in join or string at C:/strawberry/perl/site/lib/DateTime/Locale/FromCLDR.pm line 471.
Warning: something's wrong at C:/strawberry/perl/site/lib/DateTime/Locale/FromCLDR.pm line 482.
Use of uninitialized value in join or string at C:/strawberry/perl/site/lib/DateTime/Locale/FromCLDR.pm line 471.
Warning: something's wrong at C:/strawberry/perl/site/lib/DateTime/Locale/FromCLDR.pm line 482.
Use of uninitialized value in join or string at C:/strawberry/perl/site/lib/DateTime/Locale/FromCLDR.pm line 471.
Warning: something's wrong at C:/strawberry/perl/site/lib/DateTime/Locale/FromCLDR.pm line 482.
Use of uninitialized value in join or string at C:/strawberry/perl/site/lib/DateTime/Locale/FromCLDR.pm line 471.
Warning: something's wrong at C:/strawberry/perl/site/lib/DateTime/Locale/FromCLDR.pm line 482.
Use of uninitialized value in join or string at C:/strawberry/perl/site/lib/DateTime/Locale/FromCLDR.pm line 471.
Warning: something's wrong at C:/strawberry/perl/site/lib/DateTime/Locale/FromCLDR.pm line 482.
Use of uninitialized value in join or string at C:/strawberry/perl/site/lib/DateTime/Locale/FromCLDR.pm line 471.
Warning: something's wrong at C:/strawberry/perl/site/lib/DateTime/Locale/FromCLDR.pm line 482.
Use of uninitialized value in join or string at C:/strawberry/perl/site/lib/DateTime/Locale/FromCLDR.pm line 471.
Warning: something's wrong at C:/strawberry/perl/site/lib/DateTime/Locale/FromCLDR.pm line 482.
Use of uninitialized value in join or string at C:/strawberry/perl/site/lib/DateTime/Locale/FromCLDR.pm line 471.
Warning: something's wrong at C:/strawberry/perl/site/lib/DateTime/Locale/FromCLDR.pm line 482.
t/011_format_range_to_parts.t ...... ok
t/900_pod.t ........................ skipped: These tests are for author or release candidate testing
t/910_coverage.t ................... skipped: These tests are for author or release candidate testing
t/920_manifest.t ................... skipped: Author tests not required for installation
t/930_signature.t .................. skipped: Set the environment variable AUTHOR_TESTING to enable this test.
t/999_kwalitee.t ................... skipped: These tests are for author or release candidate testing
All tests successful.
Files=16, Tests=467, 32 wallclock secs ( 0.64 usr +  0.08 sys =  0.72 CPU)
Result: PASS

------------------------------
PREREQUISITES
------------------------------

Prerequisite modules loaded:

requires:

    Module                     Need     Have    
    -------------------------- -------- --------
    DateTime                   0.42     0.78    
    DateTime::Format::Unicode  v0.1.6   v0.2.0  
    DateTime::Locale::FromCLDR v0.6.1   v0.7.0  
    Locale::Intl               v0.1.3   v0.2.0  
    Locale::Unicode::Data      v1.3.2   v1.4.0  
    parent                     0        0.225   
    perl                       5.010001 5.016003
    Scalar::Util               0        1.69    
    strict                     0        1.07    
    vars                       0        1.02    
    Want                       0.17     0.29    
    warnings                   0        1.13    
    warnings::register         0        1.02    

build_requires:

    Module                     Need     Have    
    -------------------------- -------- --------
    ExtUtils::MakeMaker        0        7.74    
    lib                        0.63     0.63    
    open                       0        1.10    
    Test::More                 1.302120 1.302213
    Test::Pod                  1.52     1.52    
    utf8                       0        1.09    

configure_requires:

    Module                     Need     Have    
    -------------------------- -------- --------
    ExtUtils::MakeMaker        0        7.74    


------------------------------
ENVIRONMENT AND OTHER CONTEXT
------------------------------

Environment variables:

    AUTOMATED_TESTING = 1
    COMSPEC = C:\Windows\system32\cmd.exe
    NUMBER_OF_PROCESSORS = 2
    PATH = C:\Windows\system32;C:\Windows;C:\Windows\System32\Wbem;C:\Windows\System32\WindowsPowerShell\v1.0\;C:\Windows\System32\OpenSSH\;C:\Program Files\Amazon\cfn-bootstrap\;C:\strawberry\c\bin;C:\strawberry\perl\site\bin;C:\strawberry\perl\bin;C:\Users\Administrator\AppData\Local\Microsoft\WindowsApps;C:\Users\Administrator\AppData\Local\Microsoft\WinGet\Links;
    PERL5LIB = 
    PERL5OPT = 
    PERL5_CPANPLUS_IS_RUNNING = 2668
    PERL5_CPAN_IS_RUNNING = 2668
    PERL5_CPAN_IS_RUNNING_IN_RECURSION = 7556,2668
    PERL_CR_SMOKER_CURRENT = DateTime-Format-Intl-v0.1.8
    PERL_EXTUTILS_AUTOINSTALL = --defaultdeps
    PERL_MM_USE_DEFAULT = 1
    PROCESSOR_IDENTIFIER = Intel64 Family 6 Model 85 Stepping 7, GenuineIntel
    TEMP = C:\Users\ADMINI~1\AppData\Local\Temp\2
    TERM = dumb

Perl special variables (and OS-specific diagnostics, for MSWin32):

    $^X = C:\strawberry\perl\bin\perl.exe
    $UID/$EUID = 0 / 0
    $GID = 0
    $EGID = 0
    Win32::GetOSName = Win2012
    Win32::GetOSVersion = , 6, 2, 9200, 2, 0, 0, 400, 3
    Win32::FsType = NTFS
    Win32::IsAdminUser = 1

Perl module toolchain versions installed:

    Module              Have    
    ------------------- --------
    CPAN                1.9800  
    CPAN::Meta          2.150010
    Cwd                 3.40    
    ExtUtils::CBuilder  0.280206
    ExtUtils::Command   7.74    
    ExtUtils::Install   2.06    
    ExtUtils::MakeMaker 7.74    
    ExtUtils::Manifest  1.70    
    ExtUtils::ParseXS   3.57    
    File::Spec          3.40    
    JSON                4.10    
    JSON::PP            4.16    
    Module::Build       0.4234  
    Module::Signature   n/a     
    Parse::CPAN::Meta   2.150010
    Test2               1.302213
    Test::Harness       3.52    
    Test::More          1.302213
    YAML                1.31    
    YAML::Syck          1.23    
    version             0.9933  


--

Summary of my perl5 (revision 5 version 16 subversion 3) configuration:
   
  Platform:
    osname=MSWin32, osvers=4.0, archname=MSWin32-x64-multi-thread
    uname='Win32 strawberry-perl 5.16.3.1 #1 Tue Mar 12 12:12:07 2013 x64'
    config_args='undef'
    hint=recommended, useposix=true, d_sigaction=undef
    useithreads=define, usemultiplicity=define
    useperlio=define, d_sfio=undef, uselargefiles=define, usesocks=undef
    use64bitint=define, use64bitall=undef, uselongdouble=undef
    usemymalloc=n, bincompat5005=undef
  Compiler:
    cc='gcc', ccflags =' -s -O2 -DWIN32 -DWIN64 -DCONSERVATIVE  -DPERL_TEXTMODE_SCRIPTS -DPERL_IMPLICIT_CONTEXT -DPERL_IMPLICIT_SYS -fno-strict-aliasing -mms-bitfields',
    optimize='-s -O2',
    cppflags='-DWIN32'
    ccversion='', gccversion='4.6.3', gccosandvers=''
    intsize=4, longsize=4, ptrsize=8, doublesize=8, byteorder=12345678
    d_longlong=define, longlongsize=8, d_longdbl=define, longdblsize=12
    ivtype='long long', ivsize=8, nvtype='double', nvsize=8, Off_t='long long', lseeksize=8
    alignbytes=8, prototype=define
  Linker and Libraries:
    ld='g++', ldflags ='-s -L"C:\strawberry\perl\lib\CORE" -L"C:\strawberry\c\lib"'
    libpth=C:\strawberry\c\lib C:\strawberry\c\x86_64-w64-mingw32\lib
    libs=-lmoldname -lkernel32 -luser32 -lgdi32 -lwinspool -lcomdlg32 -ladvapi32 -lshell32 -lole32 -loleaut32 -lnetapi32 -luuid -lws2_32 -lmpr -lwinmm -lversion -lodbc32 -lodbccp32 -lcomctl32
    perllibs=-lmoldname -lkernel32 -luser32 -lgdi32 -lwinspool -lcomdlg32 -ladvapi32 -lshell32 -lole32 -loleaut32 -lnetapi32 -luuid -lws2_32 -lmpr -lwinmm -lversion -lodbc32 -lodbccp32 -lcomctl32
    libc=, so=dll, useshrplib=true, libperl=libperl516.a
    gnulibc_version=''
  Dynamic Linking:
    dlsrc=dl_win32.xs, dlext=dll, d_dlsymun=undef, ccdlflags=' '
    cccdlflags=' ', lddlflags='-mdll -s -L"C:\strawberry\perl\lib\CORE" -L"C:\strawberry\c\lib"'


Characteristics of this binary (from libperl): 
  Compile-time options: HAS_TIMES HAVE_INTERP_INTERN MULTIPLICITY
                        PERLIO_LAYERS PERL_DONT_CREATE_GVSV
                        PERL_IMPLICIT_CONTEXT PERL_IMPLICIT_SYS
                        PERL_MALLOC_WRAP PERL_PRESERVE_IVUV PL_OP_SLAB_ALLOC
                        USE_64_BIT_INT USE_ITHREADS USE_LARGE_FILES
                        USE_LOCALE USE_LOCALE_COLLATE USE_LOCALE_CTYPE
                        USE_LOCALE_NUMERIC USE_PERLIO USE_PERL_ATOF
  Built under MSWin32
  Compiled at Mar 12 2013 12:16:40
  %ENV:
    PERL5_CPANPLUS_IS_RUNNING="2668"
    PERL5_CPAN_IS_RUNNING="2668"
    PERL5_CPAN_IS_RUNNING_IN_RECURSION="7556,2668"
    PERL_CR_SMOKER_CURRENT="DateTime-Format-Intl-v0.1.8"
    PERL_EXTUTILS_AUTOINSTALL="--defaultdeps"
    PERL_MM_USE_DEFAULT="1"
  @INC:
    C:/strawberry/perl/site/lib
    C:/strawberry/perl/vendor/lib
    C:/strawberry/perl/lib
    .