Map-Tube v4.03 Perl 5 v5.24.0 x86_64-linux

Status
Pass
From
Slaven Rezić
Dist
Map-Tube v4.03
Platform
Perl 5 v5.24.0 x86_64-linux
Date
2025-03-28 18:08:09
ID
9aed86c6-0bff-11f0-a7ad-f10a6e8775ea
This distribution has been tested as part of the CPAN Testers
project, supporting the Perl programming language.  See
http://wiki.cpantesters.org/ for more information or email
questions to cpan-testers-discuss@perl.org


--
Dear Mohammad Sajid Anwar,

This is a computer-generated report for Map-Tube-4.03
on perl 5.24.0, created by CPAN-Reporter-1.2018.

Thank you for uploading your work to CPAN.  Congratulations!
All tests were successful.

Sections of this report:

    * Tester comments
    * Program output
    * Prerequisites
    * Environment and other context

------------------------------
TESTER COMMENTS
------------------------------

Additional comments from tester:

none provided

------------------------------
PROGRAM OUTPUT
------------------------------

Output from '/usr/bin/make test':

Skip blib/lib/auto/share/dist/Map-Tube/color-names.txt (unchanged)
PERL_DL_NONLAZY=1 "/opt/perl-5.24.0/bin/perl" "-MExtUtils::Command::MM" "-MTest::Harness" "-e" "undef *Test::Harness::Switches; test_harness(0, 'blib/lib', 'blib/arch')" t/*.t xt/*.t t/test-the-test/*.t
# Testing Map::Tube 4.03, Perl 5.024000, /opt/perl-5.24.0/bin/perl
t/00-load.t ....................................... ok
t/99-casetest.t ................................... ok
t/common-lines-map.t .............................. ok
t/invalid-role.t .................................. ok
t/line-stations.t ................................. skipped: Map::Tube::London 0.87 required.
t/map.t ........................................... ok
t/metachars.t ..................................... ok
t/not_ok_map.t .................................... ok
t/ok_map.t ........................................ ok
t/ok_map_forked.t ................................. ok
t/ok_map_functions.t .............................. ok
t/ok_map_routes.t ................................. ok
t/preferred-route.t ............................... skipped: Map::Tube::London 1.36 required for this test
t/test-the-test/01-map-loadable.t ................. ok
t/test-the-test/02-line-names-unique.t ............ ok
t/test-the-test/03-line-ids-unique.t .............. ok
t/test-the-test/04-station-names-different.t ...... skipped: This test requires the Text::Levenshtein::XS module to be installed
t/test-the-test/05-station-names-prefix.t ......... ok
t/test-the-test/06-lines-used.t ................... ok
t/test-the-test/07-stations-linked-share-lines.t .. ok
t/test-the-test/08-lines-bidirectional.t .......... ok
t/test-the-test/09-lines-indexed.t ................ ok
t/test-the-test/10-lines-run-through.t ............ ok
t/test-the-test/11-map-connected.t ................ ok
t/test-the-test/12-station_ids.t .................. ok
t/test-the-test/13-stations_linked.t .............. ok
t/test-the-test/14-line-definitions.t ............. ok
t/test-the-test/15-station-self-linked.t .......... ok
t/test-the-test/16-station-multilinked.t .......... ok
t/test-the-test/17-station-multilined.t ........... ok
t/test-the-test/30-ok-map-data.t .................. ok
t/test-the-test/31-ok-map.t ....................... ok
t/test-the-test/32-ok-map-data-json.t ............. ok
t/test-the-test/33-not-ok-map.t ................... ok
t/unidirection-map.t .............................. ok
xt/changes.t ...................................... ok
xt/manifest.t ..................................... ok
xt/meta-json.t .................................... ok
xt/meta-yml.t ..................................... ok
xt/pod.t .......................................... ok
xt/version.t ...................................... skipped: these tests are for authors only!
All tests successful.
Files=41, Tests=218, 10 wallclock secs ( 0.07 usr  0.06 sys +  7.63 cusr  1.15 csys =  8.91 CPU)
Result: PASS

------------------------------
PREREQUISITES
------------------------------

Prerequisite modules loaded:

requires:

    Module                       Need     Have    
    ---------------------------- -------- --------
    Data::Compare                1.25     1.25    
    File::Basename               2.6      2.85    
    File::ShareDir               1.114    1.118   
    JSON                         2.90     2.90    
    Map::Tube::Exception         3.24     3.24    
    Map::Tube::Plugin::Formatter 0.16     0.17    
    Module::Pluggable            5.1      5.2     
    Moo                          2.000000 2.002004
    Moo::Role                    2.000000 2.002004
    MooX::Options                4.023    4.023   
    namespace::autoclean         0.28     0.28    
    overload                     0        1.26    
    perl                         5.006    5.024000
    Role::Tiny                   2.000000 2.000003
    Taint::Util                  0.08     0.08    
    Throwable                    0        0.200013
    Type::Tiny                   1.000005 1.000005
    XML::Parser                  2.23     2.44    
    XML::Twig                    3.48     3.49    

build_requires:

    Module                       Need     Have    
    ---------------------------- -------- --------
    Graph                        0        0.9704  
    Test::Exception              0        0.43    
    Test::Lib                    0        0.002   
    Test::More                   1.001014 1.302052

configure_requires:

    Module                       Need     Have    
    ---------------------------- -------- --------
    ExtUtils::MakeMaker          0        7.24    
    File::ShareDir::Install      0.13     0.14    


------------------------------
ENVIRONMENT AND OTHER CONTEXT
------------------------------

Environment variables:

    LANG = en_US.UTF-8
    LANGUAGE = en_US:en
    LC_ALL = en_US.UTF-8
    PATH = /usr/local/bin:/usr/bin:/bin:/usr/local/sbin:/usr/sbin:/sbin:/home/cpansand/bin/linux-gnu:/home/cpansand/bin/sh:/home/cpansand/bin:/usr/games:/home/cpansand/devel:/home/eserte/src/srezic-misc/scripts
    PERL5LIB = /home/cpansand/.cpan/build/2025032819/Taint-Util-0.08-0/blib/arch:/home/cpansand/.cpan/build/2025032819/Taint-Util-0.08-0/blib/lib:/home/cpansand/.cpan/build/2025032819/Map-Tube-Plugin-Formatter-0.17-0/blib/arch:/home/cpansand/.cpan/build/2025032819/Map-Tube-Plugin-Formatter-0.17-0/blib/lib:/home/cpansand/.cpan/build/2025032819/Map-Tube-Exception-3.24-0/blib/arch:/home/cpansand/.cpan/build/2025032819/Map-Tube-Exception-3.24-0/blib/lib:/home/cpansand/.cpan/build/2025032819/File-ShareDir-1.118-0/blib/arch:/home/cpansand/.cpan/build/2025032819/File-ShareDir-1.118-0/blib/lib:/home/cpansand/.cpan/build/2025032819/File-ShareDir-Install-0.14-0/blib/arch:/home/cpansand/.cpan/build/2025032819/File-ShareDir-Install-0.14-0/blib/lib
    PERL5OPT = 
    PERL5_CPANPLUS_IS_RUNNING = 25603
    PERL5_CPAN_IS_RUNNING = 25603
    PERL5_CPAN_IS_RUNNING_IN_RECURSION = 21305,25603
    PERLDOC = -MPod::Perldoc::ToTextOverstrike
    PERL_BATCH = yes
    PERL_CANARY_STABILITY_NOPROMPT = 1
    PERL_CPAN_REPORTER_CONFIG = /var/tmp/cpansmoker-1023/2025032519/cpanreporter_000_config.ini
    PERL_EXTUTILS_AUTOINSTALL = --defaultdeps
    PERL_USE_UNSAFE_INC = 1
    SHELL = /bin/zsh
    TERM = screen
    TMPDIR = /var/tmp/cpansmoker-1023/2025032519

Perl special variables (and OS-specific diagnostics, for MSWin32):

    $^X = /opt/perl-5.24.0/bin/perl
    $UID/$EUID = 1023 / 1023
    $GID = 1023 1023
    $EGID = 1023 1023

Perl module toolchain versions installed:

    Module              Have    
    ------------------- --------
    CPAN                2.28    
    CPAN::Meta          2.150010
    Cwd                 3.63    
    ExtUtils::CBuilder  0.280225
    ExtUtils::Command   7.24    
    ExtUtils::Install   2.04    
    ExtUtils::MakeMaker 7.24    
    ExtUtils::Manifest  1.70    
    ExtUtils::ParseXS   3.31    
    File::Spec          3.63    
    JSON                2.90    
    JSON::PP            2.27300 
    Module::Build       0.4220  
    Module::Signature   0.80    
    Parse::CPAN::Meta   2.150010
    Test::Harness       3.36    
    Test::More          1.302052
    YAML                1.17    
    YAML::Syck          1.29    
    version             0.9916  


--

Summary of my perl5 (revision 5 version 24 subversion 0) configuration:
   
  Platform:
    osname=linux, osvers=3.2.0-4-amd64, archname=x86_64-linux
    uname='linux cvrsnica-wheezy 3.2.0-4-amd64 #1 smp debian 3.2.54-2 x86_64 gnulinux '
    config_args='-ds -e -Dprefix=/opt/perl-5.24.0 -Dcf_email=srezic@cpan.org'
    hint=recommended, useposix=true, d_sigaction=define
    useithreads=undef, usemultiplicity=undef
    use64bitint=define, use64bitall=define, uselongdouble=undef
    usemymalloc=n, bincompat5005=undef
  Compiler:
    cc='cc', ccflags ='-fwrapv -fno-strict-aliasing -pipe -fstack-protector -I/usr/local/include -D_LARGEFILE_SOURCE -D_FILE_OFFSET_BITS=64 -D_FORTIFY_SOURCE=2',
    optimize='-O2',
    cppflags='-fwrapv -fno-strict-aliasing -pipe -fstack-protector -I/usr/local/include'
    ccversion='', gccversion='4.7.2', gccosandvers=''
    intsize=4, longsize=8, ptrsize=8, doublesize=8, byteorder=12345678, doublekind=3
    d_longlong=define, longlongsize=8, d_longdbl=define, longdblsize=16, longdblkind=3
    ivtype='long', ivsize=8, nvtype='double', nvsize=8, Off_t='off_t', lseeksize=8
    alignbytes=8, prototype=define
  Linker and Libraries:
    ld='cc', ldflags =' -fstack-protector -L/usr/local/lib'
    libpth=/usr/local/lib /usr/lib/gcc/x86_64-linux-gnu/4.7/include-fixed /usr/include/x86_64-linux-gnu /usr/lib /lib/x86_64-linux-gnu /lib/../lib /usr/lib/x86_64-linux-gnu /usr/lib/../lib /lib
    libs=-lpthread -lnsl -ldb -ldl -lm -lcrypt -lutil -lc
    perllibs=-lpthread -lnsl -ldl -lm -lcrypt -lutil -lc
    libc=libc-2.13.so, so=so, useshrplib=false, libperl=libperl.a
    gnulibc_version='2.13'
  Dynamic Linking:
    dlsrc=dl_dlopen.xs, dlext=so, d_dlsymun=undef, ccdlflags='-Wl,-E'
    cccdlflags='-fPIC', lddlflags='-shared -O2 -L/usr/local/lib -fstack-protector'


Characteristics of this binary (from libperl): 
  Compile-time options: HAS_TIMES PERLIO_LAYERS PERL_COPY_ON_WRITE
                        PERL_DONT_CREATE_GVSV
                        PERL_HASH_FUNC_ONE_AT_A_TIME_HARD PERL_MALLOC_WRAP
                        PERL_PRESERVE_IVUV USE_64_BIT_ALL USE_64_BIT_INT
                        USE_LARGE_FILES USE_LOCALE USE_LOCALE_COLLATE
                        USE_LOCALE_CTYPE USE_LOCALE_NUMERIC USE_LOCALE_TIME
                        USE_PERLIO USE_PERL_ATOF
  Built under linux
  Compiled at May 30 2016 08:43:25
  %ENV:
    PERL5LIB="/home/cpansand/.cpan/build/2025032819/Taint-Util-0.08-0/blib/arch:/home/cpansand/.cpan/build/2025032819/Taint-Util-0.08-0/blib/lib:/home/cpansand/.cpan/build/2025032819/Map-Tube-Plugin-Formatter-0.17-0/blib/arch:/home/cpansand/.cpan/build/2025032819/Map-Tube-Plugin-Formatter-0.17-0/blib/lib:/home/cpansand/.cpan/build/2025032819/Map-Tube-Exception-3.24-0/blib/arch:/home/cpansand/.cpan/build/2025032819/Map-Tube-Exception-3.24-0/blib/lib:/home/cpansand/.cpan/build/2025032819/File-ShareDir-1.118-0/blib/arch:/home/cpansand/.cpan/build/2025032819/File-ShareDir-1.118-0/blib/lib:/home/cpansand/.cpan/build/2025032819/File-ShareDir-Install-0.14-0/blib/arch:/home/cpansand/.cpan/build/2025032819/File-ShareDir-Install-0.14-0/blib/lib"
    PERL5OPT=""
    PERL5_CPANPLUS_IS_RUNNING="25603"
    PERL5_CPAN_IS_RUNNING="25603"
    PERL5_CPAN_IS_RUNNING_IN_RECURSION="21305,25603"
    PERLDOC="-MPod::Perldoc::ToTextOverstrike"
    PERL_BATCH="yes"
    PERL_CANARY_STABILITY_NOPROMPT="1"
    PERL_CPAN_REPORTER_CONFIG="/var/tmp/cpansmoker-1023/2025032519/cpanreporter_000_config.ini"
    PERL_EXTUTILS_AUTOINSTALL="--defaultdeps"
    PERL_USE_UNSAFE_INC="1"
  @INC:
    /home/cpansand/.cpan/build/2025032819/Taint-Util-0.08-0/blib/arch
    /home/cpansand/.cpan/build/2025032819/Taint-Util-0.08-0/blib/lib
    /home/cpansand/.cpan/build/2025032819/Map-Tube-Plugin-Formatter-0.17-0/blib/arch
    /home/cpansand/.cpan/build/2025032819/Map-Tube-Plugin-Formatter-0.17-0/blib/lib
    /home/cpansand/.cpan/build/2025032819/Map-Tube-Exception-3.24-0/blib/arch
    /home/cpansand/.cpan/build/2025032819/Map-Tube-Exception-3.24-0/blib/lib
    /home/cpansand/.cpan/build/2025032819/File-ShareDir-1.118-0/blib/arch
    /home/cpansand/.cpan/build/2025032819/File-ShareDir-1.118-0/blib/lib
    /home/cpansand/.cpan/build/2025032819/File-ShareDir-Install-0.14-0/blib/arch
    /home/cpansand/.cpan/build/2025032819/File-ShareDir-Install-0.14-0/blib/lib
    /opt/perl-5.24.0/lib/site_perl/5.24.0/x86_64-linux
    /opt/perl-5.24.0/lib/site_perl/5.24.0
    /opt/perl-5.24.0/lib/5.24.0/x86_64-linux
    /opt/perl-5.24.0/lib/5.24.0
    .