Bot-IRC v1.40 Perl 5 v5.24.2 x86_64-linux

Status
Pass
From
Andreas J. K├Ânig (ANDK)
Dist
Bot-IRC v1.40
Platform
Perl 5 v5.24.2 x86_64-linux
Date
2023-10-03T12:15:56
ID
9ac82b98-61e6-11ee-86e0-b468a1f0d71b
This distribution has been tested as part of the CPAN Testers
project, supporting the Perl programming language.  See
http://wiki.cpantesters.org/ for more information or email
questions to cpan-testers-discuss@perl.org


--
Dear Gryphon Shafer,

This is a computer-generated report for Bot-IRC-1.40
on perl 5.24.2, created by CPAN-Reporter-1.2018.

Thank you for uploading your work to CPAN.  Congratulations!
All tests were successful.

Sections of this report:

    * Tester comments
    * Program output
    * Prerequisites
    * Environment and other context

------------------------------
TESTER COMMENTS
------------------------------

Additional comments from tester:

this report is from an automated smoke testing program
and was not reviewed by a human for accuracy

------------------------------
PROGRAM OUTPUT
------------------------------

Output from '/usr/bin/make test':

PERL_DL_NONLAZY=1 "/home/sand/src/perl/repoperls/installed-perls/host/k93msid/v5.24.2/da1c/bin/perl" "-MExtUtils::Command::MM" "-MTest::Harness" "-e" "undef *Test::Harness::Switches; test_harness(0, 'blib/lib', 'blib/arch')" t/*.t
t/00-compile.t ........... ok
t/author-eol.t ........... skipped: these tests are for testing by the author
t/author-no-tabs.t ....... skipped: these tests are for testing by the author
t/author-pod-coverage.t .. skipped: these tests are for testing by the author
t/author-pod-syntax.t .... skipped: these tests are for testing by the author
t/author-portability.t ... skipped: these tests are for testing by the author
t/author-synopsis.t ...... skipped: these tests are for testing by the author
t/bot-irc-api.t .......... ok
t/bot-irc-run.t .......... ok
t/convert.t .............. ok
t/functions.t ............ ok
t/greeting.t ............. ok
t/history.t .............. ok
t/infobot.t .............. ok
t/join.t ................. ok
t/karma.t ................ ok
t/math.t ................. ok
t/ping.t ................. ok
t/release-kwalitee.t ..... skipped: these tests are for release candidate testing
t/seen.t ................. ok
t/store-sqlite.t ......... ok
t/store.t ................ ok
All tests successful.
Files=22, Tests=70, 13 wallclock secs ( 0.05 usr  0.04 sys +  4.54 cusr  1.28 csys =  5.91 CPU)
Result: PASS

------------------------------
PREREQUISITES
------------------------------

Prerequisite modules loaded:

requires:

    Module                            Need  Have    
    --------------------------------- ----- --------
    Daemon::Device                    0     1.10    
    Date::Format                      0     2.24    
    Date::Parse                       0     2.33    
    DateTime                          0     1.59    
    DateTime::Format::Human::Duration 0     0.64    
    DBD::SQLite                       0     1.70    
    DBI                               0     1.643   
    Email::Mailer                     0     1.19    
    Email::Valid                      0     1.202   
    Encode                            0     3.19    
    Encode::Detect::Detector          0     1.01    
    exact                             1.14  1.18    
    exact::class                      1.10  1.16    
    File::Grep                        0     0.02    
    IO::Socket::IP                    0     0.42    
    IO::Socket::SSL                   0     2.077   
    JSON::XS                          0     4.03    
    Math::Expression                  0     1.48    
    Math::Units                       0     1.3     
    perl                              5.014 5.024002
    strict                            0     1.11    
    Time::Crontab                     0     0.04    
    warnings                          0     1.36    
    YAML::XS                          0     0.85    

build_requires:

    Module                            Need  Have    
    --------------------------------- ----- --------
    exact::class                      1.10  1.16    
    ExtUtils::MakeMaker               0     7.70    
    File::Spec                        0     3.75    
    IO::Handle                        0     1.48    
    IPC::Open3                        0     1.20    
    Test2::Mock                       0     0.000155
    Test2::V0                         0     0.000155
    Test::Lib                         0     0.003   
    Test::More                        0     1.302195
    Test::Output                      0     1.033   

configure_requires:

    Module                            Need  Have    
    --------------------------------- ----- --------
    ExtUtils::MakeMaker               0     7.70    
    perl                              5.014 5.024002


------------------------------
ENVIRONMENT AND OTHER CONTEXT
------------------------------

Environment variables:

    AUTOMATED_TESTING = 1
    LANG = en_US.UTF-8
    LANGUAGE = en_US:en
    PATH = /home/sand/bin:/usr/local/bin:/usr/bin:/bin:/usr/games:/usr/local/perl/bin:/usr/X11/bin:/sbin:/usr/sbin
    PERL5LIB = 
    PERL5OPT = 
    PERL5_CPANPLUS_IS_RUNNING = 3450329
    PERL5_CPAN_IS_RUNNING = 3450329
    PERL_CANARY_STABILITY_NOPROMPT = 1
    PERL_MM_USE_DEFAULT = 1
    PERL_USE_UNSAFE_INC = 1
    SHELL = /usr/bin/zsh
    TERM = screen

Perl special variables (and OS-specific diagnostics, for MSWin32):

    $^X = /home/sand/src/perl/repoperls/installed-perls/host/k93msid/v5.24.2/da1c/bin/perl
    $UID/$EUID = 1005 / 1005
    $GID = 1005 1005
    $EGID = 1005 1005

Perl module toolchain versions installed:

    Module              Have    
    ------------------- --------
    CPAN                2.34    
    CPAN::Meta          2.150010
    Cwd                 3.75    
    ExtUtils::CBuilder  0.280236
    ExtUtils::Command   7.70    
    ExtUtils::Install   2.20    
    ExtUtils::MakeMaker 7.70    
    ExtUtils::Manifest  1.70    
    ExtUtils::ParseXS   3.44    
    File::Spec          3.75    
    JSON                4.10    
    JSON::PP            4.12    
    Module::Build       0.42_35 
    Module::Signature   0.88    
    Parse::CPAN::Meta   2.150010
    Test::Harness       3.44    
    Test::More          1.302195
    YAML                1.30    
    YAML::Syck          1.34    
    version             0.9929  


--

Summary of my perl5 (revision 5 version 24 subversion 2) configuration:
  Derived from: eb3b805818a89c08b5564d383beddf70f69af1a3
  Platform:
    osname=linux, osvers=5.16.0-5-amd64, archname=x86_64-linux
    uname='linux k93msid 5.16.0-5-amd64 #1 smp preempt debian 5.16.14-1 (2022-03-15) x86_64 gnulinux '
    config_args='-Dprefix=/home/sand/src/perl/repoperls/installed-perls/host/k93msid/v5.24.2/da1c -Dmyhostname=k93msid -Dinstallusrbinperl=n -Uversiononly -Dusedevel -des -Ui_db -Dlibswanted=cl pthread socket inet nsl gdbm dbm malloc dl ld sun m crypt sec util c cposix posix ucb BSD gdbm_compat -Uuseithreads -Uuselongdouble -DEBUGGING=-g'
    hint=recommended, useposix=true, d_sigaction=define
    useithreads=undef, usemultiplicity=undef
    use64bitint=define, use64bitall=define, uselongdouble=undef
    usemymalloc=n, bincompat5005=undef
  Compiler:
    cc='cc', ccflags ='-fwrapv -fno-strict-aliasing -pipe -fstack-protector-strong -I/usr/local/include -D_LARGEFILE_SOURCE -D_FILE_OFFSET_BITS=64 -D_FORTIFY_SOURCE=2',
    optimize='-O2 -g',
    cppflags='-fwrapv -fno-strict-aliasing -pipe -fstack-protector-strong -I/usr/local/include'
    ccversion='', gccversion='11.2.0', gccosandvers=''
    intsize=4, longsize=8, ptrsize=8, doublesize=8, byteorder=12345678, doublekind=3
    d_longlong=define, longlongsize=8, d_longdbl=define, longdblsize=16, longdblkind=3
    ivtype='long', ivsize=8, nvtype='double', nvsize=8, Off_t='off_t', lseeksize=8
    alignbytes=8, prototype=define
  Linker and Libraries:
    ld='cc', ldflags =' -fstack-protector-strong -L/usr/local/lib'
    libpth=/usr/local/lib /usr/include/x86_64-linux-gnu /usr/lib /lib/x86_64-linux-gnu /lib/../lib /usr/lib/x86_64-linux-gnu /usr/lib/../lib /lib
    libs=-lpthread -lnsl -ldl -lm -lcrypt -lutil -lc
    perllibs=-lpthread -lnsl -ldl -lm -lcrypt -lutil -lc
    libc=libc-2.33.so, so=so, useshrplib=false, libperl=libperl.a
    gnulibc_version='2.33'
  Dynamic Linking:
    dlsrc=dl_dlopen.xs, dlext=so, d_dlsymun=undef, ccdlflags='-Wl,-E'
    cccdlflags='-fPIC', lddlflags='-shared -O2 -g -L/usr/local/lib -fstack-protector-strong'


Characteristics of this binary (from libperl): 
  Compile-time options: HAS_TIMES PERLIO_LAYERS PERL_COPY_ON_WRITE
                        PERL_DONT_CREATE_GVSV
                        PERL_HASH_FUNC_ONE_AT_A_TIME_HARD PERL_MALLOC_WRAP
                        PERL_PRESERVE_IVUV PERL_USE_DEVEL USE_64_BIT_ALL
                        USE_64_BIT_INT USE_LARGE_FILES USE_LOCALE
                        USE_LOCALE_COLLATE USE_LOCALE_CTYPE
                        USE_LOCALE_NUMERIC USE_LOCALE_TIME USE_PERLIO
                        USE_PERL_ATOF
  Locally applied patches:
	uncommitted-changes
  Built under linux
  Compiled at Mar 19 2022 21:05:34
  %ENV:
    PERL5LIB=""
    PERL5OPT=""
    PERL5_CPANPLUS_IS_RUNNING="3450329"
    PERL5_CPAN_IS_RUNNING="3450329"
    PERL_CANARY_STABILITY_NOPROMPT="1"
    PERL_MM_USE_DEFAULT="1"
    PERL_USE_UNSAFE_INC="1"
  @INC:
    /home/sand/src/perl/repoperls/installed-perls/host/k93msid/v5.24.2/da1c/lib/site_perl/5.24.2/x86_64-linux
    /home/sand/src/perl/repoperls/installed-perls/host/k93msid/v5.24.2/da1c/lib/site_perl/5.24.2
    /home/sand/src/perl/repoperls/installed-perls/host/k93msid/v5.24.2/da1c/lib/5.24.2/x86_64-linux
    /home/sand/src/perl/repoperls/installed-perls/host/k93msid/v5.24.2/da1c/lib/5.24.2
    .