Mo v0.40 Perl 5 v5.27.9 x86_64-linux-multi

Status
Pass
From
Nigel Horne
Dist
Mo v0.40
Platform
Perl 5 v5.27.9 x86_64-linux-multi
Date
2018-05-10 07:49:01
ID
9a8c7c8e-5426-11e8-abdf-cbfdacc42408
This distribution has been tested as part of the CPAN Testers
project, supporting the Perl programming language.  See
http://wiki.cpantesters.org/ for more information or email
questions to cpan-testers-discuss@perl.org


--
Dear Tina Muller,

This is a computer-generated report for Mo-0.40
on perl 5.27.9, created by CPAN-Reporter-1.2018.

Thank you for uploading your work to CPAN.  Congratulations!
All tests were successful.

Sections of this report:

    * Tester comments
    * Program output
    * Prerequisites
    * Environment and other context

------------------------------
TESTER COMMENTS
------------------------------

Additional comments from tester:

this report is from an automated smoke testing program
and was not reviewed by a human for accuracy

------------------------------
PROGRAM OUTPUT
------------------------------

Output from '/usr/bin/make test':

PERL_DL_NONLAZY=1 "/home/njh/perl5/perlbrew/perls/perl-5.27.9-multi/bin/perl5.27.9" "-MExtUtils::Command::MM" "-MTest::Harness" "-e" "undef *Test::Harness::Switches; test_harness(0, 'blib/lib', 'blib/arch')" t/*.t
t/author-00-compile.t ......... skipped: these tests are for testing by the author
t/author-pod-spell.t .......... skipped: these tests are for testing by the author
t/author-pod-syntax.t ......... skipped: these tests are for testing by the author
# 
# 
# Generated by Dist::Zilla::Plugin::ReportVersions::Tiny v1.12
# perl: 5.027009 (wanted v5.6.0) on linux from /home/njh/perl5/perlbrew/perls/perl-5.27.9-multi/bin/perl5.27.9
# 
# Class::XSAccessor                             => 1.19       (want any version)
# ExtUtils::MakeMaker                           => 7.34       (want any version)
# IO::All                                       => module not found. (want any version)
# Moose                                         => 2.2010     (want any version)
# Mouse                                         => module not found. (want any version)
# Test::More                                    => 1.302136   (want 0.96)   
# 
# Thanks for using my code.  I hope it works for you.
# If not, please try and include this output in the bug report.
# That will help me reproduce the issue and solve your problem.
# 
t/author-test-version.t ....... skipped: these tests are for testing by the author
t/build.t ..................... ok
t/000-report-versions-tiny.t .. ok
t/builder.t ................... ok
t/chain.t ..................... ok
t/combined.t .................. ok
t/coerce.t .................... ok
t/default.t ................... ok
t/extends.t ................... ok
t/importer.t .................. ok
t/is.t ........................ ok
t/main_sub.t .................. ok
t/Mouse.t ..................... skipped: Mouse is needed
t/lazy-nonlazy.t .............. ok
t/object.t .................... ok
t/option.t .................... ok
t/release-distmeta.t .......... skipped: these tests are for release candidate testing
t/release-eol.t ............... skipped: these tests are for release candidate testing
t/release-correct-version.t ... skipped: these tests are for release candidate testing
t/Moose.t ..................... ok
t/release-no-tabs.t ........... skipped: these tests are for release candidate testing
t/required.t .................. ok
t/test.t ...................... ok
t/xs.t ........................ ok
t/strict.t .................... ok
All tests successful.
Files=28, Tests=153,  1 wallclock secs ( 0.07 usr  0.03 sys +  1.78 cusr  0.34 csys =  2.22 CPU)
Result: PASS

------------------------------
PREREQUISITES
------------------------------

Prerequisite modules loaded:

requires:

    Module              Need     Have    
    ------------------- -------- --------
    perl                5.006000 5.027009

build_requires:

    Module              Need     Have    
    ------------------- -------- --------
    ExtUtils::MakeMaker 0        7.34    
    Test::More          0.96     1.302136

configure_requires:

    Module              Need     Have    
    ------------------- -------- --------
    ExtUtils::MakeMaker 0        7.34    


------------------------------
ENVIRONMENT AND OTHER CONTEXT
------------------------------

Environment variables:

    AUTOMATED_TESTING = 1
    HARNESS_OPTIONS = j4
    LANG = en_GB.UTF-8
    LANGUAGE = en_GB:en
    PATH = /home/njh/perl5/perlbrew/bin:/home/njh/perl5/perlbrew/perls/perl-5.27.9-multi/bin:src/njh/smoker/bin:/usr/bin:/bin
    PERL5LIB = /home/njh/.cpan/build/Log-ger-0.023-8/blib/arch:/home/njh/.cpan/build/Log-ger-0.023-8/blib/lib:/home/njh/.cpan/build/Config-IOD-Reader-0.340-6/blib/arch:/home/njh/.cpan/build/Config-IOD-Reader-0.340-6/blib/lib:/home/njh/.cpan/build/IOD-Examples-0.201-6/blib/arch:/home/njh/.cpan/build/IOD-Examples-0.201-6/blib/lib:/home/njh/.cpan/build/File-ShareDir-Tarball-0.2.2-7/blib/arch:/home/njh/.cpan/build/File-ShareDir-Tarball-0.2.2-7/blib/lib:/home/njh/.cpan/build/Test-File-ShareDir-1.001002-15/blib/arch:/home/njh/.cpan/build/Test-File-ShareDir-1.001002-15/blib/lib
    PERL5OPT = 
    PERL5_CPANPLUS_IS_RUNNING = 15934
    PERL5_CPAN_IS_RUNNING = 15934
    PERLBREW_HOME = /home/njh/.perlbrew
    PERLBREW_MANPATH = /home/njh/perl5/perlbrew/perls/perl-5.27.9-multi/man
    PERLBREW_PATH = /home/njh/perl5/perlbrew/bin:/home/njh/perl5/perlbrew/perls/perl-5.27.9-multi/bin
    PERLBREW_PERL = perl-5.27.9-multi
    PERLBREW_ROOT = /home/njh/perl5/perlbrew
    PERLBREW_SHELLRC_VERSION = 0.82
    PERLBREW_VERSION = 0.82
    PERL_USE_UNSAFE_INC = 1
    SHELL = /bin/sh
    TMPDIR = /tmp/testwrapper.15924

Perl special variables (and OS-specific diagnostics, for MSWin32):

    $^X = /home/njh/perl5/perlbrew/perls/perl-5.27.9-multi/bin/perl5.27.9
    $UID/$EUID = 1000 / 1000
    $GID = 1000 4 24 25 29 30 44 46 108 112 1000
    $EGID = 1000 4 24 25 29 30 44 46 108 112 1000

Perl module toolchain versions installed:

    Module              Have    
    ------------------- --------
    CPAN                2.20    
    CPAN::Meta          2.150010
    Cwd                 3.74    
    ExtUtils::CBuilder  0.280230
    ExtUtils::Command   7.34    
    ExtUtils::Install   2.14    
    ExtUtils::MakeMaker 7.34    
    ExtUtils::Manifest  1.70    
    ExtUtils::ParseXS   3.38    
    File::Spec          3.74    
    JSON                2.97001 
    JSON::PP            2.97001 
    Module::Build       0.4224  
    Module::Signature   n/a     
    Parse::CPAN::Meta   2.150010
    Test::Harness       3.39    
    Test::More          1.302136
    YAML                1.24    
    YAML::Syck          1.30    
    version             0.9918  


--

Summary of my perl5 (revision 5 version 27 subversion 9) configuration:
   
  Platform:
    osname=linux
    osvers=4.14.0-3-amd64
    archname=x86_64-linux-multi
    uname='linux gateway 4.14.0-3-amd64 #1 smp debian 4.14.17-1 (2018-02-14) x86_64 gnulinux '
    config_args='-de -Dprefix=/home/njh/perl5/perlbrew/perls/perl-5.27.9-multi -Dusedevel -Dusemultiplicity -Dusedevel -Accflags= -Aeval:scriptdir=/home/njh/perl5/perlbrew/perls/perl-5.27.9-multi/bin'
    hint=recommended
    useposix=true
    d_sigaction=define
    useithreads=undef
    usemultiplicity=define
    use64bitint=define
    use64bitall=define
    uselongdouble=undef
    usemymalloc=n
    default_inc_excludes_dot=define
    bincompat5005=undef
  Compiler:
    cc='cc'
    ccflags ='-fwrapv -fno-strict-aliasing -pipe -fstack-protector-strong -I/usr/local/include -D_LARGEFILE_SOURCE -D_FILE_OFFSET_BITS=64 -D_FORTIFY_SOURCE=2'
    optimize='-O2'
    cppflags='-fwrapv -fno-strict-aliasing -pipe -fstack-protector-strong -I/usr/local/include'
    ccversion=''
    gccversion='7.3.0'
    gccosandvers=''
    intsize=4
    longsize=8
    ptrsize=8
    doublesize=8
    byteorder=12345678
    doublekind=3
    d_longlong=define
    longlongsize=8
    d_longdbl=define
    longdblsize=16
    longdblkind=3
    ivtype='long'
    ivsize=8
    nvtype='double'
    nvsize=8
    Off_t='off_t'
    lseeksize=8
    alignbytes=8
    prototype=define
  Linker and Libraries:
    ld='cc'
    ldflags =' -fstack-protector-strong -L/usr/local/lib'
    libpth=/usr/local/lib /usr/lib/gcc/x86_64-linux-gnu/7/include-fixed /usr/include/x86_64-linux-gnu /usr/lib /lib/x86_64-linux-gnu /lib/../lib /usr/lib/x86_64-linux-gnu /usr/lib/../lib /lib
    libs=-lpthread -lnsl -lgdbm -ldb -ldl -lm -lcrypt -lutil -lc
    perllibs=-lpthread -lnsl -ldl -lm -lcrypt -lutil -lc
    libc=libc-2.27.so
    so=so
    useshrplib=false
    libperl=libperl.a
    gnulibc_version='2.27'
  Dynamic Linking:
    dlsrc=dl_dlopen.xs
    dlext=so
    d_dlsymun=undef
    ccdlflags='-Wl,-E'
    cccdlflags='-fPIC'
    lddlflags='-shared -O2 -L/usr/local/lib -fstack-protector-strong'


Characteristics of this binary (from libperl): 
  Compile-time options:
    HAS_TIMES
    MULTIPLICITY
    PERLIO_LAYERS
    PERL_COPY_ON_WRITE
    PERL_DONT_CREATE_GVSV
    PERL_IMPLICIT_CONTEXT
    PERL_MALLOC_WRAP
    PERL_OP_PARENT
    PERL_PRESERVE_IVUV
    PERL_USE_DEVEL
    USE_64_BIT_ALL
    USE_64_BIT_INT
    USE_LARGE_FILES
    USE_LOCALE
    USE_LOCALE_COLLATE
    USE_LOCALE_CTYPE
    USE_LOCALE_NUMERIC
    USE_LOCALE_TIME
    USE_PERLIO
    USE_PERL_ATOF
  Locally applied patches:
    Devel::PatchPerl 1.48
  Built under linux
  Compiled at Apr  2 2018 00:36:41
  %ENV:
    PERL5LIB="/home/njh/.cpan/build/Log-ger-0.023-8/blib/arch:/home/njh/.cpan/build/Log-ger-0.023-8/blib/lib:/home/njh/.cpan/build/Config-IOD-Reader-0.340-6/blib/arch:/home/njh/.cpan/build/Config-IOD-Reader-0.340-6/blib/lib:/home/njh/.cpan/build/IOD-Examples-0.201-6/blib/arch:/home/njh/.cpan/build/IOD-Examples-0.201-6/blib/lib:/home/njh/.cpan/build/File-ShareDir-Tarball-0.2.2-7/blib/arch:/home/njh/.cpan/build/File-ShareDir-Tarball-0.2.2-7/blib/lib:/home/njh/.cpan/build/Test-File-ShareDir-1.001002-15/blib/arch:/home/njh/.cpan/build/Test-File-ShareDir-1.001002-15/blib/lib"
    PERL5OPT=""
    PERL5_CPANPLUS_IS_RUNNING="15934"
    PERL5_CPAN_IS_RUNNING="15934"
    PERLBREW_HOME="/home/njh/.perlbrew"
    PERLBREW_MANPATH="/home/njh/perl5/perlbrew/perls/perl-5.27.9-multi/man"
    PERLBREW_PATH="/home/njh/perl5/perlbrew/bin:/home/njh/perl5/perlbrew/perls/perl-5.27.9-multi/bin"
    PERLBREW_PERL="perl-5.27.9-multi"
    PERLBREW_ROOT="/home/njh/perl5/perlbrew"
    PERLBREW_SHELLRC_VERSION="0.82"
    PERLBREW_VERSION="0.82"
    PERL_USE_UNSAFE_INC="1"
  @INC:
    /home/njh/.cpan/build/Log-ger-0.023-8/blib/arch
    /home/njh/.cpan/build/Log-ger-0.023-8/blib/lib
    /home/njh/.cpan/build/Config-IOD-Reader-0.340-6/blib/arch
    /home/njh/.cpan/build/Config-IOD-Reader-0.340-6/blib/lib
    /home/njh/.cpan/build/IOD-Examples-0.201-6/blib/arch
    /home/njh/.cpan/build/IOD-Examples-0.201-6/blib/lib
    /home/njh/.cpan/build/File-ShareDir-Tarball-0.2.2-7/blib/arch
    /home/njh/.cpan/build/File-ShareDir-Tarball-0.2.2-7/blib/lib
    /home/njh/.cpan/build/Test-File-ShareDir-1.001002-15/blib/arch
    /home/njh/.cpan/build/Test-File-ShareDir-1.001002-15/blib/lib
    /home/njh/perl5/perlbrew/perls/perl-5.27.9-multi/lib/site_perl/5.27.9/x86_64-linux-multi
    /home/njh/perl5/perlbrew/perls/perl-5.27.9-multi/lib/site_perl/5.27.9
    /home/njh/perl5/perlbrew/perls/perl-5.27.9-multi/lib/5.27.9/x86_64-linux-multi
    /home/njh/perl5/perlbrew/perls/perl-5.27.9-multi/lib/5.27.9
    .