Map-Tube v4.03 Perl 5 v5.41.9 x86_64-linux
- Status
- Pass
- From
- Slaven Rezić
- Dist
-
Map-Tube v4.03
- Platform
- Perl 5 v5.41.9 x86_64-linux
- Date
- 2025-03-28 00:14:22
- ID
- 996d1276-0b69-11f0-bc15-3eff6d8775ea
This distribution has been tested as part of the CPAN Testers
project, supporting the Perl programming language. See
http://wiki.cpantesters.org/ for more information or email
questions to cpan-testers-discuss@perl.org
--
Dear Mohammad Sajid Anwar,
This is a computer-generated report for Map-Tube-4.03
on perl 5.41.9, created by CPAN-Reporter-1.2020.
Thank you for uploading your work to CPAN. Congratulations!
All tests were successful.
Sections of this report:
* Tester comments
* Program output
* Prerequisites
* Environment and other context
------------------------------
TESTER COMMENTS
------------------------------
Additional comments from tester:
none provided
------------------------------
PROGRAM OUTPUT
------------------------------
Output from '/usr/bin/make test':
Skip blib/lib/auto/share/dist/Map-Tube/color-names.txt (unchanged)
PERL_DL_NONLAZY=1 "/opt/perl-5.41.9/bin/perl5.41.9" "-MExtUtils::Command::MM" "-MTest::Harness" "-e" "undef *Test::Harness::Switches; test_harness(0, 'blib/lib', 'blib/arch')" t/*.t xt/*.t t/test-the-test/*.t
# Testing Map::Tube 4.03, Perl 5.041009, /opt/perl-5.41.9/bin/perl5.41.9
t/00-load.t ....................................... ok
t/99-casetest.t ................................... ok
t/common-lines-map.t .............................. ok
t/invalid-role.t .................................. ok
t/line-stations.t ................................. skipped: Map::Tube::London 0.87 required.
t/map.t ........................................... ok
t/metachars.t ..................................... ok
t/not_ok_map.t .................................... ok
t/ok_map.t ........................................ ok
t/ok_map_forked.t ................................. ok
t/ok_map_functions.t .............................. ok
t/ok_map_routes.t ................................. ok
t/preferred-route.t ............................... skipped: Map::Tube::London 1.36 required for this test
t/test-the-test/01-map-loadable.t ................. ok
t/test-the-test/02-line-names-unique.t ............ ok
t/test-the-test/03-line-ids-unique.t .............. ok
t/test-the-test/04-station-names-different.t ...... ok
t/test-the-test/05-station-names-prefix.t ......... ok
t/test-the-test/06-lines-used.t ................... ok
t/test-the-test/07-stations-linked-share-lines.t .. ok
t/test-the-test/08-lines-bidirectional.t .......... ok
t/test-the-test/09-lines-indexed.t ................ ok
t/test-the-test/10-lines-run-through.t ............ ok
t/test-the-test/11-map-connected.t ................ ok
t/test-the-test/12-station_ids.t .................. ok
t/test-the-test/13-stations_linked.t .............. ok
t/test-the-test/14-line-definitions.t ............. ok
t/test-the-test/15-station-self-linked.t .......... ok
t/test-the-test/16-station-multilinked.t .......... ok
t/test-the-test/17-station-multilined.t ........... ok
t/test-the-test/30-ok-map-data.t .................. ok
t/test-the-test/31-ok-map.t ....................... ok
t/test-the-test/32-ok-map-data-json.t ............. ok
t/test-the-test/33-not-ok-map.t ................... ok
t/unidirection-map.t .............................. ok
xt/changes.t ...................................... ok
xt/manifest.t ..................................... skipped: Test::CheckManifest 0.9 required
xt/meta-json.t .................................... skipped: Test::CPAN::Meta::JSON required for testing MYMETA.json
xt/meta-yml.t ..................................... skipped: Test::CPAN::Meta required for testing MYMETA.yml
xt/pod.t .......................................... ok
xt/version.t ...................................... skipped: these tests are for authors only!
All tests successful.
Files=41, Tests=180, 17 wallclock secs ( 0.20 usr 0.10 sys + 14.28 cusr 1.88 csys = 16.46 CPU)
Result: PASS
------------------------------
PREREQUISITES
------------------------------
Prerequisite modules loaded:
requires:
Module Need Have
---------------------------- -------- --------
Data::Compare 1.25 1.29
File::Basename 2.6 2.86
File::ShareDir 1.114 1.118
JSON 2.90 4.10
Map::Tube::Exception 3.24 3.24
Map::Tube::Plugin::Formatter 0.16 0.17
Module::Pluggable 5.1 6.3
Moo 2.000000 2.005005
Moo::Role 2.000000 2.005005
MooX::Options 4.023 4.103
namespace::autoclean 0.28 0.31
overload 0 1.40
perl 5.006 5.041009
Role::Tiny 2.000000 2.002004
Taint::Util 0.08 0.08
Throwable 0 1.001
Type::Tiny 1.000005 2.006000
XML::Parser 2.23 2.47
XML::Twig 3.48 3.53
build_requires:
Module Need Have
---------------------------- -------- --------
Graph 0 0.9733
Test::Exception 0 0.43
Test::Lib 0 0.003
Test::More 1.001014 1.302209
configure_requires:
Module Need Have
---------------------------- -------- --------
ExtUtils::MakeMaker 0 7.70
File::ShareDir::Install 0.13 0.14
------------------------------
ENVIRONMENT AND OTHER CONTEXT
------------------------------
Environment variables:
LANG = C
PATH = /usr/local/bin:/usr/bin:/bin:/usr/local/sbin:/usr/sbin:/sbin:/home/cpansand/bin/linux-gnu:/home/cpansand/bin/sh:/home/cpansand/bin:/usr/games:/home/cpansand/devel:/home/eserte/src/srezic-misc/scripts
PERL5LIB =
PERL5OPT =
PERL5_CPANPLUS_IS_RUNNING = 1644441
PERL5_CPAN_IS_RUNNING = 1644441
PERL5_CPAN_IS_RUNNING_IN_RECURSION = 1643338,1644441
PERLDOC = -MPod::Perldoc::ToTextOverstrike
PERL_BATCH = yes
PERL_CANARY_STABILITY_NOPROMPT = 1
PERL_CPAN_REPORTER_CONFIG = /var/tmp/cpansmoker-1023/2025032800/cpanreporter_000_config.ini
PERL_EXTUTILS_AUTOINSTALL = --defaultdeps
PERL_USE_UNSAFE_INC = 1
SHELL = /usr/bin/zsh
TERM = screen
TMPDIR = /var/tmp/cpansmoker-1023/2025032800
Perl special variables (and OS-specific diagnostics, for MSWin32):
$^X = /opt/perl-5.41.9/bin/perl5.41.9
$UID/$EUID = 1023 / 1023
$GID = 1023 1023
$EGID = 1023 1023
Perl module toolchain versions installed:
Module Have
------------------- --------
CPAN 2.38
CPAN::Meta 2.150010
Cwd 3.92
ExtUtils::CBuilder 0.280240
ExtUtils::Command 7.70
ExtUtils::Install 2.22
ExtUtils::MakeMaker 7.70
ExtUtils::Manifest 1.75
ExtUtils::ParseXS 3.57
File::Spec 3.93
JSON 4.10
JSON::PP 4.16
Module::Build 0.4234
Module::Signature n/a
Parse::CPAN::Meta 2.150010
Test2 1.302209
Test::Harness 3.50
Test::More 1.302209
YAML 1.31
YAML::Syck 1.34
version 0.9933
--
Summary of my perl5 (revision 5 version 41 subversion 9) configuration:
Platform:
osname=linux
osvers=6.1.0-31-amd64
archname=x86_64-linux
uname='linux cloud5.bbbike.org 6.1.0-31-amd64 #1 smp preempt_dynamic debian 6.1.128-1 (2025-02-07) x86_64 gnulinux '
config_args='-ds -e -Dprefix=/opt/perl-5.41.9 -Uinstallusrbinperl -Dusedevel -Dusemallocwrap=no -Dcf_email=srezic@cpan.org'
hint=recommended
useposix=true
d_sigaction=define
useithreads=undef
usemultiplicity=undef
use64bitint=define
use64bitall=define
uselongdouble=undef
usemymalloc=n
default_inc_excludes_dot=define
Compiler:
cc='cc'
ccflags ='-fwrapv -fno-strict-aliasing -pipe -fstack-protector-strong -I/usr/local/include -D_LARGEFILE_SOURCE -D_FILE_OFFSET_BITS=64 -D_FORTIFY_SOURCE=2'
optimize='-O2'
cppflags='-fwrapv -fno-strict-aliasing -pipe -fstack-protector-strong -I/usr/local/include'
ccversion=''
gccversion='12.2.0'
gccosandvers=''
intsize=4
longsize=8
ptrsize=8
doublesize=8
byteorder=12345678
doublekind=3
d_longlong=define
longlongsize=8
d_longdbl=define
longdblsize=16
longdblkind=3
ivtype='long'
ivsize=8
nvtype='double'
nvsize=8
Off_t='off_t'
lseeksize=8
alignbytes=8
prototype=define
Linker and Libraries:
ld='cc'
ldflags =' -fstack-protector-strong -L/usr/local/lib'
libpth=/usr/local/lib /usr/lib/x86_64-linux-gnu /usr/lib /usr/lib64
libs=-lpthread -lgdbm -ldb -ldl -lm -lcrypt -lutil -lc
perllibs=-lpthread -ldl -lm -lcrypt -lutil -lc
libc=/lib/x86_64-linux-gnu/libc.so.6
so=so
useshrplib=false
libperl=libperl.a
gnulibc_version='2.36'
Dynamic Linking:
dlsrc=dl_dlopen.xs
dlext=so
d_dlsymun=undef
ccdlflags='-Wl,-E'
cccdlflags='-fPIC'
lddlflags='-shared -O2 -L/usr/local/lib -fstack-protector-strong'
Characteristics of this binary (from libperl):
Compile-time options:
HAS_LONG_DOUBLE
HAS_STRTOLD
HAS_TIMES
PERLIO_LAYERS
PERL_COPY_ON_WRITE
PERL_DONT_CREATE_GVSV
PERL_HASH_FUNC_SIPHASH13
PERL_HASH_USE_SBOX32
PERL_OP_PARENT
PERL_PRESERVE_IVUV
PERL_USE_DEVEL
PERL_USE_SAFE_PUTENV
USE_64_BIT_ALL
USE_64_BIT_INT
USE_LARGE_FILES
USE_LOCALE
USE_LOCALE_COLLATE
USE_LOCALE_CTYPE
USE_LOCALE_NUMERIC
USE_LOCALE_TIME
USE_PERLIO
USE_PERL_ATOF
Built under linux
Compiled at Feb 25 2025 20:45:38
%ENV:
PERL5LIB=""
PERL5OPT=""
PERL5_CPANPLUS_IS_RUNNING="1644441"
PERL5_CPAN_IS_RUNNING="1644441"
PERL5_CPAN_IS_RUNNING_IN_RECURSION="1643338,1644441"
PERLDOC="-MPod::Perldoc::ToTextOverstrike"
PERL_BATCH="yes"
PERL_CANARY_STABILITY_NOPROMPT="1"
PERL_CPAN_REPORTER_CONFIG="/var/tmp/cpansmoker-1023/2025032800/cpanreporter_000_config.ini"
PERL_EXTUTILS_AUTOINSTALL="--defaultdeps"
PERL_USE_UNSAFE_INC="1"
@INC:
/opt/perl-5.41.9/lib/site_perl/5.41.9/x86_64-linux
/opt/perl-5.41.9/lib/site_perl/5.41.9
/opt/perl-5.41.9/lib/5.41.9/x86_64-linux
/opt/perl-5.41.9/lib/5.41.9
.