Apache-Sling v0.27 Perl 5 v5.24.0 x86_64-linux
- Status
- Pass
- From
- Slaven Rezić (SREZIC)
- Dist
-
Apache-Sling v0.27
- Platform
- Perl 5 v5.24.0 x86_64-linux
- Date
- 2018-10-03 13:45:32
- ID
- 9918fc2e-c712-11e8-be39-8d0afe0bb9f8
This distribution has been tested as part of the CPAN Testers
project, supporting the Perl programming language. See
http://wiki.cpantesters.org/ for more information or email
questions to cpan-testers-discuss@perl.org
--
Dear Daniel David Parry,
This is a computer-generated report for Apache-Sling-0.27
on perl 5.24.0, created by CPAN-Reporter-1.2018.
Thank you for uploading your work to CPAN. Congratulations!
All tests were successful.
Sections of this report:
* Tester comments
* Program output
* Prerequisites
* Environment and other context
------------------------------
TESTER COMMENTS
------------------------------
Additional comments from tester:
none provided
------------------------------
PROGRAM OUTPUT
------------------------------
Output from '/usr/bin/make test':
PERL_DL_NONLAZY=1 "/opt/perl-5.24.0/bin/perl" "-MExtUtils::Command::MM" "-MTest::Harness" "-e" "undef *Test::Harness::Switches; test_harness(0, 'blib/lib', 'blib/arch')" t/Local/*.t
Use of uninitialized value $fh in <HANDLE> at /opt/perl-5.24.0/lib/site_perl/5.24.0/HTTP/Cookies.pm line 450.
Use of uninitialized value $fh in <HANDLE> at /opt/perl-5.24.0/lib/site_perl/5.24.0/HTTP/Cookies.pm line 450.
Use of uninitialized value $fh in <HANDLE> at /opt/perl-5.24.0/lib/site_perl/5.24.0/HTTP/Cookies.pm line 450.
Use of uninitialized value $fh in <HANDLE> at /opt/perl-5.24.0/lib/site_perl/5.24.0/HTTP/Cookies.pm line 450.
Use of uninitialized value $fh in <HANDLE> at /opt/perl-5.24.0/lib/site_perl/5.24.0/HTTP/Cookies.pm line 450.
Use of uninitialized value $fh in <HANDLE> at /opt/perl-5.24.0/lib/site_perl/5.24.0/HTTP/Cookies.pm line 450.
Use of uninitialized value $fh in <HANDLE> at /opt/perl-5.24.0/lib/site_perl/5.24.0/HTTP/Cookies.pm line 450.
Use of uninitialized value $magic in scalar chomp at /opt/perl-5.24.0/lib/site_perl/5.24.0/HTTP/Cookies.pm line 451.
Use of uninitialized value $magic in pattern match (m//) at /opt/perl-5.24.0/lib/site_perl/5.24.0/HTTP/Cookies.pm line 452.
SCALAR(0x1e99e88) does not seem to contain cookies at /opt/perl-5.24.0/lib/site_perl/5.24.0/HTTP/Cookies.pm line 453.
Use of uninitialized value $fh in <HANDLE> at /opt/perl-5.24.0/lib/site_perl/5.24.0/HTTP/Cookies.pm line 450.
Use of uninitialized value $fh in <HANDLE> at /opt/perl-5.24.0/lib/site_perl/5.24.0/HTTP/Cookies.pm line 450.
Use of uninitialized value $fh in <HANDLE> at /opt/perl-5.24.0/lib/site_perl/5.24.0/HTTP/Cookies.pm line 450.
Use of uninitialized value $fh in <HANDLE> at /opt/perl-5.24.0/lib/site_perl/5.24.0/HTTP/Cookies.pm line 450.
Use of uninitialized value $fh in <HANDLE> at /opt/perl-5.24.0/lib/site_perl/5.24.0/HTTP/Cookies.pm line 450.
Use of uninitialized value $fh in <HANDLE> at /opt/perl-5.24.0/lib/site_perl/5.24.0/HTTP/Cookies.pm line 450.
Use of uninitialized value $fh in <HANDLE> at /opt/perl-5.24.0/lib/site_perl/5.24.0/HTTP/Cookies.pm line 450.
Use of uninitialized value $magic in scalar chomp at /opt/perl-5.24.0/lib/site_perl/5.24.0/HTTP/Cookies.pm line 451.
Use of uninitialized value $magic in pattern match (m//) at /opt/perl-5.24.0/lib/site_perl/5.24.0/HTTP/Cookies.pm line 452.
SCALAR(0x1eb3a18) does not seem to contain cookies at /opt/perl-5.24.0/lib/site_perl/5.24.0/HTTP/Cookies.pm line 453.
t/Local/Apache-Sling-Authn.t ................. ok
t/Local/Apache-Sling-AuthnUtil.t ............. ok
Use of uninitialized value $fh in <HANDLE> at /opt/perl-5.24.0/lib/site_perl/5.24.0/HTTP/Cookies.pm line 450.
Use of uninitialized value $fh in <HANDLE> at /opt/perl-5.24.0/lib/site_perl/5.24.0/HTTP/Cookies.pm line 450.
Use of uninitialized value $fh in <HANDLE> at /opt/perl-5.24.0/lib/site_perl/5.24.0/HTTP/Cookies.pm line 450.
Use of uninitialized value $fh in <HANDLE> at /opt/perl-5.24.0/lib/site_perl/5.24.0/HTTP/Cookies.pm line 450.
Use of uninitialized value $fh in <HANDLE> at /opt/perl-5.24.0/lib/site_perl/5.24.0/HTTP/Cookies.pm line 450.
Use of uninitialized value $fh in <HANDLE> at /opt/perl-5.24.0/lib/site_perl/5.24.0/HTTP/Cookies.pm line 450.
Use of uninitialized value $fh in <HANDLE> at /opt/perl-5.24.0/lib/site_perl/5.24.0/HTTP/Cookies.pm line 450.
Use of uninitialized value $magic in scalar chomp at /opt/perl-5.24.0/lib/site_perl/5.24.0/HTTP/Cookies.pm line 451.
Use of uninitialized value $magic in pattern match (m//) at /opt/perl-5.24.0/lib/site_perl/5.24.0/HTTP/Cookies.pm line 452.
SCALAR(0x14c4b28) does not seem to contain cookies at /opt/perl-5.24.0/lib/site_perl/5.24.0/HTTP/Cookies.pm line 453.
Use of uninitialized value $fh in <HANDLE> at /opt/perl-5.24.0/lib/site_perl/5.24.0/HTTP/Cookies.pm line 450.
Use of uninitialized value $fh in <HANDLE> at /opt/perl-5.24.0/lib/site_perl/5.24.0/HTTP/Cookies.pm line 450.
Use of uninitialized value $fh in <HANDLE> at /opt/perl-5.24.0/lib/site_perl/5.24.0/HTTP/Cookies.pm line 450.
Use of uninitialized value $fh in <HANDLE> at /opt/perl-5.24.0/lib/site_perl/5.24.0/HTTP/Cookies.pm line 450.
Use of uninitialized value $fh in <HANDLE> at /opt/perl-5.24.0/lib/site_perl/5.24.0/HTTP/Cookies.pm line 450.
Use of uninitialized value $fh in <HANDLE> at /opt/perl-5.24.0/lib/site_perl/5.24.0/HTTP/Cookies.pm line 450.
Use of uninitialized value $fh in <HANDLE> at /opt/perl-5.24.0/lib/site_perl/5.24.0/HTTP/Cookies.pm line 450.
Use of uninitialized value $magic in scalar chomp at /opt/perl-5.24.0/lib/site_perl/5.24.0/HTTP/Cookies.pm line 451.
Use of uninitialized value $magic in pattern match (m//) at /opt/perl-5.24.0/lib/site_perl/5.24.0/HTTP/Cookies.pm line 452.
SCALAR(0x15caf70) does not seem to contain cookies at /opt/perl-5.24.0/lib/site_perl/5.24.0/HTTP/Cookies.pm line 453.
t/Local/Apache-Sling-Authz.t ................. ok
t/Local/Apache-Sling-AuthzUtil.t ............. ok
Use of uninitialized value $fh in <HANDLE> at /opt/perl-5.24.0/lib/site_perl/5.24.0/HTTP/Cookies.pm line 450.
Use of uninitialized value $fh in <HANDLE> at /opt/perl-5.24.0/lib/site_perl/5.24.0/HTTP/Cookies.pm line 450.
Use of uninitialized value $fh in <HANDLE> at /opt/perl-5.24.0/lib/site_perl/5.24.0/HTTP/Cookies.pm line 450.
Use of uninitialized value $fh in <HANDLE> at /opt/perl-5.24.0/lib/site_perl/5.24.0/HTTP/Cookies.pm line 450.
Use of uninitialized value $fh in <HANDLE> at /opt/perl-5.24.0/lib/site_perl/5.24.0/HTTP/Cookies.pm line 450.
Use of uninitialized value $fh in <HANDLE> at /opt/perl-5.24.0/lib/site_perl/5.24.0/HTTP/Cookies.pm line 450.
Use of uninitialized value $fh in <HANDLE> at /opt/perl-5.24.0/lib/site_perl/5.24.0/HTTP/Cookies.pm line 450.
Use of uninitialized value $magic in scalar chomp at /opt/perl-5.24.0/lib/site_perl/5.24.0/HTTP/Cookies.pm line 451.
Use of uninitialized value $magic in pattern match (m//) at /opt/perl-5.24.0/lib/site_perl/5.24.0/HTTP/Cookies.pm line 452.
SCALAR(0x165b588) does not seem to contain cookies at /opt/perl-5.24.0/lib/site_perl/5.24.0/HTTP/Cookies.pm line 453.
t/Local/Apache-Sling-Content.t ............... ok
t/Local/Apache-Sling-ContentUtil.t ........... ok
Use of uninitialized value $fh in <HANDLE> at /opt/perl-5.24.0/lib/site_perl/5.24.0/HTTP/Cookies.pm line 450.
Use of uninitialized value $fh in <HANDLE> at /opt/perl-5.24.0/lib/site_perl/5.24.0/HTTP/Cookies.pm line 450.
Use of uninitialized value $fh in <HANDLE> at /opt/perl-5.24.0/lib/site_perl/5.24.0/HTTP/Cookies.pm line 450.
Use of uninitialized value $fh in <HANDLE> at /opt/perl-5.24.0/lib/site_perl/5.24.0/HTTP/Cookies.pm line 450.
Use of uninitialized value $fh in <HANDLE> at /opt/perl-5.24.0/lib/site_perl/5.24.0/HTTP/Cookies.pm line 450.
Use of uninitialized value $fh in <HANDLE> at /opt/perl-5.24.0/lib/site_perl/5.24.0/HTTP/Cookies.pm line 450.
Use of uninitialized value $fh in <HANDLE> at /opt/perl-5.24.0/lib/site_perl/5.24.0/HTTP/Cookies.pm line 450.
Use of uninitialized value $magic in scalar chomp at /opt/perl-5.24.0/lib/site_perl/5.24.0/HTTP/Cookies.pm line 451.
Use of uninitialized value $magic in pattern match (m//) at /opt/perl-5.24.0/lib/site_perl/5.24.0/HTTP/Cookies.pm line 452.
SCALAR(0x194b598) does not seem to contain cookies at /opt/perl-5.24.0/lib/site_perl/5.24.0/HTTP/Cookies.pm line 453.
t/Local/Apache-Sling-Group.t ................. ok
Use of uninitialized value $fh in <HANDLE> at /opt/perl-5.24.0/lib/site_perl/5.24.0/HTTP/Cookies.pm line 450.
Use of uninitialized value $fh in <HANDLE> at /opt/perl-5.24.0/lib/site_perl/5.24.0/HTTP/Cookies.pm line 450.
Use of uninitialized value $fh in <HANDLE> at /opt/perl-5.24.0/lib/site_perl/5.24.0/HTTP/Cookies.pm line 450.
Use of uninitialized value $fh in <HANDLE> at /opt/perl-5.24.0/lib/site_perl/5.24.0/HTTP/Cookies.pm line 450.
Use of uninitialized value $fh in <HANDLE> at /opt/perl-5.24.0/lib/site_perl/5.24.0/HTTP/Cookies.pm line 450.
Use of uninitialized value $fh in <HANDLE> at /opt/perl-5.24.0/lib/site_perl/5.24.0/HTTP/Cookies.pm line 450.
Use of uninitialized value $fh in <HANDLE> at /opt/perl-5.24.0/lib/site_perl/5.24.0/HTTP/Cookies.pm line 450.
Use of uninitialized value $magic in scalar chomp at /opt/perl-5.24.0/lib/site_perl/5.24.0/HTTP/Cookies.pm line 451.
Use of uninitialized value $magic in pattern match (m//) at /opt/perl-5.24.0/lib/site_perl/5.24.0/HTTP/Cookies.pm line 452.
SCALAR(0x26ea488) does not seem to contain cookies at /opt/perl-5.24.0/lib/site_perl/5.24.0/HTTP/Cookies.pm line 453.
t/Local/Apache-Sling-GroupMember.t ........... ok
t/Local/Apache-Sling-GroupMemberUtil.t ....... ok
t/Local/Apache-Sling-GroupUtil.t ............. ok
Use of uninitialized value $fh in <HANDLE> at /opt/perl-5.24.0/lib/site_perl/5.24.0/HTTP/Cookies.pm line 450.
Use of uninitialized value $fh in <HANDLE> at /opt/perl-5.24.0/lib/site_perl/5.24.0/HTTP/Cookies.pm line 450.
Use of uninitialized value $fh in <HANDLE> at /opt/perl-5.24.0/lib/site_perl/5.24.0/HTTP/Cookies.pm line 450.
Use of uninitialized value $fh in <HANDLE> at /opt/perl-5.24.0/lib/site_perl/5.24.0/HTTP/Cookies.pm line 450.
Use of uninitialized value $fh in <HANDLE> at /opt/perl-5.24.0/lib/site_perl/5.24.0/HTTP/Cookies.pm line 450.
Use of uninitialized value $fh in <HANDLE> at /opt/perl-5.24.0/lib/site_perl/5.24.0/HTTP/Cookies.pm line 450.
Use of uninitialized value $fh in <HANDLE> at /opt/perl-5.24.0/lib/site_perl/5.24.0/HTTP/Cookies.pm line 450.
Use of uninitialized value $magic in scalar chomp at /opt/perl-5.24.0/lib/site_perl/5.24.0/HTTP/Cookies.pm line 451.
Use of uninitialized value $magic in pattern match (m//) at /opt/perl-5.24.0/lib/site_perl/5.24.0/HTTP/Cookies.pm line 452.
SCALAR(0x2039de8) does not seem to contain cookies at /opt/perl-5.24.0/lib/site_perl/5.24.0/HTTP/Cookies.pm line 453.
Use of uninitialized value $fh in <HANDLE> at /opt/perl-5.24.0/lib/site_perl/5.24.0/HTTP/Cookies.pm line 450.
Use of uninitialized value $fh in <HANDLE> at /opt/perl-5.24.0/lib/site_perl/5.24.0/HTTP/Cookies.pm line 450.
Use of uninitialized value $fh in <HANDLE> at /opt/perl-5.24.0/lib/site_perl/5.24.0/HTTP/Cookies.pm line 450.
Use of uninitialized value $fh in <HANDLE> at /opt/perl-5.24.0/lib/site_perl/5.24.0/HTTP/Cookies.pm line 450.
Use of uninitialized value $fh in <HANDLE> at /opt/perl-5.24.0/lib/site_perl/5.24.0/HTTP/Cookies.pm line 450.
Use of uninitialized value $fh in <HANDLE> at /opt/perl-5.24.0/lib/site_perl/5.24.0/HTTP/Cookies.pm line 450.
Use of uninitialized value $fh in <HANDLE> at /opt/perl-5.24.0/lib/site_perl/5.24.0/HTTP/Cookies.pm line 450.
Use of uninitialized value $magic in scalar chomp at /opt/perl-5.24.0/lib/site_perl/5.24.0/HTTP/Cookies.pm line 451.
Use of uninitialized value $magic in pattern match (m//) at /opt/perl-5.24.0/lib/site_perl/5.24.0/HTTP/Cookies.pm line 452.
SCALAR(0x21158c8) does not seem to contain cookies at /opt/perl-5.24.0/lib/site_perl/5.24.0/HTTP/Cookies.pm line 453.
t/Local/Apache-Sling-JsonQueryServlet.t ...... ok
t/Local/Apache-Sling-JsonQueryServletUtil.t .. ok
Use of uninitialized value $fh in <HANDLE> at /opt/perl-5.24.0/lib/site_perl/5.24.0/HTTP/Cookies.pm line 450.
Use of uninitialized value $fh in <HANDLE> at /opt/perl-5.24.0/lib/site_perl/5.24.0/HTTP/Cookies.pm line 450.
Use of uninitialized value $fh in <HANDLE> at /opt/perl-5.24.0/lib/site_perl/5.24.0/HTTP/Cookies.pm line 450.
Use of uninitialized value $fh in <HANDLE> at /opt/perl-5.24.0/lib/site_perl/5.24.0/HTTP/Cookies.pm line 450.
Use of uninitialized value $fh in <HANDLE> at /opt/perl-5.24.0/lib/site_perl/5.24.0/HTTP/Cookies.pm line 450.
Use of uninitialized value $fh in <HANDLE> at /opt/perl-5.24.0/lib/site_perl/5.24.0/HTTP/Cookies.pm line 450.
Use of uninitialized value $fh in <HANDLE> at /opt/perl-5.24.0/lib/site_perl/5.24.0/HTTP/Cookies.pm line 450.
Use of uninitialized value $magic in scalar chomp at /opt/perl-5.24.0/lib/site_perl/5.24.0/HTTP/Cookies.pm line 451.
Use of uninitialized value $magic in pattern match (m//) at /opt/perl-5.24.0/lib/site_perl/5.24.0/HTTP/Cookies.pm line 452.
SCALAR(0x1648bf8) does not seem to contain cookies at /opt/perl-5.24.0/lib/site_perl/5.24.0/HTTP/Cookies.pm line 453.
Use of uninitialized value $fh in <HANDLE> at /opt/perl-5.24.0/lib/site_perl/5.24.0/HTTP/Cookies.pm line 450.
Use of uninitialized value $fh in <HANDLE> at /opt/perl-5.24.0/lib/site_perl/5.24.0/HTTP/Cookies.pm line 450.
Use of uninitialized value $fh in <HANDLE> at /opt/perl-5.24.0/lib/site_perl/5.24.0/HTTP/Cookies.pm line 450.
Use of uninitialized value $fh in <HANDLE> at /opt/perl-5.24.0/lib/site_perl/5.24.0/HTTP/Cookies.pm line 450.
Use of uninitialized value $fh in <HANDLE> at /opt/perl-5.24.0/lib/site_perl/5.24.0/HTTP/Cookies.pm line 450.
Use of uninitialized value $fh in <HANDLE> at /opt/perl-5.24.0/lib/site_perl/5.24.0/HTTP/Cookies.pm line 450.
Use of uninitialized value $fh in <HANDLE> at /opt/perl-5.24.0/lib/site_perl/5.24.0/HTTP/Cookies.pm line 450.
Use of uninitialized value $magic in scalar chomp at /opt/perl-5.24.0/lib/site_perl/5.24.0/HTTP/Cookies.pm line 451.
Use of uninitialized value $magic in pattern match (m//) at /opt/perl-5.24.0/lib/site_perl/5.24.0/HTTP/Cookies.pm line 452.
SCALAR(0x1e667b0) does not seem to contain cookies at /opt/perl-5.24.0/lib/site_perl/5.24.0/HTTP/Cookies.pm line 453.
t/Local/Apache-Sling-LDAPSynch.t ............. ok
Use of uninitialized value $fh in <HANDLE> at /opt/perl-5.24.0/lib/site_perl/5.24.0/HTTP/Cookies.pm line 450.
Use of uninitialized value $fh in <HANDLE> at /opt/perl-5.24.0/lib/site_perl/5.24.0/HTTP/Cookies.pm line 450.
Use of uninitialized value $fh in <HANDLE> at /opt/perl-5.24.0/lib/site_perl/5.24.0/HTTP/Cookies.pm line 450.
Use of uninitialized value $fh in <HANDLE> at /opt/perl-5.24.0/lib/site_perl/5.24.0/HTTP/Cookies.pm line 450.
Use of uninitialized value $fh in <HANDLE> at /opt/perl-5.24.0/lib/site_perl/5.24.0/HTTP/Cookies.pm line 450.
Use of uninitialized value $fh in <HANDLE> at /opt/perl-5.24.0/lib/site_perl/5.24.0/HTTP/Cookies.pm line 450.
Use of uninitialized value $fh in <HANDLE> at /opt/perl-5.24.0/lib/site_perl/5.24.0/HTTP/Cookies.pm line 450.
Use of uninitialized value $magic in scalar chomp at /opt/perl-5.24.0/lib/site_perl/5.24.0/HTTP/Cookies.pm line 451.
Use of uninitialized value $magic in pattern match (m//) at /opt/perl-5.24.0/lib/site_perl/5.24.0/HTTP/Cookies.pm line 452.
SCALAR(0x1e40648) does not seem to contain cookies at /opt/perl-5.24.0/lib/site_perl/5.24.0/HTTP/Cookies.pm line 453.
t/Local/Apache-Sling-Print.t ................. ok
Use of uninitialized value $fh in <HANDLE> at /opt/perl-5.24.0/lib/site_perl/5.24.0/HTTP/Cookies.pm line 450.
Use of uninitialized value $fh in <HANDLE> at /opt/perl-5.24.0/lib/site_perl/5.24.0/HTTP/Cookies.pm line 450.
Use of uninitialized value $fh in <HANDLE> at /opt/perl-5.24.0/lib/site_perl/5.24.0/HTTP/Cookies.pm line 450.
Use of uninitialized value $fh in <HANDLE> at /opt/perl-5.24.0/lib/site_perl/5.24.0/HTTP/Cookies.pm line 450.
Use of uninitialized value $fh in <HANDLE> at /opt/perl-5.24.0/lib/site_perl/5.24.0/HTTP/Cookies.pm line 450.
Use of uninitialized value $fh in <HANDLE> at /opt/perl-5.24.0/lib/site_perl/5.24.0/HTTP/Cookies.pm line 450.
Use of uninitialized value $fh in <HANDLE> at /opt/perl-5.24.0/lib/site_perl/5.24.0/HTTP/Cookies.pm line 450.
Use of uninitialized value $magic in scalar chomp at /opt/perl-5.24.0/lib/site_perl/5.24.0/HTTP/Cookies.pm line 451.
Use of uninitialized value $magic in pattern match (m//) at /opt/perl-5.24.0/lib/site_perl/5.24.0/HTTP/Cookies.pm line 452.
SCALAR(0x1a2dff8) does not seem to contain cookies at /opt/perl-5.24.0/lib/site_perl/5.24.0/HTTP/Cookies.pm line 453.
t/Local/Apache-Sling-Request.t ............... ok
t/Local/Apache-Sling-URL.t ................... ok
Use of uninitialized value $fh in <HANDLE> at /opt/perl-5.24.0/lib/site_perl/5.24.0/HTTP/Cookies.pm line 450.
Use of uninitialized value $fh in <HANDLE> at /opt/perl-5.24.0/lib/site_perl/5.24.0/HTTP/Cookies.pm line 450.
Use of uninitialized value $fh in <HANDLE> at /opt/perl-5.24.0/lib/site_perl/5.24.0/HTTP/Cookies.pm line 450.
Use of uninitialized value $fh in <HANDLE> at /opt/perl-5.24.0/lib/site_perl/5.24.0/HTTP/Cookies.pm line 450.
Use of uninitialized value $fh in <HANDLE> at /opt/perl-5.24.0/lib/site_perl/5.24.0/HTTP/Cookies.pm line 450.
Use of uninitialized value $fh in <HANDLE> at /opt/perl-5.24.0/lib/site_perl/5.24.0/HTTP/Cookies.pm line 450.
Use of uninitialized value $fh in <HANDLE> at /opt/perl-5.24.0/lib/site_perl/5.24.0/HTTP/Cookies.pm line 450.
Use of uninitialized value $magic in scalar chomp at /opt/perl-5.24.0/lib/site_perl/5.24.0/HTTP/Cookies.pm line 451.
Use of uninitialized value $magic in pattern match (m//) at /opt/perl-5.24.0/lib/site_perl/5.24.0/HTTP/Cookies.pm line 452.
SCALAR(0x25fe0f8) does not seem to contain cookies at /opt/perl-5.24.0/lib/site_perl/5.24.0/HTTP/Cookies.pm line 453.
t/Local/Apache-Sling-User.t .................. ok
t/Local/Apache-Sling-UserUtil.t .............. ok
t/Local/Apache-Sling.t ....................... ok
All tests successful.
Files=19, Tests=345, 1 wallclock secs ( 0.06 usr 0.09 sys + 1.42 cusr 0.20 csys = 1.77 CPU)
Result: PASS
------------------------------
PREREQUISITES
------------------------------
Prerequisite modules loaded:
requires:
Module Need Have
--------------------- ---- -------
HTTP::Request::Common 1.28 6.16
JSON 2.07 2.97001
LWP::UserAgent 2.36 6.35
Net::LDAP 0.34 0.65
Test::Exception 0.27 0.43
Text::CSV 1.06 1.97
build_requires:
Module Need Have
--------------------- ---- -------
ExtUtils::MakeMaker 0 7.34
------------------------------
ENVIRONMENT AND OTHER CONTEXT
------------------------------
Environment variables:
LANG = en_US.UTF-8
PATH = /usr/local/bin:/usr/bin:/bin:/usr/local/sbin:/usr/sbin:/sbin:/home/cpansand/bin/linux-gnu:/home/cpansand/bin/sh:/home/cpansand/bin:/usr/games:/home/cpansand/devel:/home/eserte/src/srezic-misc/scripts
PERL5LIB =
PERL5OPT =
PERL5_CPANPLUS_IS_RUNNING = 27285
PERL5_CPAN_IS_RUNNING = 27285
PERL5_CPAN_IS_RUNNING_IN_RECURSION = 7482,27285
PERLDOC = -MPod::Perldoc::ToTextOverstrike
PERL_BATCH = yes
PERL_CANARY_STABILITY_NOPROMPT = 1
PERL_CPAN_REPORTER_CONFIG = /var/tmp/cpansmoker-1023/2018100313/cpanreporter_000_config.ini
PERL_EXTUTILS_AUTOINSTALL = --defaultdeps
SHELL = /usr/bin/zsh
TERM = screen
TMPDIR = /var/tmp/cpansmoker-1023/2018100313
Perl special variables (and OS-specific diagnostics, for MSWin32):
$^X = /opt/perl-5.24.0/bin/perl
$UID/$EUID = 1023 / 1023
$GID = 1023 1023
$EGID = 1023 1023
Perl module toolchain versions installed:
Module Have
------------------- --------
CPAN 2.16
CPAN::Meta 2.150010
Cwd 3.75
ExtUtils::CBuilder 0.280230
ExtUtils::Command 7.34
ExtUtils::Install 2.06
ExtUtils::MakeMaker 7.34
ExtUtils::Manifest 1.70
ExtUtils::ParseXS 3.31
File::Spec 3.75
JSON 2.97001
JSON::PP 2.95
Module::Build 0.4224
Module::Signature 0.83
Parse::CPAN::Meta 2.150010
Test::Harness 3.42
Test::More 1.302140
YAML 1.26
YAML::Syck 1.30
version 0.9923
--
Summary of my perl5 (revision 5 version 24 subversion 0) configuration:
Platform:
osname=linux, osvers=4.4.0-81-generic, archname=x86_64-linux
uname='linux ubuntu16 4.4.0-81-generic #104-ubuntu smp wed jun 14 08:17:06 utc 2017 x86_64 x86_64 x86_64 gnulinux '
config_args='-ds -e -Dprefix=/opt/perl-5.24.0 -Dcf_email=srezic@cpan.org'
hint=recommended, useposix=true, d_sigaction=define
useithreads=undef, usemultiplicity=undef
use64bitint=define, use64bitall=define, uselongdouble=undef
usemymalloc=n, bincompat5005=undef
Compiler:
cc='cc', ccflags ='-fwrapv -fno-strict-aliasing -pipe -fstack-protector-strong -I/usr/local/include -D_LARGEFILE_SOURCE -D_FILE_OFFSET_BITS=64',
optimize='-O2',
cppflags='-fwrapv -fno-strict-aliasing -pipe -fstack-protector-strong -I/usr/local/include'
ccversion='', gccversion='5.4.0 20160609', gccosandvers=''
intsize=4, longsize=8, ptrsize=8, doublesize=8, byteorder=12345678, doublekind=3
d_longlong=define, longlongsize=8, d_longdbl=define, longdblsize=16, longdblkind=3
ivtype='long', ivsize=8, nvtype='double', nvsize=8, Off_t='off_t', lseeksize=8
alignbytes=8, prototype=define
Linker and Libraries:
ld='cc', ldflags =' -fstack-protector-strong -L/usr/local/lib'
libpth=/usr/local/lib /usr/lib/gcc/x86_64-linux-gnu/5/include-fixed /usr/include/x86_64-linux-gnu /usr/lib /lib/x86_64-linux-gnu /lib/../lib /usr/lib/x86_64-linux-gnu /usr/lib/../lib /lib
libs=-lpthread -lnsl -lgdbm -ldb -ldl -lm -lcrypt -lutil -lc -lgdbm_compat
perllibs=-lpthread -lnsl -ldl -lm -lcrypt -lutil -lc
libc=libc-2.23.so, so=so, useshrplib=false, libperl=libperl.a
gnulibc_version='2.23'
Dynamic Linking:
dlsrc=dl_dlopen.xs, dlext=so, d_dlsymun=undef, ccdlflags='-Wl,-E'
cccdlflags='-fPIC', lddlflags='-shared -O2 -L/usr/local/lib -fstack-protector-strong'
Characteristics of this binary (from libperl):
Compile-time options: HAS_TIMES PERLIO_LAYERS PERL_COPY_ON_WRITE
PERL_DONT_CREATE_GVSV
PERL_HASH_FUNC_ONE_AT_A_TIME_HARD PERL_MALLOC_WRAP
PERL_PRESERVE_IVUV USE_64_BIT_ALL USE_64_BIT_INT
USE_LARGE_FILES USE_LOCALE USE_LOCALE_COLLATE
USE_LOCALE_CTYPE USE_LOCALE_NUMERIC USE_LOCALE_TIME
USE_PERLIO USE_PERL_ATOF
Built under linux
Compiled at Jun 21 2017 18:22:24
%ENV:
PERL5LIB=""
PERL5OPT=""
PERL5_CPANPLUS_IS_RUNNING="27285"
PERL5_CPAN_IS_RUNNING="27285"
PERL5_CPAN_IS_RUNNING_IN_RECURSION="7482,27285"
PERLDOC="-MPod::Perldoc::ToTextOverstrike"
PERL_BATCH="yes"
PERL_CANARY_STABILITY_NOPROMPT="1"
PERL_CPAN_REPORTER_CONFIG="/var/tmp/cpansmoker-1023/2018100313/cpanreporter_000_config.ini"
PERL_EXTUTILS_AUTOINSTALL="--defaultdeps"
@INC:
/opt/perl-5.24.0/lib/site_perl/5.24.0/x86_64-linux
/opt/perl-5.24.0/lib/site_perl/5.24.0
/opt/perl-5.24.0/lib/5.24.0/x86_64-linux
/opt/perl-5.24.0/lib/5.24.0
.