Back
From: metabase:user:314402c4-2aae-11df-837a-5e0a49663a4f
Subject: PASS RSH-Logging-0.4.3 v5.24.1 RC4 GNU/Linux
Date: 2016-10-29T18:43:34Z
This distribution has been tested as part of the CPAN Testers
project, supporting the Perl programming language. See
http://wiki.cpantesters.org/ for more information or email
questions to cpan-testers-discuss@perl.org
--
Dear Matt Luker,
This is a computer-generated report for RSH-Logging-0.4.3
on perl 5.24.1, created by CPAN-Reporter-1.2018.
Thank you for uploading your work to CPAN. Congratulations!
All tests were successful.
Sections of this report:
* Tester comments
* Program output
* Prerequisites
* Environment and other context
------------------------------
TESTER COMMENTS
------------------------------
Additional comments from tester:
none provided
------------------------------
PROGRAM OUTPUT
------------------------------
Output from '/usr/bin/make test':
PERL_DL_NONLAZY=1 "/bbbike/perl-5.24.1-RC4/bin/perl" "-MExtUtils::Command::MM" "-MTest::Harness" "-e" "undef *Test::Harness::Switches; test_harness(0, 'inc', 'blib/lib', 'blib/arch')" t/000.load.t t/010.RSH-Logging.t t/011.RSH-Logging-chunking.t t/999.perlcritic.t t/999.pod-coverage.t t/999.pod.t
# Testing RSH::Logging 0.4.3
t/000.load.t .................. ok
TOTAL TIME 4.2e-05s (23809.524/s)
.----------------------------------------------------------------+-----------.
| Event | Time |
+----------------------------------------------------------------+-----------+
| + foo | 0.000042s |
'----------------------------------------------------------------+-----------'
TOTAL TIME 0.00032s (3125.000/s)
.----------------------------------------------------------------+-----------.
| Event | Time |
+----------------------------------------------------------------+-----------+
| + foo | 0.000320s |
| + sub1a | 0.000224s |
| + sub2a | 0.000046s |
| + sub2b | 0.000044s |
'----------------------------------------------------------------+-----------'
TOTAL TIME 0.000318s (3144.654/s)
.----------------------------------------------------------------+-----------.
| Event | Time |
+----------------------------------------------------------------+-----------+
| + main | 0.000318s |
| + main | 0.000225s |
| + main | 0.000046s |
| + main | 0.000046s |
'----------------------------------------------------------------+-----------'
DEBUG Logging.pm:407, RSH::Logging::__ANON__: TOTAL TIME 0.000315s (3174.603/s)
.----------------------------------------------------------------+-----------.
| Event | Time |
+----------------------------------------------------------------+-----------+
| + foo | 0.000315s |
| + sub1a | 0.000222s |
| + sub2a | 0.000045s |
| + sub2b | 0.000044s |
'----------------------------------------------------------------+-----------'
TOTAL TIME 0.000317s (3154.574/s)
.----------------------------------------------------------------+-----------.
| Event | Time |
+----------------------------------------------------------------+-----------+
| + foo | 0.000317s |
| + sub1a | 0.000223s |
| + sub2a | 0.000045s |
| + sub2b | 0.000045s |
'----------------------------------------------------------------+-----------'
TOTAL TIME 0.000317s (3154.574/s)
.----------------------------------------------------------------+-----------.
| Event | Time |
+----------------------------------------------------------------+-----------+
| + foo | 0.000317s |
| + sub1a (notation 1) | 0.000223s |
| + sub2a (notation 2) | 0.000047s |
| + sub2b (this is a very long note, which you shouldn't do- | 0.000043s |
| , but it can't be helped that people don't think things throu- | |
| gh from time to time.) | |
'----------------------------------------------------------------+-----------'
TOTAL TIME 0.000311s (3215.434/s)
.----------------------------------------------------------------+-----------.
| Event | Time |
+----------------------------------------------------------------+-----------+
| + foo | 0.000311s |
| + sub1a | 0.000218s |
| + sub2a | 0.000044s |
| + sub2b | 0.000043s |
'----------------------------------------------------------------+-----------'
TOTAL TIME 0.000312s (3205.128/s)
.----------------------------------------------------------------+-----------.
| Event | Time |
+----------------------------------------------------------------+-----------+
| + foo2 | 0.000312s |
| + sub1a | 0.000220s |
| + sub2a | 0.000044s |
| + sub2b | 0.000044s |
'----------------------------------------------------------------+-----------'
TOTAL TIME 0.00069s (1449.275/s)
.----------------------------------------------------------------+-----------.
| Event | Time |
+----------------------------------------------------------------+-----------+
| + foo | 0.000690s |
| + sub1a | 0.000583s |
| + sub2a | 0.000050s |
| + sub2b | 0.000391s |
| + foo2 | 0.000304s |
| + sub1a | 0.000215s |
| + sub2a | 0.000043s |
| + sub2b | 0.000043s |
'----------------------------------------------------------------+-----------'
TOTAL TIME 0.000244s (4098.361/s)
.----------------------------------------------------------------+-----------.
| Event | Time |
+----------------------------------------------------------------+-----------+
| + foo | 0.000244s |
| + sub1a | 0.000188s |
| + sub2a | 0.000046s |
| + sub2b | 0.000048s |
'----------------------------------------------------------------+-----------'
t/010.RSH-Logging.t ........... ok
DEBUG Logging.pm:407, RSH::Logging::__ANON__: TOTAL TIME 0.000347s (2881.844/s)
DEBUG Logging.pm:407, RSH::Logging::__ANON__: .----------------------------------------------------------------+-----------.
DEBUG Logging.pm:407, RSH::Logging::__ANON__: | Event | Time |
DEBUG Logging.pm:407, RSH::Logging::__ANON__: +----------------------------------------------------------------+-----------+
DEBUG Logging.pm:407, RSH::Logging::__ANON__: | + foo | 0.000347s |
DEBUG Logging.pm:407, RSH::Logging::__ANON__: | + sub1a | 0.000231s |
DEBUG Logging.pm:407, RSH::Logging::__ANON__: | + sub2a | 0.000048s |
DEBUG Logging.pm:407, RSH::Logging::__ANON__: | + sub2b | 0.000042s |
DEBUG Logging.pm:407, RSH::Logging::__ANON__: '----------------------------------------------------------------+-----------'
DEBUG Logging.pm:407, RSH::Logging::__ANON__:
TOTAL TIME 0.000321s (3115.265/s)
.----------------------------------------------------------------+-----------.
| Event | Time |
+----------------------------------------------------------------+-----------+
| + foo | 0.000321s |
| + sub1a | 0.000226s |
| + sub2a | 0.000046s |
| + sub2b | 0.000044s |
'----------------------------------------------------------------+-----------'
DEBUG Logging.pm:407, RSH::Logging::__ANON__: TOTAL TIME 0.000374s (2673.797/s)
.----------------------------------------------------------------+-----------.
| Event | Time |
+----------------------------------------------------------------+-----------+
| + foo | 0.000374s |
| + sub1a | 0.000220s |
| + sub2a | 0.000045s |
| + sub2b | 0.000043s |
| + sub0 | 0.000003s |
| + sub1 | 0.000001s |
| + sub2 | 0.000001s |
| + sub3 | 0.000002s |
| + sub4 | 0.000002s |
'----------------------------------------------------------------+-----------'
DEBUG Logging.pm:407, RSH::Logging::__ANON__: TOTAL TIME 0.00045s (2222.222/s)
DEBUG Logging.pm:407, RSH::Logging::__ANON__: .----------------------------------------------------------------+-----------.
DEBUG Logging.pm:407, RSH::Logging::__ANON__: | Event | Time |
DEBUG Logging.pm:407, RSH::Logging::__ANON__: +----------------------------------------------------------------+-----------+
DEBUG Logging.pm:407, RSH::Logging::__ANON__: | + foo | 0.000450s |
DEBUG Logging.pm:407, RSH::Logging::__ANON__: | + sub1a | 0.000221s |
DEBUG Logging.pm:407, RSH::Logging::__ANON__: | + sub2a | 0.000045s |
DEBUG Logging.pm:407, RSH::Logging::__ANON__: | + sub2b | 0.000043s |
DEBUG Logging.pm:407, RSH::Logging::__ANON__: | + sub0 | 0.000003s |
DEBUG Logging.pm:407, RSH::Logging::__ANON__: | + sub1 | 0.000002s |
DEBUG Logging.pm:407, RSH::Logging::__ANON__: | + sub2 | 0.000001s |
DEBUG Logging.pm:407, RSH::Logging::__ANON__: | + sub3 | 0.000002s |
DEBUG Logging.pm:407, RSH::Logging::__ANON__: | + sub4 | 0.000001s |
DEBUG Logging.pm:407, RSH::Logging::__ANON__: | + sub5 | 0.000002s |
DEBUG Logging.pm:407, RSH::Logging::__ANON__: | + sub6 | 0.000001s |
DEBUG Logging.pm:407, RSH::Logging::__ANON__: | + sub7 | 0.000002s |
DEBUG Logging.pm:407, RSH::Logging::__ANON__: | + sub8 | 0.000001s |
DEBUG Logging.pm:407, RSH::Logging::__ANON__: | + sub9 | 0.000001s |
DEBUG Logging.pm:407, RSH::Logging::__ANON__: | + sub10 | 0.000002s |
DEBUG Logging.pm:407, RSH::Logging::__ANON__: | + sub11 | 0.000002s |
DEBUG Logging.pm:407, RSH::Logging::__ANON__: | + sub12 | 0.000001s |
DEBUG Logging.pm:407, RSH::Logging::__ANON__: | + sub13 | 0.000002s |
DEBUG Logging.pm:407, RSH::Logging::__ANON__: | + sub14 | 0.000001s |
DEBUG Logging.pm:407, RSH::Logging::__ANON__: | + sub15 | 0.000002s |
DEBUG Logging.pm:407, RSH::Logging::__ANON__: | + sub16 | 0.000002s |
DEBUG Logging.pm:407, RSH::Logging::__ANON__: | + sub17 | 0.000002s |
DEBUG Logging.pm:407, RSH::Logging::__ANON__: | + sub18 | 0.000001s |
DEBUG Logging.pm:407, RSH::Logging::__ANON__: | + sub19 | 0.000002s |
DEBUG Logging.pm:407, RSH::Logging::__ANON__: | + sub20 | 0.000001s |
DEBUG Logging.pm:407, RSH::Logging::__ANON__: | + sub21 | 0.000002s |
DEBUG Logging.pm:407, RSH::Logging::__ANON__: | + sub22 | 0.000001s |
DEBUG Logging.pm:407, RSH::Logging::__ANON__: | + sub23 | 0.000010s |
DEBUG Logging.pm:407, RSH::Logging::__ANON__: | + sub24 | 0.000002s |
DEBUG Logging.pm:407, RSH::Logging::__ANON__: '----------------------------------------------------------------+-----------'
DEBUG Logging.pm:407, RSH::Logging::__ANON__:
t/011.RSH-Logging-chunking.t .. ok
t/999.perlcritic.t ............ skipped: Not worrying about perl critic right now.
t/999.pod-coverage.t .......... ok
t/999.pod.t ................... ok
All tests successful.
Files=6, Tests=160, 1 wallclock secs ( 0.02 usr 0.03 sys + 0.70 cusr 0.12 csys = 0.87 CPU)
Result: PASS
------------------------------
PREREQUISITES
------------------------------
Prerequisite modules loaded:
requires:
Module Need Have
------------------- ----- --------
IO::File 0 1.16
Log::Log4perl 0 1.47
perl 5.008 5.024001
Scalar::Util 0 1.46
Test::More 0 1.302062
Text::SimpleTable 0 2.03
Time::HiRes 0 1.9740
build_requires:
Module Need Have
------------------- ----- --------
ExtUtils::MakeMaker 6.42 7.24
Test::More 0 1.302062
configure_requires:
Module Need Have
------------------- ----- --------
ExtUtils::MakeMaker 6.42 7.24
------------------------------
ENVIRONMENT AND OTHER CONTEXT
------------------------------
Environment variables:
LANG = C
LC_ALL = de_DE.UTF-8
PATH = /usr/local/bin:/usr/bin:/bin:/usr/local/sbin:/usr/sbin:/sbin:/home/cpansand/bin/linux-gnu:/home/cpansand/bin/sh:/home/cpansand/bin:/usr/games:/home/cpansand/devel:/home/eserte/src/srezic-misc/scripts
PERL5LIB =
PERL5OPT =
PERL5_CPANPLUS_IS_RUNNING = 25776
PERL5_CPAN_IS_RUNNING = 25776
PERL5_CPAN_IS_RUNNING_IN_RECURSION = 26398,25776
PERLDOC = -MPod::Perldoc::ToTextOverstrike
PERL_BATCH = yes
PERL_CANARY_STABILITY_NOPROMPT = 1
PERL_CPAN_REPORTER_CONFIG = /run/user/1023/cpansmoker/2016102912/cpanreporter_001_config.ini
PERL_EXTUTILS_AUTOINSTALL = --defaultdeps
PERL_PARALLEL_SMOKER = yes
PERL_USE_UNSAFE_INC = 1
SHELL = /bin/zsh
TERM = screen
TMPDIR = /run/user/1023/cpansmoker/2016102912
Perl special variables (and OS-specific diagnostics, for MSWin32):
$^X = /bbbike/perl-5.24.1-RC4/bin/perl
$UID/$EUID = 1023 / 1023
$GID = 1023 1023
$EGID = 1023 1023
Perl module toolchain versions installed:
Module Have
------------------- --------
CPAN 2.14
CPAN::Meta 2.150010
Cwd 3.62
ExtUtils::CBuilder 0.280224
ExtUtils::Command 7.24
ExtUtils::Install 2.04
ExtUtils::MakeMaker 7.24
ExtUtils::Manifest 1.70
ExtUtils::ParseXS 3.30
File::Spec 3.62
JSON 2.90
JSON::PP 2.27400
Module::Build 0.4220
Module::Signature 0.81
Parse::CPAN::Meta 2.150010
Test::Harness 3.36
Test::More 1.302062
YAML 1.18
YAML::Syck 1.29
version 0.9917
--
Summary of my perl5 (revision 5 version 24 subversion 1) configuration:
Platform:
osname=linux, osvers=3.16.0-4-amd64, archname=x86_64-linux
uname='linux eserte 3.16.0-4-amd64 #1 smp debian 3.16.36-1+deb8u1 (2016-09-03) x86_64 gnulinux '
config_args='-ds -e -Dprefix=/opt/perl-5.24.1-RC4 -Dcf_email=srezic@cpan.org'
hint=recommended, useposix=true, d_sigaction=define
useithreads=undef, usemultiplicity=undef
use64bitint=define, use64bitall=define, uselongdouble=undef
usemymalloc=n, bincompat5005=undef
Compiler:
cc='cc', ccflags ='-fwrapv -fno-strict-aliasing -pipe -fstack-protector-strong -I/usr/local/include -D_LARGEFILE_SOURCE -D_FILE_OFFSET_BITS=64 -D_FORTIFY_SOURCE=2',
optimize='-O2',
cppflags='-fwrapv -fno-strict-aliasing -pipe -fstack-protector-strong -I/usr/local/include'
ccversion='', gccversion='4.9.2', gccosandvers=''
intsize=4, longsize=8, ptrsize=8, doublesize=8, byteorder=12345678, doublekind=3
d_longlong=define, longlongsize=8, d_longdbl=define, longdblsize=16, longdblkind=3
ivtype='long', ivsize=8, nvtype='double', nvsize=8, Off_t='off_t', lseeksize=8
alignbytes=8, prototype=define
Linker and Libraries:
ld='cc', ldflags =' -fstack-protector-strong -L/usr/local/lib'
libpth=/usr/local/lib /usr/lib/gcc/x86_64-linux-gnu/4.9/include-fixed /usr/include/x86_64-linux-gnu /usr/lib /lib/x86_64-linux-gnu /lib/../lib /usr/lib/x86_64-linux-gnu /usr/lib/../lib /lib
libs=-lpthread -lnsl -lgdbm -ldb -ldl -lm -lcrypt -lutil -lc -lgdbm_compat
perllibs=-lpthread -lnsl -ldl -lm -lcrypt -lutil -lc
libc=libc-2.19.so, so=so, useshrplib=false, libperl=libperl.a
gnulibc_version='2.19'
Dynamic Linking:
dlsrc=dl_dlopen.xs, dlext=so, d_dlsymun=undef, ccdlflags='-Wl,-E'
cccdlflags='-fPIC', lddlflags='-shared -O2 -L/usr/local/lib -fstack-protector-strong'
Characteristics of this binary (from libperl):
Compile-time options: HAS_TIMES PERLIO_LAYERS PERL_COPY_ON_WRITE
PERL_DONT_CREATE_GVSV
PERL_HASH_FUNC_ONE_AT_A_TIME_HARD PERL_MALLOC_WRAP
PERL_PRESERVE_IVUV USE_64_BIT_ALL USE_64_BIT_INT
USE_LARGE_FILES USE_LOCALE USE_LOCALE_COLLATE
USE_LOCALE_CTYPE USE_LOCALE_NUMERIC USE_LOCALE_TIME
USE_PERLIO USE_PERL_ATOF
Locally applied patches:
RC4
Built under linux
Compiled at Oct 13 2016 07:07:53
%ENV:
PERL5LIB=""
PERL5OPT=""
PERL5_CPANPLUS_IS_RUNNING="25776"
PERL5_CPAN_IS_RUNNING="25776"
PERL5_CPAN_IS_RUNNING_IN_RECURSION="26398,25776"
PERLDOC="-MPod::Perldoc::ToTextOverstrike"
PERL_BATCH="yes"
PERL_CANARY_STABILITY_NOPROMPT="1"
PERL_CPAN_REPORTER_CONFIG="/run/user/1023/cpansmoker/2016102912/cpanreporter_001_config.ini"
PERL_EXTUTILS_AUTOINSTALL="--defaultdeps"
PERL_PARALLEL_SMOKER="yes"
PERL_USE_UNSAFE_INC="1"
@INC:
/opt/perl-5.24.1-RC4/lib/site_perl/5.24.1/x86_64-linux
/opt/perl-5.24.1-RC4/lib/site_perl/5.24.1
/opt/perl-5.24.1-RC4/lib/5.24.1/x86_64-linux
/opt/perl-5.24.1-RC4/lib/5.24.1
.