Bot-IRC v1.40 Perl 5 v5.18.3 x86_64-linux

Status
Pass
From
Chris Williams (BINGOS)
Dist
Bot-IRC v1.40
Platform
Perl 5 v5.18.3 x86_64-linux
Date
2023-08-23T13:47:26
ID
988ed098-41bb-11ee-98b0-b3c3213a625c
This distribution has been tested as part of the CPAN Testers
project, supporting the Perl programming language.  See
http://wiki.cpantesters.org/ for more information or email
questions to cpan-testers-discuss@perl.org


--

Dear GRYPHON,

This is a computer-generated error report created automatically by
CPANPLUS, version 0.9914. Testers personal comments may appear
at the end of this report.


Thank you for uploading your work to CPAN.  Congratulations!
All tests were successful.

TEST RESULTS:

Below is the error stack from stage 'make test':

PERL_DL_NONLAZY=1 "/home/cpan/pit/bare/perl-5.18.3/bin/perl" "-MExtUtils::Command::MM" "-MTest::Harness" "-e" "undef *Test::Harness::Switches; test_harness(0, 'blib/lib', 'blib/arch')" t/*.t
t/00-compile.t ........... ok
t/author-eol.t ........... skipped: these tests are for testing by the author
t/author-no-tabs.t ....... skipped: these tests are for testing by the author
t/author-pod-coverage.t .. skipped: these tests are for testing by the author
t/author-pod-syntax.t .... skipped: these tests are for testing by the author
t/author-portability.t ... skipped: these tests are for testing by the author
t/author-synopsis.t ...... skipped: these tests are for testing by the author
t/bot-irc-api.t .......... ok
t/bot-irc-run.t .......... ok
t/convert.t .............. ok
t/functions.t ............ ok
t/greeting.t ............. ok
t/history.t .............. ok
t/infobot.t .............. ok
t/join.t ................. ok
t/karma.t ................ ok
t/math.t ................. ok
t/ping.t ................. ok
t/release-kwalitee.t ..... skipped: these tests are for release candidate testing
t/seen.t ................. ok
t/store-sqlite.t ......... ok
t/store.t ................ ok
All tests successful.
Files=22, Tests=70,  5 wallclock secs ( 0.05 usr  0.02 sys +  3.68 cusr  0.64 csys =  4.39 CPU)
Result: PASS


PREREQUISITES:

Here is a list of prerequisites you specified and versions we
managed to load:

	  Module Name                        Have     Want
	  DBD::SQLite                        1.72        0
	  DBI                               1.643        0
	  Daemon::Device                     1.10        0
	  Date::Format                       2.24        0
	  Date::Parse                        2.33        0
	  DateTime                           1.59        0
	  DateTime::Format::Human::Duration     0.64        0
	  Email::Mailer                      1.19        0
	  Email::Valid                      1.203        0
	  Encode                             3.19        0
	  Encode::Detect::Detector           1.01        0
	  ExtUtils::MakeMaker                7.70        0
	  File::Grep                         0.02        0
	  File::Spec                         3.75        0
	  IO::Handle                         1.34        0
	  IO::Socket::IP                     0.42        0
	  IO::Socket::SSL                   2.083        0
	  IPC::Open3                         1.13        0
	  JSON::XS                           4.03        0
	  Math::Expression                   1.48        0
	  Math::Units                         1.3        0
	  Test2::Mock                    0.000155        0
	  Test2::V0                      0.000155        0
	  Test::Lib                         0.003        0
	  Test::More                     1.302195        0
	  Test::Output                      1.034        0
	  Time::Crontab                      0.04        0
	  YAML::XS                           0.88        0
	  exact                              1.22     1.14
	  exact::class                       1.18     1.10
	  strict                             1.07        0
	  warnings                           1.18        0

Perl module toolchain versions installed:
	Module Name                        Have
	CPANPLUS                         0.9914
	CPANPLUS::Dist::Build              0.90
	Cwd                                3.75
	ExtUtils::CBuilder             0.280236
	ExtUtils::Command                  7.70
	ExtUtils::Install                  2.22
	ExtUtils::MakeMaker                7.70
	ExtUtils::Manifest                 1.75
	ExtUtils::ParseXS                  3.44
	File::Spec                         3.75
	Module::Build                    0.4234
	Pod::Parser                        1.60
	Pod::Simple                        3.28
	Test2                          1.302195
	Test::Harness                      3.44
	Test::More                     1.302195
	version                          0.9929

******************************** NOTE ********************************
The comments above are created mechanically, possibly without manual
checking by the sender.  As there are many people performing automatic
tests on each upload to CPAN, it is likely that you will receive
identical messages about the same problem.

If you believe that the message is mistaken, please reply to the first
one with correction and/or additional informations, and do not take
it personally.  We appreciate your patience. :)
**********************************************************************

Additional comments:


This report was machine-generated by CPANPLUS::Dist::YACSmoke 1.08.
Powered by minismokebox version 0.68

CPANPLUS is prefering Build.PL

------------------------------
ENVIRONMENT AND OTHER CONTEXT
------------------------------

Environment variables:

    AUTOMATED_TESTING = 1
    LANG = C.UTF-8
    LC_COLLATE = C
    NONINTERACTIVE_TESTING = 1
    PATH = /usr/local/sbin:/usr/local/bin:/usr/sbin:/usr/bin:/sbin:/bin
    PERL5LIB = /home/cpan/pit/jail/R7L7gSYV9Q/lib/perl5:/home/cpan/pit/bare/conf/perl-5.18.3/.cpanplus/5.18.3/build/OL4njcJ1rM/Bot-IRC-1.40/blib/lib:/home/cpan/pit/bare/conf/perl-5.18.3/.cpanplus/5.18.3/build/OL4njcJ1rM/Bot-IRC-1.40/blib/arch
    PERL5_CPANPLUS_IS_RUNNING = 7382
    PERL5_CPANPLUS_IS_VERSION = 0.9914
    PERL5_MINISMOKEBOX = 0.68
    PERL5_YACSMOKE_BASE = /home/cpan/pit/bare/conf/perl-5.18.3
    PERL_EXTUTILS_AUTOINSTALL = --defaultdeps
    PERL_LOCAL_LIB_ROOT = /home/cpan/pit/jail/R7L7gSYV9Q
    PERL_MB_OPT = --install_base "/home/cpan/pit/jail/R7L7gSYV9Q"
    PERL_MM_OPT = INSTALL_BASE=/home/cpan/pit/jail/R7L7gSYV9Q
    PERL_MM_USE_DEFAULT = 1
    SHELL = /bin/bash
    TERM = screen

Perl special variables (and OS-specific diagnostics, for MSWin32):

    Perl: $^X = /home/cpan/pit/bare/perl-5.18.3/bin/perl
    UID:  $<  = 1001
    EUID: $>  = 1001
    GID:  $(  = 1001 1001
    EGID: $)  = 1001 1001


-------------------------------


--

Summary of my perl5 (revision 5 version 18 subversion 3) configuration:
   
  Platform:
    osname=linux, osvers=5.10.16-0-lts, archname=x86_64-linux
    uname='linux agaric 5.10.16-0-lts #1-alpine smp wed, 17 feb 2021 08:17:06 utc x86_64 linux '
    config_args='-des -Dprefix=/home/cpan/pit/bare/perl-5.18.3'
    hint=recommended, useposix=true, d_sigaction=define
    useithreads=undef, usemultiplicity=undef
    useperlio=define, d_sfio=undef, uselargefiles=define, usesocks=undef
    use64bitint=define, use64bitall=define, uselongdouble=undef
    usemymalloc=n, bincompat5005=undef
  Compiler:
    cc='cc', ccflags ='-D_GNU_SOURCE -fwrapv -fno-strict-aliasing -pipe -fstack-protector -D_LARGEFILE_SOURCE -D_FILE_OFFSET_BITS=64',
    optimize='-O2',
    cppflags='-D_GNU_SOURCE -fwrapv -fno-strict-aliasing -pipe -fstack-protector'
    ccversion='', gccversion='10.2.1 20201203', gccosandvers=''
    intsize=4, longsize=8, ptrsize=8, doublesize=8, byteorder=12345678
    d_longlong=define, longlongsize=8, d_longdbl=define, longdblsize=16
    ivtype='long', ivsize=8, nvtype='double', nvsize=8, Off_t='off_t', lseeksize=8
    alignbytes=8, prototype=define
  Linker and Libraries:
    ld='cc', ldflags =' -fstack-protector -L/usr/local/lib'
    libpth=/usr/local/lib /lib/../lib /usr/lib/../lib /lib /usr/lib
    libs=-lgdbm -ldl -lm -lcrypt -lutil -lc -lgdbm_compat
    perllibs=-ldl -lm -lcrypt -lutil -lc
    libc=/usr/lib/libc.a, so=so, useshrplib=false, libperl=libperl.a
    gnulibc_version=''
  Dynamic Linking:
    dlsrc=dl_dlopen.xs, dlext=so, d_dlsymun=undef, ccdlflags='-Wl,-E'
    cccdlflags='-fPIC', lddlflags='-shared -O2 -L/usr/local/lib -fstack-protector'


Characteristics of this binary (from libperl): 
  Compile-time options: HAS_TIMES PERLIO_LAYERS PERL_DONT_CREATE_GVSV
                        PERL_HASH_FUNC_ONE_AT_A_TIME_HARD PERL_MALLOC_WRAP
                        PERL_PRESERVE_IVUV PERL_SAWAMPERSAND USE_64_BIT_ALL
                        USE_64_BIT_INT USE_LARGE_FILES USE_LOCALE
                        USE_LOCALE_COLLATE USE_LOCALE_CTYPE
                        USE_LOCALE_NUMERIC USE_PERLIO USE_PERL_ATOF
  Locally applied patches:
	Devel::PatchPerl 2.08
  Built under linux
  Compiled at Mar 12 2021 00:55:17
  %ENV:
    PERL5LIB="/home/cpan/pit/jail/R7L7gSYV9Q/lib/perl5:/home/cpan/pit/bare/conf/perl-5.18.3/.cpanplus/5.18.3/build/OL4njcJ1rM/Bot-IRC-1.40/blib/lib:/home/cpan/pit/bare/conf/perl-5.18.3/.cpanplus/5.18.3/build/OL4njcJ1rM/Bot-IRC-1.40/blib/arch"
    PERL5_CPANPLUS_IS_RUNNING="7382"
    PERL5_CPANPLUS_IS_VERSION="0.9914"
    PERL5_MINISMOKEBOX="0.68"
    PERL5_YACSMOKE_BASE="/home/cpan/pit/bare/conf/perl-5.18.3"
    PERL_EXTUTILS_AUTOINSTALL="--defaultdeps"
    PERL_LOCAL_LIB_ROOT="/home/cpan/pit/jail/R7L7gSYV9Q"
    PERL_MB_OPT="--install_base "/home/cpan/pit/jail/R7L7gSYV9Q""
    PERL_MM_OPT="INSTALL_BASE=/home/cpan/pit/jail/R7L7gSYV9Q"
    PERL_MM_USE_DEFAULT="1"
  @INC:
    /home/cpan/pit/jail/R7L7gSYV9Q/lib/perl5/5.18.3/x86_64-linux
    /home/cpan/pit/jail/R7L7gSYV9Q/lib/perl5/5.18.3
    /home/cpan/pit/jail/R7L7gSYV9Q/lib/perl5/x86_64-linux
    /home/cpan/pit/jail/R7L7gSYV9Q/lib/perl5
    /home/cpan/pit/bare/conf/perl-5.18.3/.cpanplus/5.18.3/build/OL4njcJ1rM/Bot-IRC-1.40/blib/lib
    /home/cpan/pit/bare/conf/perl-5.18.3/.cpanplus/5.18.3/build/OL4njcJ1rM/Bot-IRC-1.40/blib/arch
    /home/cpan/pit/bare/perl-5.18.3/lib/site_perl/5.18.3/x86_64-linux
    /home/cpan/pit/bare/perl-5.18.3/lib/site_perl/5.18.3
    /home/cpan/pit/bare/perl-5.18.3/lib/5.18.3/x86_64-linux
    /home/cpan/pit/bare/perl-5.18.3/lib/5.18.3
    .