Data-FormValidator v4.88 Perl 5 v5.24.2 i386-linux-thread-multi

Status
Pass
From
ARTO
Dist
Data-FormValidator v4.88
Platform
Perl 5 v5.24.2 i386-linux-thread-multi
Date
2017-08-29 20:14:00
ID
9837d66a-8cf6-11e7-8547-01ae379c4e8a
This distribution has been tested as part of the CPAN Testers
project, supporting the Perl programming language.  See
http://wiki.cpantesters.org/ for more information or email
questions to cpan-testers-discuss@perl.org


--
Dear David Farrell,

This is a computer-generated report for Data-FormValidator-4.88
on perl 5.24.2, created by CPAN-Reporter-1.2018.

Thank you for uploading your work to CPAN.  Congratulations!
All tests were successful.

Sections of this report:

    * Tester comments
    * Program output
    * Prerequisites
    * Environment and other context

------------------------------
TESTER COMMENTS
------------------------------

Additional comments from tester:

none provided

------------------------------
PROGRAM OUTPUT
------------------------------

Output from '/usr/bin/make test':

PERL_DL_NONLAZY=1 "/usr/bin/perl" "-MExtUtils::Command::MM" "-MTest::Harness" "-e" "undef *Test::Harness::Switches; test_harness(0, 'blib/lib', 'blib/arch')" t/*.t
t/00_base.t .............................. ok
t/02_code_ref.t .......................... ok
t/03_dependency.t ........................ ok
t/04_arrayify_undef.t .................... ok
t/05_valid_ip_address.t .................. ok
t/06_regexp_map.t ........................ ok
t/09_require_some.t ...................... ok
t/11_procedural_match.t .................. ok
t/13_validator_packages.t ................ ok
t/15_literal_param_constraints.t ......... ok
t/16_cgi_object.t ........................ ok
t/17_multi_valued_keys.t ................. ok
t/18_constraint_refs.t ................... ok
t/19_refs_as_values.t .................... ok
t/20_careful_exception_handling.t ........ ok
t/21_multiple_fields.t ................... ok
t/25_results.t ........................... ok
t/26_qr.t ................................ ok
t/27_qualify_ref_happy_death.t ........... ok
t/28_defaults_for_new.t .................. ok
t/30_filter_definedness.t ................ ok
t/any_errors.t ........................... ok
t/check_profile_syntax.t ................. ok
t/closure_msgs.t ......................... ok
t/constraint_method.t .................... ok
t/constraint_method_string.t ............. ok
t/constraint_method_zero.t ............... ok
t/constraint_regexp_map_profile_reuse.t .. ok
t/constraints_builtin.t .................. ok
t/constraints_builtin_closure.t .......... ok
t/constraints_factory.t .................. ok
t/constraints_invalid_once_only.t ........ ok
t/constraints_num_values.t ............... ok
t/constraints_regexp_map_interaction.t ... ok
t/constraints_reuse.t .................... ok
t/credit_card.t .......................... ok
t/dates.t ................................ ok
t/dates_closure.t ........................ ok
t/dependency_coderef.t ................... ok
t/dependency_groups.t .................... ok
t/filter_constraints.t ................... ok
t/filters_builtin.t ...................... ok
t/filters_shouldnt_modify.t .............. ok
t/FV_length.t ............................ ok
t/get_filtered_data.t .................... ok
t/get_input_data.t ....................... ok
t/missing_optional.t ..................... ok
t/msgs.t ................................. ok
t/multiple_constraints.t ................. ok
t/params_not_mentioned.t ................. ok
t/pod.t .................................. ok
t/procedural_valid.t ..................... ok
t/profile_checking.t ..................... ok
t/regexp_common.t ........................ ok
t/regexp_common_closure.t ................ ok
t/rename_builtin_constraints.t ........... ok
t/results_success.t ...................... ok
t/simple.t ............................... ok
t/tt_and_overload.t ...................... ok
t/undefined_arrayref.t ................... ok
t/unknown.t .............................. ok
t/untaint.t .............................. ok
# Adding CGI::Simple tests
# testing with CGI.pm version: 4.36
# testing with CGI::Simple version: 1.115
# Running tests with CGI
# Running tests with CGI::Simple
t/upload.t ............................... ok
# testing with CGI.pm version: 4.36
t/upload_closure.t ....................... ok
t/upload_mime_types.t .................... ok
All tests successful.
Files=65, Tests=632, 29 wallclock secs ( 0.59 usr  0.10 sys + 19.98 cusr  2.27 csys = 22.94 CPU)
Result: PASS

------------------------------
PREREQUISITES
------------------------------

Prerequisite modules loaded:

requires:

    Module              Need  Have      
    ------------------- ----- ----------
    Date::Calc          5     6.4       
    Email::Valid        0     1.202     
    File::MMagic        1.17  1.30      
    File::Spec          0     3.63      
    Image::Size         0     3.300     
    MIME::Types         1.005 2.13      
    perl                5.008 5.024002  
    Regexp::Common      0.03  2017060201
    Scalar::Util        0     1.48      
    Test::More          0     1.302086  

build_requires:

    Module              Need  Have      
    ------------------- ----- ----------
    ExtUtils::MakeMaker 0     7.30      

configure_requires:

    Module              Need  Have      
    ------------------- ----- ----------
    ExtUtils::MakeMaker 0     7.30      


------------------------------
ENVIRONMENT AND OTHER CONTEXT
------------------------------

Environment variables:

    LANG = en
    LC_ADDRESS = en_US.iso88591
    LC_ALL = en_US.iso88591
    LC_COLLATE = en_US.iso88591
    LC_CTYPE = en_US.iso88591
    LC_IDENTIFICATION = en_US.iso88591
    LC_MEASUREMENT = en_US.iso88591
    LC_MESSAGES = en_US.iso88591
    LC_MONETARY = en_US.iso88591
    LC_NAME = en_US.iso88591
    LC_NUMERIC = en_US.iso88591
    LC_PAPER = A4
    LC_TELEPHONE = en_US.iso88591
    LC_TIME = POSIX
    NONINTERACTIVE_TESTING = 1
    PATH = /bin:/sbin:/usr/bin:/usr/sbin:/usr/local/bin:/usr/local/sbin
    PERL5LIB = 
    PERL5OPT = 
    PERL5_CPANPLUS_IS_RUNNING = 30289
    PERL5_CPAN_IS_RUNNING = 30289
    PERL_MM_USE_DEFAULT = 1
    SHELL = /bin/zsh

Perl special variables (and OS-specific diagnostics, for MSWin32):

    $^X = /usr/bin/perl
    $UID/$EUID = 500 / 500
    $GID = 500 10 12 157 466 480 487 493 494 500
    $EGID = 500 10 12 157 466 480 487 493 494 500

Perl module toolchain versions installed:

    Module              Have    
    ------------------- --------
    CPAN                2.16    
    CPAN::Meta          2.150010
    Cwd                 3.63    
    ExtUtils::CBuilder  0.280226
    ExtUtils::Command   7.30    
    ExtUtils::Install   2.14    
    ExtUtils::MakeMaker 7.30    
    ExtUtils::Manifest  1.70    
    ExtUtils::ParseXS   3.35    
    File::Spec          3.63    
    JSON                2.94    
    JSON::PP            2.94    
    Module::Build       0.4224  
    Module::Signature   0.81    
    Parse::CPAN::Meta   2.150010
    Test::Harness       3.39    
    Test::More          1.302086
    YAML                1.23    
    YAML::Syck          1.30    
    version             0.9918  


--

Summary of my perl5 (revision 5 version 24 subversion 2) configuration:
   
  Platform:
    osname=linux, osvers=4.11.5-200.fc25.x86_64, archname=i386-linux-thread-multi
    uname='linux buildvm-28.phx2.fedoraproject.org 4.11.5-200.fc25.x86_64 #1 smp wed jun 14 17:17:29 utc 2017 i686 i686 i386 gnulinux '
    config_args='-des -Doptimize=none -Dccflags=-O2 -g -pipe -Wall -Werror=format-security -Wp,-D_FORTIFY_SOURCE=2 -fexceptions -fstack-protector-strong --param=ssp-buffer-size=4 -grecord-gcc-switches  -m32 -march=i686 -fasynchronous-unwind-tables -Dldflags=-Wl,-z,relro  -Dccdlflags=-Wl,--enable-new-dtags -Wl,-z,relro  -Dlddlflags=-shared -Wl,-z,relro  -Dshrpdir=/usr/lib -DDEBUGGING=-g -Dversion=5.24.2 -Dmyhostname=localhost -Dperladmin=root@localhost -Dcc=gcc -Dcf_by=Red Hat, Inc. -Dprefix=/usr -Dvendorprefix=/usr -Dsiteprefix=/usr/local -Dsitelib=/usr/local/share/perl5 -Dsitearch=/usr/local/lib/perl5 -Dprivlib=/usr/share/perl5 -Dvendorlib=/usr/share/perl5/vendor_perl -Darchlib=/usr/lib/perl5 -Dvendorarch=/usr/lib/perl5/vendor_perl -Darchname=i386-linux-thread-multi -Duseshrplib -Dusethreads -Duseithreads -Dusedtrace=/usr/bin/dtrace -Duselargefiles -Dd_semctl_semun -Di_db -Ui_ndbm -Di_gdbm -Di_shadow -Di_syslog -Dman3ext=3pm -Duseperlio -Dinstallusrbinperl=n -Ubincompat5005 -Uversiononly -Dpager=/usr/bin/less -isr -Dd_gethostent_r_proto -Ud_endhostent_r_proto -Ud_sethostent_r_proto -Ud_endprotoent_r_proto -Ud_setprotoent_r_proto -Ud_endservent_r_proto -Ud_setservent_r_proto -Dscriptdir=/usr/bin -Dusesitecustomize -Duse64bitint1'
    hint=recommended, useposix=true, d_sigaction=define
    useithreads=define, usemultiplicity=define
    use64bitint=undef, use64bitall=undef, uselongdouble=undef
    usemymalloc=n, bincompat5005=undef
  Compiler:
    cc='gcc', ccflags ='-D_REENTRANT -D_GNU_SOURCE -O2 -g -pipe -Wall -Werror=format-security -Wp,-D_FORTIFY_SOURCE=2 -fexceptions -fstack-protector-strong --param=ssp-buffer-size=4 -grecord-gcc-switches -m32 -march=i686 -fasynchronous-unwind-tables -fwrapv -fno-strict-aliasing -I/usr/local/include -D_LARGEFILE_SOURCE -D_FILE_OFFSET_BITS=64',
    optimize='  -g',
    cppflags='-D_REENTRANT -D_GNU_SOURCE -O2 -g -pipe -Wall -Werror=format-security -Wp,-D_FORTIFY_SOURCE=2 -fexceptions -fstack-protector-strong --param=ssp-buffer-size=4 -grecord-gcc-switches -m32 -march=i686 -fasynchronous-unwind-tables -fwrapv -fno-strict-aliasing -I/usr/local/include'
    ccversion='', gccversion='7.1.1 20170622 (Red Hat 7.1.1-3)', gccosandvers=''
    intsize=4, longsize=4, ptrsize=4, doublesize=8, byteorder=1234, doublekind=3
    d_longlong=define, longlongsize=8, d_longdbl=define, longdblsize=12, longdblkind=3
    ivtype='long', ivsize=4, nvtype='double', nvsize=8, Off_t='off_t', lseeksize=8
    alignbytes=4, prototype=define
  Linker and Libraries:
    ld='gcc', ldflags ='-Wl,-z,relro  -fstack-protector-strong -L/usr/local/lib'
    libpth=/usr/local/lib /usr/lib /lib
    libs=-lpthread -lresolv -lnsl -lgdbm -ldb -ldl -lm -lcrypt -lutil -lc -lgdbm_compat
    perllibs=-lpthread -lresolv -lnsl -ldl -lm -lcrypt -lutil -lc
    libc=libc-2.25.so, so=so, useshrplib=true, libperl=libperl.so
    gnulibc_version='2.25'
  Dynamic Linking:
    dlsrc=dl_dlopen.xs, dlext=so, d_dlsymun=undef, ccdlflags='-Wl,--enable-new-dtags -Wl,-z,relro '
    cccdlflags='-fPIC', lddlflags='-shared -Wl,-z,relro  -L/usr/local/lib -fstack-protector-strong'


Characteristics of this binary (from libperl): 
  Compile-time options: HAS_TIMES MULTIPLICITY PERLIO_LAYERS
                        PERL_COPY_ON_WRITE PERL_DONT_CREATE_GVSV
                        PERL_HASH_FUNC_ONE_AT_A_TIME_HARD
                        PERL_IMPLICIT_CONTEXT PERL_MALLOC_WRAP
                        PERL_PRESERVE_IVUV USE_ITHREADS USE_LARGE_FILES
                        USE_LOCALE USE_LOCALE_COLLATE USE_LOCALE_CTYPE
                        USE_LOCALE_NUMERIC USE_LOCALE_TIME USE_PERLIO
                        USE_PERL_ATOF USE_REENTRANT_API USE_SITECUSTOMIZE
  Locally applied patches:
	Fedora Patch1: Removes date check, Fedora/RHEL specific
	Fedora Patch4: use libresolv instead of libbind
	Fedora Patch5: USE_MM_LD_RUN_PATH
	Fedora Patch6: Provide MM::maybe_command independently (bug #1129443)
	Fedora Patch7: Dont run one io test due to random builder failures
	Fedora Patch15: Define SONAME for libperl.so
	Fedora Patch16: Install libperl.so to -Dshrpdir value
	Fedora Patch22: Document Math::BigInt::CalcEmu requires Math::BigInt (CPAN RT#85015)
	Fedora Patch26: Make *DBM_File desctructors thread-safe (RT#61912)
	Fedora Patch27: Make PadlistNAMES() lvalue again (CPAN RT#101063)
	Fedora Patch28: Make magic vtable writable as a work-around for Coro (CPAN RT#101063)
	Fedora Patch30: Replace EU::MakeMaker dependency with EU::MM::Utils in IPC::Cmd (bug #1129443)
	Fedora Patch31: Fix a memory leak in compiling a POSIX class (RT#128313)
	Fedora Patch32: Do not mangle errno from failed socket calls (RT#128316)
	Fedora Patch33: Fix compiling regular expressions like /\X*(?0)/ (RT#128109)
	Fedora Patch34: Do not use unitialized memory in $h{\const} warnings (RT#128189)
	Fedora Patch35: Fix precedence in hv_ename_delete (RT#128086)
	Fedora Patch36: Do not treat %: as a stash (RT#128238)
	Fedora Patch37: Do not crash when inserting a non-stash into a stash (RT#128238)
	Fedora Patch38: Fix line numbers with perl -x (RT#128508)
	Fedora Patch40: Fix a crash when vivifying a stub in a deleted package (RT#128532)
	Fedora Patch41: Fix a crash in "Subroutine redefined" warning (RT#128257)
	Fedora Patch42: Fix a crash in lexical scope warnings (RT#128597)
	Fedora Patch43: Fix handling \N{} in tr for characters in range 128--255 (RT#128734)
	Fedora Patch45: Fix crash in "evalbytes S" (RT#129196)
	Fedora Patch46: Fix crash in "evalbytes S" (RT#129196)
	Fedora Patch47: Fix crash in "evalbytes S" (RT#129196)
	Fedora Petch48: Fix crash in splice (RT#129164, RT#129166, RT#129167)
	Fedora Patch49: Fix string overrun in Perl_gv_fetchmethod_pvn_flags (RT#129267)
	Fedora Patch50: Fix string overrun in Perl_gv_fetchmethod_pvn_flags (RT#129267)
	Fedora Patch51: Fix string overrun in Perl_gv_fetchmethod_pvn_flags (RT#129267)
	Fedora Patch52: Fix string overrun in Perl_gv_fetchmethod_pvn_flags (RT#129267)
	Fedora Patch53: Fix string overrun in Perl_gv_fetchmethod_pvn_flags (RT#129267)
	Fedora Patch54: Fix crash when matching UTF-8 string with non-UTF-8 substrings (RT#129350)
	Fedora Patch55: Fix parsing perl options in shell bang line (RT#129336)
	Fedora Patch56: Fix firstchar bitmap under UTF-8 with prefix optimization (RT#129950)
	Fedora Patch57: Avoid infinite loop in h2xs tool if enum and type have the same name (RT130001)
	Fedora Patch58: Fix stack handling when calling chdir without an argument (RT#129130)
	Fedora Patch59: Fix crash in Storable when deserializing malformed code reference (RT#68348, RT#130098)
	Fedora Patch60: Fix crash on explicit return from regular expression substitution (RT#130188)
	Fedora Patch61: Fix assigning split() return values to an array
	Fedora Patch62: Fix const correctness in hv_func.h (RT#130169)
	Fedora Patch63: Fix a crash in optimized evaluation of "or ((0) x 0))" (RT#130247)
	Fedora Patch64: Fix a memory leak in IO::Poll (RT#129788)
	Fedora Patch65: Fix regular expression matching (RT#130307)
	Fedora Patch66: Fix a buffer overflow in split in scalar context (RT#130262)
	Fedora Patch67: Fix a heap overflow with pack "W" (RT129149)
	Fedora Patch69: Fix a use-after-free when processing scalar variables in forms (RT#129125)
	Fedora Patch70: Fix a heap overflow if invalid octal or hexadecimal number is used in transliteration expression (RT#129342)
	Fedora Patch71: Fix out-of-bound read in case of unmatched regexp backreference (RT#129377)
	Fedora Patch72: Fix UTF-8 string handling in & operator (RT#129287)
	Fedora Patch73: Fix recreation of *:: (RT#129869)
	Fedora Patch74: Fix a memory leak in B::RHE->HASH method (RT#130504)
	Fedora Patch75: Fix parsing goto statements in multicalled subroutine (RT#113938)
	Fedora Patch76: Fix a heap overlow in parsing $# (RT#129274)
	Fedora Patch77: Adapt to zlib-1.2.11 (CPAN RT#119762)
	Fedora Patch78: Fix compiler fatal warnings in Compress-Raw-Zlib (CPAN RT#120272)
	Fedora Patch79: Fix a crash when compiling a regexp with impossible quantifiers (RT#130561)
	Fedora Patch82: Fix a buffer overrun with format and "use bytes" (RT#130703)
	Fedora Patch83: Fix a buffer overflow when studying some regexps repeatedly (RT#129281, RT#129061)
	Fedora Patch85: Fix a heap buffer overflow when evaluating regexps with embedded code blocks from more than one source, RT#129881
	Fedora Patch86: Fix a memory leak in list assignment from or to magic values, (RT#130766)
	Fedora Patch87: Fix a null-pointer dereference on malformed code (RT#130815)
	Fedora Patch88: Fix an use-after-free in substr() that modifies a magic variable (RT#129340)
	Fedora Patch89: Fix a memory leak leak in Perl_reg_named_buff_fetch() (RT#130822)
	Fedora Patch90: Fix an invalid memory read when parsing a loop variable (RT#130814)
	Fedora Patch94: Fix a heap-use-after-free in four-arguments substr call (RT#130624)
	Fedora Patch95: Make File::Glob more resistant against degenerative matching (RT#131211)
	Fedora Patch96: Fix a memory wrap in sv_vcatpvfn_flags() (RT#131260)
	Fedora Patch98: Fix a crash when calling a subroutine from a stash (RT#131085)
	Fedora Patch99: Fix an improper cast of a negative integer to an unsigned 8-bit type (RT#131190)
	Fedora Patch100: Fix cloning :via handles on thread creation (RT#131221)
	Fedora Patch102: Fix glob UTF-8 flag on a glob reassignment (RT#131263)
	Fedora Patch103: Fix a buffer overflow in my_atof2() (RT#131526)
	Fedora Patch105: Fix handling backslashes in PATH environment variable when executing "perl -S" (RT#129183)
	Fedora Patch106: Fix a conditional jump on uninitilized memory in re_intuit_start() (RT#131575)
	Fedora Patch107: Fix spurious "Assuming NOT a POSIX class" warning (RT#131522)
	Fedora Patch200: Link XS modules to libperl.so with EU::CBuilder on Linux
	Fedora Patch201: Link XS modules to libperl.so with EU::MM on Linux
  Built under linux
  Compiled at Jul 17 2017 11:46:20
  %ENV:
    PERL5LIB=""
    PERL5OPT=""
    PERL5_CPANPLUS_IS_RUNNING="30289"
    PERL5_CPAN_IS_RUNNING="30289"
    PERL_MM_USE_DEFAULT="1"
  @INC:
    /usr/local/lib/perl5
    /usr/local/share/perl5
    /usr/lib/perl5/vendor_perl
    /usr/share/perl5/vendor_perl
    /usr/lib/perl5
    /usr/share/perl5
    .