PDF-API2 v2.039 Perl 5 v5.32.0 x86_64-linux
        
            - Status
- Pass
- From
- Slaven Rezić
- Dist
- 
                PDF-API2 v2.039
            
- Platform
- Perl 5 v5.32.0 x86_64-linux
- Date
- 2021-03-04 20:24:16
- ID
- 979571fc-7d27-11eb-abdf-ea531f24ea8f
This distribution has been tested as part of the CPAN Testers
project, supporting the Perl programming language.  See
http://wiki.cpantesters.org/ for more information or email
questions to cpan-testers-discuss@perl.org
--
Dear Steve Simms,
This is a computer-generated report for PDF-API2-2.039
on perl 5.32.0, created by CPAN-Reporter-1.2018.
Thank you for uploading your work to CPAN.  Congratulations!
All tests were successful.
Sections of this report:
    * Tester comments
    * Program output
    * Prerequisites
    * Environment and other context
------------------------------
TESTER COMMENTS
------------------------------
Additional comments from tester:
none provided
------------------------------
PROGRAM OUTPUT
------------------------------
Output from '/usr/bin/make test':
PERL_DL_NONLAZY=1 "/opt/perl-5.32.0/bin/perl" "-MExtUtils::Command::MM" "-MTest::Harness" "-e" "undef *Test::Harness::Switches; test_harness(0, 'blib/lib', 'blib/arch')" t/*.t
t/00-all-usable.t ........... ok
t/01-basic.t ................ ok
t/02-xrefstm.t .............. ok
t/03-xrefstm-index.t ........ ok
t/annotate.t ................ ok
t/author-critic.t ........... skipped: these tests are for testing by the author
t/author-pod-syntax.t ....... skipped: these tests are for testing by the author
t/barcode.t ................. ok
t/bbox.t .................... ok
t/circular-references.t ..... ok
t/cmap.t .................... ok
t/content.t ................. ok
t/cs-webcolor.t ............. ok
t/deprecations.t ............ ok
t/extgstate.t ............... ok
t/filter-ascii85decode.t .... ok
t/filter-asciihexdecode.t ... ok
t/filter-runlengthdecode.t .. ok
t/font-corefont.t ........... ok
t/font-synfont.t ............ ok
t/font-ttf.t ................ ok
t/font-type1.t .............. ok
t/gd.t ...................... ok
t/gif.t ..................... ok
t/jpg.t ..................... ok
t/lite.t .................... ok
t/outline.t ................. ok
t/page.t .................... ok
t/papersizes.t .............. ok
t/pdf.t ..................... ok
t/png.t ..................... ok
t/pnm.t ..................... ok
t/rt120397.t ................ ok
t/rt120450.t ................ ok
t/rt126274.t ................ ok
t/rt67767.t ................. ok
t/rt69503.t ................. ok
t/string.t .................. ok
t/text.t .................... ok
t/tiff.t .................... ok
t/viewer-preferences.t ...... ok
All tests successful.
Files=41, Tests=593, 10 wallclock secs ( 0.31 usr  0.11 sys +  8.81 cusr  1.30 csys = 10.53 CPU)
Result: PASS
------------------------------
PREREQUISITES
------------------------------
Prerequisite modules loaded:
requires:
    Module              Need     Have    
    ------------------- -------- --------
    Compress::Zlib      1.0      2.093   
    Font::TTF           0        1.06    
    perl                5.010000 5.032000
build_requires:
    Module              Need     Have    
    ------------------- -------- --------
    ExtUtils::MakeMaker 0        7.44    
    Test::Exception     0        0.43    
    Test::Memory::Cycle 0        1.06    
configure_requires:
    Module              Need     Have    
    ------------------- -------- --------
    ExtUtils::MakeMaker 0        7.44    
------------------------------
ENVIRONMENT AND OTHER CONTEXT
------------------------------
Environment variables:
    LANG = en_US.UTF-8
    PATH = /usr/local/bin:/usr/bin:/bin:/usr/local/sbin:/usr/sbin:/sbin:/home/cpansand/bin/linux-gnu:/home/cpansand/bin/sh:/home/cpansand/bin:/usr/games:/home/cpansand/devel:/home/eserte/src/srezic-misc/scripts
    PERL5LIB = /home/cpansand/.cpan/build/2021030420/Font-TTF-1.06-1/blib/arch:/home/cpansand/.cpan/build/2021030420/Font-TTF-1.06-1/blib/lib:/home/cpansand/.cpan/build/2021030420/IO-String-1.08-1/blib/arch:/home/cpansand/.cpan/build/2021030420/IO-String-1.08-1/blib/lib:/home/cpansand/.cpan/build/2021030420/Image-Info-1.42-0/blib/arch:/home/cpansand/.cpan/build/2021030420/Image-Info-1.42-0/blib/lib:/home/cpansand/.cpan/build/2021030420/File-LoadLines-1.020.2-0/blib/arch:/home/cpansand/.cpan/build/2021030420/File-LoadLines-1.020.2-0/blib/lib:/home/cpansand/.cpan/build/2021030420/App-Packager-1.430.1-0/blib/arch:/home/cpansand/.cpan/build/2021030420/App-Packager-1.430.1-0/blib/lib
    PERL5OPT = 
    PERL5_CPANPLUS_IS_RUNNING = 396125
    PERL5_CPAN_IS_RUNNING = 396125
    PERL5_CPAN_IS_RUNNING_IN_RECURSION = 380046,396125
    PERLDOC = -MPod::Perldoc::ToTextOverstrike
    PERL_BATCH = yes
    PERL_CANARY_STABILITY_NOPROMPT = 1
    PERL_CPAN_REPORTER_CONFIG = /var/tmp/cpansmoker-1023/2021030420/cpanreporter_000_config.ini
    PERL_EXTUTILS_AUTOINSTALL = --defaultdeps
    PERL_USE_UNSAFE_INC = 1
    SHELL = /usr/bin/zsh
    TERM = screen
    TMPDIR = /var/tmp/cpansmoker-1023/2021030420
Perl special variables (and OS-specific diagnostics, for MSWin32):
    $^X = /opt/perl-5.32.0/bin/perl
    $UID/$EUID = 1023 / 1023
    $GID = 1023 1023
    $EGID = 1023 1023
Perl module toolchain versions installed:
    Module              Have    
    ------------------- --------
    CPAN                2.27    
    CPAN::Meta          2.150010
    Cwd                 3.78    
    ExtUtils::CBuilder  0.280234
    ExtUtils::Command   7.44    
    ExtUtils::Install   2.14    
    ExtUtils::MakeMaker 7.44    
    ExtUtils::Manifest  1.72    
    ExtUtils::ParseXS   3.40    
    File::Spec          3.78    
    JSON                4.02    
    JSON::PP            4.04    
    Module::Build       0.4231  
    Module::Signature   n/a     
    Parse::CPAN::Meta   2.150010
    Test::Harness       3.42    
    Test::More          1.302175
    YAML                1.30    
    YAML::Syck          1.32    
    version             0.9924  
--
Summary of my perl5 (revision 5 version 32 subversion 0) configuration:
   
  Platform:
    osname=linux
    osvers=5.6.16-200.fc31.x86_64
    archname=x86_64-linux
    uname='linux cloud4.bbbike.org 5.6.16-200.fc31.x86_64 #1 smp thu jun 4 18:07:41 utc 2020 x86_64 x86_64 x86_64 gnulinux '
    config_args='-ds -e -Dprefix=/opt/perl-5.32.0 -Dcf_email=srezic@cpan.org'
    hint=recommended
    useposix=true
    d_sigaction=define
    useithreads=undef
    usemultiplicity=undef
    use64bitint=define
    use64bitall=define
    uselongdouble=undef
    usemymalloc=n
    default_inc_excludes_dot=define
    bincompat5005=undef
  Compiler:
    cc='cc'
    ccflags ='-fwrapv -fno-strict-aliasing -pipe -fstack-protector-strong -I/usr/local/include -D_LARGEFILE_SOURCE -D_FILE_OFFSET_BITS=64 -D_FORTIFY_SOURCE=2'
    optimize='-O2'
    cppflags='-fwrapv -fno-strict-aliasing -pipe -fstack-protector-strong -I/usr/local/include'
    ccversion=''
    gccversion='9.3.1 20200408 (Red Hat 9.3.1-2)'
    gccosandvers=''
    intsize=4
    longsize=8
    ptrsize=8
    doublesize=8
    byteorder=12345678
    doublekind=3
    d_longlong=define
    longlongsize=8
    d_longdbl=define
    longdblsize=16
    longdblkind=3
    ivtype='long'
    ivsize=8
    nvtype='double'
    nvsize=8
    Off_t='off_t'
    lseeksize=8
    alignbytes=8
    prototype=define
  Linker and Libraries:
    ld='cc'
    ldflags =' -fstack-protector-strong -L/usr/local/lib'
    libpth=/usr/local/lib /usr/lib /lib/../lib64 /usr/lib/../lib64 /lib /lib64 /usr/lib64 /usr/local/lib64
    libs=-lpthread -ldb -ldl -lm -lcrypt -lutil -lc
    perllibs=-lpthread -ldl -lm -lcrypt -lutil -lc
    libc=libc-2.30.so
    so=so
    useshrplib=false
    libperl=libperl.a
    gnulibc_version='2.30'
  Dynamic Linking:
    dlsrc=dl_dlopen.xs
    dlext=so
    d_dlsymun=undef
    ccdlflags='-Wl,-E'
    cccdlflags='-fPIC'
    lddlflags='-shared -O2 -L/usr/local/lib -fstack-protector-strong'
Characteristics of this binary (from libperl): 
  Compile-time options:
    HAS_TIMES
    PERLIO_LAYERS
    PERL_COPY_ON_WRITE
    PERL_DONT_CREATE_GVSV
    PERL_MALLOC_WRAP
    PERL_OP_PARENT
    PERL_PRESERVE_IVUV
    USE_64_BIT_ALL
    USE_64_BIT_INT
    USE_LARGE_FILES
    USE_LOCALE
    USE_LOCALE_COLLATE
    USE_LOCALE_CTYPE
    USE_LOCALE_NUMERIC
    USE_LOCALE_TIME
    USE_PERLIO
    USE_PERL_ATOF
  Built under linux
  Compiled at Jun 21 2020 09:16:25
  %ENV:
    PERL5LIB="/home/cpansand/.cpan/build/2021030420/Font-TTF-1.06-1/blib/arch:/home/cpansand/.cpan/build/2021030420/Font-TTF-1.06-1/blib/lib:/home/cpansand/.cpan/build/2021030420/IO-String-1.08-1/blib/arch:/home/cpansand/.cpan/build/2021030420/IO-String-1.08-1/blib/lib:/home/cpansand/.cpan/build/2021030420/Image-Info-1.42-0/blib/arch:/home/cpansand/.cpan/build/2021030420/Image-Info-1.42-0/blib/lib:/home/cpansand/.cpan/build/2021030420/File-LoadLines-1.020.2-0/blib/arch:/home/cpansand/.cpan/build/2021030420/File-LoadLines-1.020.2-0/blib/lib:/home/cpansand/.cpan/build/2021030420/App-Packager-1.430.1-0/blib/arch:/home/cpansand/.cpan/build/2021030420/App-Packager-1.430.1-0/blib/lib"
    PERL5OPT=""
    PERL5_CPANPLUS_IS_RUNNING="396125"
    PERL5_CPAN_IS_RUNNING="396125"
    PERL5_CPAN_IS_RUNNING_IN_RECURSION="380046,396125"
    PERLDOC="-MPod::Perldoc::ToTextOverstrike"
    PERL_BATCH="yes"
    PERL_CANARY_STABILITY_NOPROMPT="1"
    PERL_CPAN_REPORTER_CONFIG="/var/tmp/cpansmoker-1023/2021030420/cpanreporter_000_config.ini"
    PERL_EXTUTILS_AUTOINSTALL="--defaultdeps"
    PERL_USE_UNSAFE_INC="1"
  @INC:
    /home/cpansand/.cpan/build/2021030420/Font-TTF-1.06-1/blib/arch
    /home/cpansand/.cpan/build/2021030420/Font-TTF-1.06-1/blib/lib
    /home/cpansand/.cpan/build/2021030420/IO-String-1.08-1/blib/arch
    /home/cpansand/.cpan/build/2021030420/IO-String-1.08-1/blib/lib
    /home/cpansand/.cpan/build/2021030420/Image-Info-1.42-0/blib/arch
    /home/cpansand/.cpan/build/2021030420/Image-Info-1.42-0/blib/lib
    /home/cpansand/.cpan/build/2021030420/File-LoadLines-1.020.2-0/blib/arch
    /home/cpansand/.cpan/build/2021030420/File-LoadLines-1.020.2-0/blib/lib
    /home/cpansand/.cpan/build/2021030420/App-Packager-1.430.1-0/blib/arch
    /home/cpansand/.cpan/build/2021030420/App-Packager-1.430.1-0/blib/lib
    /opt/perl-5.32.0/lib/site_perl/5.32.0/x86_64-linux
    /opt/perl-5.32.0/lib/site_perl/5.32.0
    /opt/perl-5.32.0/lib/5.32.0/x86_64-linux
    /opt/perl-5.32.0/lib/5.32.0
    .