Back
From: metabase:user:30f4dfbe-2aae-11df-837a-5e0a49663a4f
Subject: PASS MooseX-WithCache-0.01002 v5.12.0 GNU/Linux
Date: 2012-02-20T19:53:42Z
This distribution has been tested as part of the CPAN Testers
project, supporting the Perl programming language. See
http://wiki.cpantesters.org/ for more information or email
questions to cpan-testers-discuss@perl.org
--
Dear Daisuke Maki,
This is a computer-generated report for MooseX-WithCache-0.01002
on perl 5.12.0, created by CPAN-Reporter-1.2003.
Thank you for uploading your work to CPAN. Congratulations!
All tests were successful.
Sections of this report:
* Tester comments
* Program output
* Prerequisites
* Environment and other context
------------------------------
TESTER COMMENTS
------------------------------
Additional comments from tester:
this report is from an automated smoke testing program
and was not reviewed by a human for accuracy
------------------------------
PROGRAM OUTPUT
------------------------------
Output from '/usr/bin/make test':
PERL_DL_NONLAZY=1 /home/njh/perl5/perlbrew/perls/perl-5.12.0/bin/perl "-MExtUtils::Command::MM" "-e" "test_harness(0, 'inc', 'blib/lib', 'blib/arch')" t/*.t t/*/*.t
t/00_compile.t ............... ok
# found Cache::Memcached...
# testig with Cache::Memcached...
# Specifying with memcached object...
# Specifying with hashref ...
t/02_memcached.t ............. ok
must specify either 'datastore' hashref or 'global' flag at /home/njh/perl5/perlbrew/perls/perl-5.12.0/lib/site_perl/5.12.0/CHI/Driver/Memory.pm line 37
CHI::Driver::Memory::BUILD('Moose::Meta::Class::__ANON__::SERIAL::4=HASH(0x38131c0)', 'HASH(0x386b0e0)') called at /home/njh/perl5/perlbrew/perls/perl-5.12.0/lib/site_perl/5.12.0/x86_64-linux/Class/MOP/Method.pm line 125
Class::MOP::Method::execute('Moose::Meta::Method=HASH(0x3836600)', 'Moose::Meta::Class::__ANON__::SERIAL::4=HASH(0x38131c0)', 'HASH(0x386b0e0)') called at /home/njh/perl5/perlbrew/perls/perl-5.12.0/lib/site_perl/5.12.0/x86_64-linux/Moose/Object.pm line 59
Moose::Object::BUILDALL('Moose::Meta::Class::__ANON__::SERIAL::4=HASH(0x38131c0)', 'HASH(0x386b0e0)') called at /home/njh/perl5/perlbrew/perls/perl-5.12.0/lib/site_perl/5.12.0/x86_64-linux/Moose/Meta/Class.pm line 278
Moose::Meta::Class::new_object('Moose::Meta::Class=HASH(0x3778220)', 'HASH(0x386b0e0)') called at /home/njh/perl5/perlbrew/perls/perl-5.12.0/lib/site_perl/5.12.0/x86_64-linux/Moose/Object.pm line 28
Moose::Object::new('Moose::Meta::Class::__ANON__::SERIAL::4', 'chi_root_class', 'CHI', 'driver_class', 'CHI::Driver::Memory') called at constructor CHI::Driver::Memory::new (defined at /home/njh/perl5/perlbrew/perls/perl-5.12.0/lib/site_perl/5.12.0/CHI/Driver/Memory.pm line 18) line 4
CHI::Driver::Memory::new('Moose::Meta::Class::__ANON__::SERIAL::4', 'chi_root_class', 'CHI', 'driver_class', 'CHI::Driver::Memory') called at /home/njh/perl5/perlbrew/perls/perl-5.12.0/lib/site_perl/5.12.0/CHI.pm line 77
CHI::new('CHI', 'driver', 'Memory') called at t/03_chi.t line 29
t/03_chi.t ................... ok
t/04_fastmmap.t .............. ok
t/deprecated/00_compile.t .... ok
# found Cache::Memcached...
# testig with Cache::Memcached...
t/deprecated/02_memcached.t .. ok
must specify either 'datastore' hashref or 'global' flag at /home/njh/perl5/perlbrew/perls/perl-5.12.0/lib/site_perl/5.12.0/CHI/Driver/Memory.pm line 37
CHI::Driver::Memory::BUILD('Moose::Meta::Class::__ANON__::SERIAL::4=HASH(0x2447f30)', 'HASH(0x249dc28)') called at /home/njh/perl5/perlbrew/perls/perl-5.12.0/lib/site_perl/5.12.0/x86_64-linux/Class/MOP/Method.pm line 125
Class::MOP::Method::execute('Moose::Meta::Method=HASH(0x24698c8)', 'Moose::Meta::Class::__ANON__::SERIAL::4=HASH(0x2447f30)', 'HASH(0x249dc28)') called at /home/njh/perl5/perlbrew/perls/perl-5.12.0/lib/site_perl/5.12.0/x86_64-linux/Moose/Object.pm line 59
Moose::Object::BUILDALL('Moose::Meta::Class::__ANON__::SERIAL::4=HASH(0x2447f30)', 'HASH(0x249dc28)') called at /home/njh/perl5/perlbrew/perls/perl-5.12.0/lib/site_perl/5.12.0/x86_64-linux/Moose/Meta/Class.pm line 278
Moose::Meta::Class::new_object('Moose::Meta::Class=HASH(0x23a6838)', 'HASH(0x249dc28)') called at /home/njh/perl5/perlbrew/perls/perl-5.12.0/lib/site_perl/5.12.0/x86_64-linux/Moose/Object.pm line 28
Moose::Object::new('Moose::Meta::Class::__ANON__::SERIAL::4', 'chi_root_class', 'CHI', 'driver_class', 'CHI::Driver::Memory') called at constructor CHI::Driver::Memory::new (defined at /home/njh/perl5/perlbrew/perls/perl-5.12.0/lib/site_perl/5.12.0/CHI/Driver/Memory.pm line 18) line 4
CHI::Driver::Memory::new('Moose::Meta::Class::__ANON__::SERIAL::4', 'chi_root_class', 'CHI', 'driver_class', 'CHI::Driver::Memory') called at /home/njh/perl5/perlbrew/perls/perl-5.12.0/lib/site_perl/5.12.0/CHI.pm line 77
CHI::new('CHI', 'driver', 'Memory') called at t/deprecated/03_chi.t line 30
t/deprecated/03_chi.t ........ ok
t/deprecated/04_fastmmap.t ... ok
All tests successful.
Files=8, Tests=144, 5 wallclock secs ( 0.06 usr 0.03 sys + 3.93 cusr 0.42 csys = 4.44 CPU)
Result: PASS
------------------------------
PREREQUISITES
------------------------------
Prerequisite modules loaded:
requires:
Module Need Have
--------------------------- ----- --------
Cache::Memcached 0 1.29
Data::Dumper 0 2.131
Digest::MD5 0 2.51
Moose 0.59 2.0401
MooseX::Role::Parameterized 0 1.00
perl 5.008 5.012000
build_requires:
Module Need Have
--------------------------- ----- --------
ExtUtils::MakeMaker 6.42 6.62
IO::Socket::INET 0 1.31
Test::Exception 0 0.31
Test::More 0 0.98
configure_requires:
Module Need Have
--------------------------- ----- --------
ExtUtils::MakeMaker 6.42 6.62
------------------------------
ENVIRONMENT AND OTHER CONTEXT
------------------------------
Environment variables:
AUTOMATED_TESTING = 1
LANG = en_GB.UTF-8
LANGUAGE = en_GB:en
PATH = /home/njh/perl5/perlbrew/bin:/home/njh/perl5/perlbrew/perls/perl-5.12.0/bin:/usr/bin:/bin
PERL5LIB = /home/njh/.cpan/build/MooseX-Role-Parameterized-1.00-31tOBS/blib/arch:/home/njh/.cpan/build/MooseX-Role-Parameterized-1.00-31tOBS/blib/lib:/home/njh/.cpan/build/URL-Encode-0.01-anZE2E/blib/arch:/home/njh/.cpan/build/URL-Encode-0.01-anZE2E/blib/lib:/home/njh/.cpan/build/Cache-FastMmap-1.40-hUQqrH/blib/arch:/home/njh/.cpan/build/Cache-FastMmap-1.40-hUQqrH/blib/lib:/home/njh/.cpan/build/MooseX-Aliases-0.10-vOxLIm/blib/arch:/home/njh/.cpan/build/MooseX-Aliases-0.10-vOxLIm/blib/lib
PERL5OPT =
PERL5_CPANPLUS_IS_RUNNING = 30835
PERL5_CPAN_IS_RUNNING = 30835
PERL5_MINISMOKEBOX = 0.54
PERL_EXTUTILS_AUTOINSTALL = --defaultdeps
PERL_MM_USE_DEFAULT = 1
SHELL = /bin/sh
Perl special variables (and OS-specific diagnostics, for MSWin32):
$^X = /home/njh/perl5/perlbrew/perls/perl-5.12.0/bin/perl
$UID/$EUID = 1000 / 1000
$GID = 1000 24 25 29 30 44 46 108 112 1000
$EGID = 1000 24 25 29 30 44 46 108 112 1000
Perl module toolchain versions installed:
Module Have
------------------- --------
CPAN 1.9800
CPAN::Meta 2.113640
Cwd 3.33
ExtUtils::CBuilder 0.280202
ExtUtils::Command 1.17
ExtUtils::Install 1.55
ExtUtils::MakeMaker 6.62
ExtUtils::Manifest 1.60
ExtUtils::ParseXS 3.11
File::Spec 3.33
JSON 2.53
JSON::PP 2.27200
Module::Build 0.3800
Module::Signature 0.68
Parse::CPAN::Meta 1.4401
Test::Harness 3.23
Test::More 0.98
YAML 0.78
YAML::Syck 1.19
version 0.95
--
Summary of my perl5 (revision 5 version 12 subversion 0) configuration:
Platform:
osname=linux, osvers=3.1.0-1-amd64, archname=x86_64-linux
uname='linux gateway 3.1.0-1-amd64 #1 smp tue jan 10 05:01:58 utc 2012 x86_64 gnulinux '
config_args='-de -Dprefix=/home/njh/perl5/perlbrew/perls/perl-5.12.0 -D_FORTIFY_SOURCE=2 -Accflags=-O2'
hint=recommended, useposix=true, d_sigaction=define
useithreads=undef, usemultiplicity=undef
useperlio=define, d_sfio=undef, uselargefiles=define, usesocks=undef
use64bitint=define, use64bitall=define, uselongdouble=undef
usemymalloc=n, bincompat5005=undef
Compiler:
cc='cc', ccflags ='-O2 -fno-strict-aliasing -pipe -fstack-protector -I/usr/local/include -D_LARGEFILE_SOURCE -D_FILE_OFFSET_BITS=64',
optimize='-O2',
cppflags='-O2 -fno-strict-aliasing -pipe -fstack-protector -I/usr/local/include'
ccversion='', gccversion='4.6.2', gccosandvers=''
intsize=4, longsize=8, ptrsize=8, doublesize=8, byteorder=12345678
d_longlong=define, longlongsize=8, d_longdbl=define, longdblsize=16
ivtype='long', ivsize=8, nvtype='double', nvsize=8, Off_t='off_t', lseeksize=8
alignbytes=8, prototype=define
Linker and Libraries:
ld='cc', ldflags =' -fstack-protector -L/usr/local/lib'
libpth=/usr/local/lib /lib/x86_64-linux-gnu /lib/../lib /usr/lib/x86_64-linux-gnu /usr/lib/../lib /lib /usr/lib
libs=-lnsl -ldb -ldl -lm -lcrypt -lutil -lc
perllibs=-lnsl -ldl -lm -lcrypt -lutil -lc
libc=, so=so, useshrplib=false, libperl=libperl.a
gnulibc_version='2.13'
Dynamic Linking:
dlsrc=dl_dlopen.xs, dlext=so, d_dlsymun=undef, ccdlflags='-Wl,-E'
cccdlflags='-fPIC', lddlflags='-shared -O2 -L/usr/local/lib -fstack-protector'
Characteristics of this binary (from libperl):
Compile-time options: PERL_DONT_CREATE_GVSV PERL_MALLOC_WRAP USE_64_BIT_ALL
USE_64_BIT_INT USE_LARGE_FILES USE_PERLIO
USE_PERL_ATOF
Built under linux
Compiled at Jan 16 2012 12:14:29
%ENV:
PERL5LIB="/home/njh/.cpan/build/MooseX-Role-Parameterized-1.00-31tOBS/blib/arch:/home/njh/.cpan/build/MooseX-Role-Parameterized-1.00-31tOBS/blib/lib:/home/njh/.cpan/build/URL-Encode-0.01-anZE2E/blib/arch:/home/njh/.cpan/build/URL-Encode-0.01-anZE2E/blib/lib:/home/njh/.cpan/build/Cache-FastMmap-1.40-hUQqrH/blib/arch:/home/njh/.cpan/build/Cache-FastMmap-1.40-hUQqrH/blib/lib:/home/njh/.cpan/build/MooseX-Aliases-0.10-vOxLIm/blib/arch:/home/njh/.cpan/build/MooseX-Aliases-0.10-vOxLIm/blib/lib"
PERL5OPT=""
PERL5_CPANPLUS_IS_RUNNING="30835"
PERL5_CPAN_IS_RUNNING="30835"
PERL5_MINISMOKEBOX="0.54"
PERL_EXTUTILS_AUTOINSTALL="--defaultdeps"
PERL_MM_USE_DEFAULT="1"
@INC:
/home/njh/.cpan/build/MooseX-Role-Parameterized-1.00-31tOBS/blib/arch
/home/njh/.cpan/build/MooseX-Role-Parameterized-1.00-31tOBS/blib/lib
/home/njh/.cpan/build/URL-Encode-0.01-anZE2E/blib/arch
/home/njh/.cpan/build/URL-Encode-0.01-anZE2E/blib/lib
/home/njh/.cpan/build/Cache-FastMmap-1.40-hUQqrH/blib/arch
/home/njh/.cpan/build/Cache-FastMmap-1.40-hUQqrH/blib/lib
/home/njh/.cpan/build/MooseX-Aliases-0.10-vOxLIm/blib/arch
/home/njh/.cpan/build/MooseX-Aliases-0.10-vOxLIm/blib/lib
/home/njh/perl5/perlbrew/perls/perl-5.12.0/lib/site_perl/5.12.0/x86_64-linux
/home/njh/perl5/perlbrew/perls/perl-5.12.0/lib/site_perl/5.12.0
/home/njh/perl5/perlbrew/perls/perl-5.12.0/lib/5.12.0/x86_64-linux
/home/njh/perl5/perlbrew/perls/perl-5.12.0/lib/5.12.0
.