Archive-Tar-Wrapper v0.33 Perl 5 v5.29.5 amd64-netbsd

Status
Pass
From
Carlos Guevara
Dist
Archive-Tar-Wrapper v0.33
Platform
Perl 5 v5.29.5 amd64-netbsd
Date
2018-11-12 13:12:20
ID
96648c3a-e67c-11e8-8ae4-d2fe6245a0ab
This distribution has been tested as part of the CPAN Testers
project, supporting the Perl programming language.  See
http://wiki.cpantesters.org/ for more information or email
questions to cpan-testers-discuss@perl.org


--
Dear Alceu Rodrigues de Freitas Junior,

This is a computer-generated report for Archive-Tar-Wrapper-0.33
on perl 5.29.5, created by CPAN-Reporter-1.2018.

Thank you for uploading your work to CPAN.  Congratulations!
All tests were successful.

Sections of this report:

    * Tester comments
    * Program output
    * Prerequisites
    * Environment and other context

------------------------------
TESTER COMMENTS
------------------------------

Additional comments from tester:

none provided

------------------------------
PROGRAM OUTPUT
------------------------------

Output from '/usr/bin/make test':

PERL_DL_NONLAZY=1 "/home/cpan/bin/perl-blead/bin/perl5.29.5" "-MExtUtils::Command::MM" "-MTest::Harness" "-e" "undef *Test::Harness::Switches; test_harness(0, 'blib/lib', 'blib/arch')" t/*.t
t/001Basic.t .............. ok
t/002Mult.t ............... ok
t/003Dirs.t ............... ok
t/004Utf8.t ............... ok
t/005Cwd.t ................ ok
t/006DirPerms.t ........... ok
t/007bzip.t ............... ok
# with grep: Ran 1403 iterations (394 outliers).
# with grep: Rounded run time per iteration: 0.000607 +/- 0.000000 (0.0%)
# with grep and compiled regex: Ran 1337 iterations (337 outliers).
# with grep and compiled regex: Rounded run time per iteration: 0.000953 +/- 0.000000 (0.0%)
# with eq: Ran 1473 iterations (462 outliers).
# with eq: Rounded run time per iteration: 0.000496 +/- 0.000000 (0.0%)
# with enhanced eq: Ran 1546 iterations (391 outliers).
# with enhanced eq: Rounded run time per iteration: 0.000449 +/- 0.000000 (0.0%)
# with enhanced eq mark2: Ran 1274 iterations (253 outliers).
# with enhanced eq mark2: Rounded run time per iteration: 0.000326 +/- 0.000000 (0.0%)
# with enhanced eq mark3: Ran 1704 iterations (494 outliers).
# with enhanced eq mark3: Rounded run time per iteration: 0.000240 +/- 0.000000 (0.0%)
# sort and shift: Ran 1403 iterations (323 outliers).
# sort and shift: Rounded run time per iteration: 0.000809 +/- 0.000000 (0.0%)
t/008performance.t ........ ok
# with grep: Ran 1157 iterations (141 outliers).
# with grep: Rounded run time per iteration: 0.000021 +/- 0.000000 (0.0%)
# with grep and compiled regex: Ran 1157 iterations (96 outliers).
# with grep and compiled regex: Rounded run time per iteration: 0.000028 +/- 0.000000 (0.0%)
# with eq: Ran 1102 iterations (102 outliers).
# with eq: Rounded run time per iteration: 0.000017 +/- 0.000000 (0.0%)
# with enhanced eq: Ran 1157 iterations (148 outliers).
# with enhanced eq: Rounded run time per iteration: 0.000017 +/- 0.000000 (0.0%)
# with enhanced eq mark2: Ran 1403 iterations (183 outliers).
# with enhanced eq mark2: Rounded run time per iteration: 0.000017 +/- 0.000000 (0.0%)
# with enhanced eq mark3: Ran 1157 iterations (96 outliers).
# with enhanced eq mark3: Rounded run time per iteration: 0.000016 +/- 0.000000 (0.0%)
# sort and shift: Ran 1274 iterations (232 outliers).
# sort and shift: Rounded run time per iteration: 0.000017 +/- 0.000000 (0.0%)
t/009performance-small.t .. ok
All tests successful.

Test Summary Report
-------------------
t/008performance.t      (Wstat: 0 Tests: 1 Failed: 0)
  TODO passed:   1
t/009performance-small.t (Wstat: 0 Tests: 1 Failed: 0)
  TODO passed:   1
Files=9, Tests=54, 61 wallclock secs ( 0.07 usr  0.01 sys + 57.92 cusr  2.42 csys = 60.42 CPU)
Result: PASS

------------------------------
PREREQUISITES
------------------------------

Prerequisite modules loaded:

requires:

    Module              Need     Have      
    ------------------- -------- ----------
    Cwd                 0        3.76      
    File::Temp          0        0.2308    
    File::Which         0        1.22      
    IPC::Run            0        20180523.0
    Log::Log4perl       0        1.49      
    perl                5.008001 5.029005  

build_requires:

    Module              Need     Have      
    ------------------- -------- ----------
    Dumbbench           0.111    0.111     
    ExtUtils::MakeMaker 0        7.34      
    Test::Simple        1.302073 1.302140  

configure_requires:

    Module              Need     Have      
    ------------------- -------- ----------
    ExtUtils::MakeMaker 0        7.34      
    File::Which         0        1.22      


------------------------------
ENVIRONMENT AND OTHER CONTEXT
------------------------------

Environment variables:

    LC_ALL = C
    NONINTERACTIVE_TESTING = 1
    PATH = /home/cpan/bin/perl-blead/bin:/home/cpan/bin/perl-blead/bin:/home/cpan/bin:/home/cpan/bin:/bin:/sbin:/usr/bin:/usr/sbin:/usr/X11R7/bin:/usr/X11R6/bin:/usr/pkg/bin:/usr/pkg/sbin:/usr/games:/usr/local/bin:/usr/local/sbin
    PERL5LIB = 
    PERL5OPT = 
    PERL5_CPANPLUS_IS_RUNNING = 9768
    PERL5_CPAN_IS_RUNNING = 9768
    PERL_MM_USE_DEFAULT = 1
    PERL_USE_UNSAFE_INC = 1
    PERL_VERSION = blead
    SHELL = /usr/pkg/bin/bash
    TERM = screen
    TMPDIR = /home/cpan/tmp

Perl special variables (and OS-specific diagnostics, for MSWin32):

    $^X = /home/cpan/bin/perl-blead/bin/perl5.29.5
    $UID/$EUID = 1001 / 1001
    $GID = 100 100
    $EGID = 100 100

Perl module toolchain versions installed:

    Module              Have    
    ------------------- --------
    CPAN                2.21    
    CPAN::Meta          2.150010
    Cwd                 3.76    
    ExtUtils::CBuilder  0.280230
    ExtUtils::Command   7.34    
    ExtUtils::Install   2.14    
    ExtUtils::MakeMaker 7.34    
    ExtUtils::Manifest  1.71    
    ExtUtils::ParseXS   3.39    
    File::Spec          3.76    
    JSON                n/a     
    JSON::PP            2.97001 
    Module::Build       0.4224  
    Module::Signature   n/a     
    Parse::CPAN::Meta   2.150010
    Test::Harness       3.42    
    Test::More          1.302140
    YAML                n/a     
    YAML::Syck          n/a     
    version             0.9924  


--

Summary of my perl5 (revision 5 version 29 subversion 5) configuration:
  Commit id: 8e0c32f43cbc5d9f577b2602ba2159b9cd123197
  Platform:
    osname=netbsd
    osvers=7.2
    archname=amd64-netbsd
    uname='netbsd cjg-netbsd7 7.2 netbsd 7.2 (generic.201808291900z) amd64 '
    config_args='-des -Dprefix=~/bin/perl-blead -Dscriptdir=~/bin/perl-blead/bin -Dusedevel -Duse64bitall'
    hint=recommended
    useposix=true
    d_sigaction=define
    useithreads=undef
    usemultiplicity=undef
    use64bitint=define
    use64bitall=define
    uselongdouble=undef
    usemymalloc=n
    default_inc_excludes_dot=define
    bincompat5005=undef
  Compiler:
    cc='cc'
    ccflags ='-fwrapv -fno-strict-aliasing -pipe -fstack-protector -I/usr/pkg/include -D_FORTIFY_SOURCE=2'
    optimize='-O'
    cppflags='-fwrapv -fno-strict-aliasing -pipe -fstack-protector -I/usr/pkg/include'
    ccversion=''
    gccversion='4.8.5'
    gccosandvers=''
    intsize=4
    longsize=8
    ptrsize=8
    doublesize=8
    byteorder=12345678
    doublekind=3
    d_longlong=define
    longlongsize=8
    d_longdbl=define
    longdblsize=16
    longdblkind=3
    ivtype='long'
    ivsize=8
    nvtype='double'
    nvsize=8
    Off_t='off_t'
    lseeksize=8
    alignbytes=8
    prototype=define
  Linker and Libraries:
    ld='cc'
    ldflags =' -Wl,-rpath,/usr/pkg/lib -Wl,-rpath,/usr/local/lib -fstack-protector -L/usr/pkg/lib'
    libpth=/usr/include/gcc-4.8 /usr/lib /usr/pkg/lib /lib
    libs=-lpthread -lm -lcrypt -lutil -lc -lposix
    perllibs=-lpthread -lm -lcrypt -lutil -lc -lposix
    libc=/lib/libc.so
    so=so
    useshrplib=false
    libperl=libperl.a
    gnulibc_version=''
  Dynamic Linking:
    dlsrc=dl_dlopen.xs
    dlext=so
    d_dlsymun=undef
    ccdlflags='-Wl,-E '
    cccdlflags='-DPIC -fPIC '
    lddlflags='-shared  -L/usr/pkg/lib -fstack-protector'


Characteristics of this binary (from libperl): 
  Compile-time options:
    HAS_TIMES
    PERLIO_LAYERS
    PERL_COPY_ON_WRITE
    PERL_DONT_CREATE_GVSV
    PERL_MALLOC_WRAP
    PERL_OP_PARENT
    PERL_PRESERVE_IVUV
    PERL_USE_DEVEL
    USE_64_BIT_ALL
    USE_64_BIT_INT
    USE_LARGE_FILES
    USE_LOCALE
    USE_LOCALE_COLLATE
    USE_LOCALE_CTYPE
    USE_LOCALE_NUMERIC
    USE_LOCALE_TIME
    USE_PERLIO
    USE_PERL_ATOF
  Built under netbsd
  Compiled at Nov 12 2018 06:24:38
  %ENV:
    PERL5LIB=""
    PERL5OPT=""
    PERL5_CPANPLUS_IS_RUNNING="9768"
    PERL5_CPAN_IS_RUNNING="9768"
    PERL_MM_USE_DEFAULT="1"
    PERL_USE_UNSAFE_INC="1"
    PERL_VERSION="blead"
  @INC:
    /home/cpan/bin/perl-blead/lib/site_perl/5.29.5/amd64-netbsd
    /home/cpan/bin/perl-blead/lib/site_perl/5.29.5
    /home/cpan/bin/perl-blead/lib/5.29.5/amd64-netbsd
    /home/cpan/bin/perl-blead/lib/5.29.5
    .