Report for ACME-QuoteDB-0.1.2

Back
From: metabase:user:320bfe00-2aae-11df-837a-5e0a49663a4f
Subject: PASS ACME-QuoteDB-0.1.2 v5.12.4 GNU/Linux
Date: 2011-12-22T13:41:00Z

This distribution has been tested as part of the CPAN Testers
project, supporting the Perl programming language.  See
http://wiki.cpantesters.org/ for more information or email
questions to cpan-testers-discuss@perl.org


--
Dear David Wright,

This is a computer-generated report for ACME-QuoteDB-0.1.2
on perl 5.12.4, created by CPAN-Reporter-1.2003.

Thank you for uploading your work to CPAN.  Congratulations!
All tests were successful.

Sections of this report:

    * Tester comments
    * Program output
    * Prerequisites
    * Environment and other context

------------------------------
TESTER COMMENTS
------------------------------

Additional comments from tester:

this report is from an automated smoke testing program
and was not reviewed by a human for accuracy

------------------------------
PROGRAM OUTPUT
------------------------------

Output from './Build test':

# Testing ACME::QuoteDB 0.1.2, Perl 5.012004, /home/sand/src/perl/repoperls/installed-perls/perl/v5.12.4/165a/bin/perl
t/00-load.t ................. ok
"unicode" attribute will be deprecated. Use "sqlite_unicode" instead. at /home/src/perl/repoperls/installed-perls/perl/v5.12.4/165a/lib/site_perl/5.12.4/x86_64-linux/DBI.pm line 720, <$source> line 2.
t/01-load_quotes.t .......... ok
"unicode" attribute will be deprecated. Use "sqlite_unicode" instead. at /home/src/perl/repoperls/installed-perls/perl/v5.12.4/165a/lib/site_perl/5.12.4/x86_64-linux/DBI.pm line 720, <$source> line 2.
t/02-get_quotes.t ........... ok
"unicode" attribute will be deprecated. Use "sqlite_unicode" instead. at /home/src/perl/repoperls/installed-perls/perl/v5.12.4/165a/lib/site_perl/5.12.4/x86_64-linux/DBI.pm line 720, <$source> line 2.
t/03-load_quotes_env.t ...... ok
"unicode" attribute will be deprecated. Use "sqlite_unicode" instead. at /home/src/perl/repoperls/installed-perls/perl/v5.12.4/165a/lib/site_perl/5.12.4/x86_64-linux/DBI.pm line 720, <$source> line 2.
t/04-get_quotes_more.t ...... ok
"unicode" attribute will be deprecated. Use "sqlite_unicode" instead. at /home/src/perl/repoperls/installed-perls/perl/v5.12.4/165a/lib/site_perl/5.12.4/x86_64-linux/DBI.pm line 720, <$source> line 2.
t/04-load_get_quote_utf8.t .. ok
t/05-load_quotes_remote.t ... skipped: mysql not installed or not configured for test user
t/boilerplate.t ............. ok
t/pod-coverage.t ............ ok
t/pod.t ..................... ok
All tests successful.
Files=10, Tests=121,  4 wallclock secs ( 0.07 usr  0.02 sys +  3.07 cusr  0.33 csys =  3.49 CPU)
Result: PASS

------------------------------
PREREQUISITES
------------------------------

Prerequisite modules loaded:

build_requires:

    Module           Need     Have        
    ---------------- -------- ------------
    aliased          0.22     0.30        
    Carp             1.04     1.23        
    Class::DBI       v3.0.17  3.0.17      
    Cwd              3.25     3.39_01     
    Data::Dumper     2.121    2.135_01    
    DBD::SQLite      1.14     1.35        
    File::Basename   2.74     2.78        
    File::Copy       2.11     2.18        
    File::Spec       3.2501   3.39_01     
    HTML::TokeParser 2.37     3.69        
    Module::Build    0.280801 0.3800      
    Readonly         1.03     1.03        
    Test::More       0.8      1.005000_002
    Text::CSV        1.06     1.21        
    version          0.7      0.95        


------------------------------
ENVIRONMENT AND OTHER CONTEXT
------------------------------

Environment variables:

    AUTOMATED_TESTING = 1
    LANG = en_US.UTF-8
    LANGUAGE = en_US:en
    PATH = /home/sand/bin:/usr/local/bin:/usr/bin:/bin:/usr/bin/X11:/usr/games:/usr/local/perl/bin:/usr/X11/bin:/sbin:/usr/sbin
    PERL5LIB = 
    PERL5OPT = 
    PERL5_CPANPLUS_IS_RUNNING = 28276
    PERL5_CPAN_IS_RUNNING = 28276
    PERL_MM_USE_DEFAULT = 1
    SHELL = /usr/bin/zsh
    TERM = screen

Perl special variables (and OS-specific diagnostics, for MSWin32):

    $^X = /home/sand/src/perl/repoperls/installed-perls/perl/v5.12.4/165a/bin/perl
    $UID/$EUID = 1005 / 1005
    $GID = 1005 1005
    $EGID = 1005 1005

Perl module toolchain versions installed:

    Module              Have        
    ------------------- ------------
    CPAN                1.9800      
    CPAN::Meta          2.112621    
    Cwd                 3.39_01     
    ExtUtils::CBuilder  0.280202    
    ExtUtils::Command   1.17        
    ExtUtils::Install   1.55        
    ExtUtils::MakeMaker 6.63_02     
    ExtUtils::Manifest  1.60        
    ExtUtils::ParseXS   3.08        
    File::Spec          3.39_01     
    JSON                2.53        
    JSON::PP            2.27200     
    Module::Build       0.3800      
    Module::Signature   0.68        
    Parse::CPAN::Meta   1.4401      
    Test::Harness       3.23        
    Test::More          1.005000_002
    YAML                0.77        
    YAML::Syck          1.19        
    version             0.95        


--

Summary of my perl5 (revision 5 version 12 subversion 4) configuration:
  Commit id: 0cfb50b2327c758fdfe77a5cda07b115e58aed0b
  Platform:
    osname=linux, osvers=2.6.32-5-amd64, archname=x86_64-linux
    uname='linux k83 2.6.32-5-amd64 #1 smp mon oct 3 03:59:20 utc 2011 x86_64 gnulinux '
    config_args='-Dprefix=/home/src/perl/repoperls/installed-perls/perl/v5.12.4/165a -Dmyhostname=k83 -Dinstallusrbinperl=n -Uversiononly -Dusedevel -des -Ui_db -Uuseithreads -Uuselongdouble -DDEBUGGING=-g'
    hint=recommended, useposix=true, d_sigaction=define
    useithreads=undef, usemultiplicity=undef
    useperlio=define, d_sfio=undef, uselargefiles=define, usesocks=undef
    use64bitint=define, use64bitall=define, uselongdouble=undef
    usemymalloc=n, bincompat5005=undef
  Compiler:
    cc='cc', ccflags ='-fno-strict-aliasing -pipe -fstack-protector -I/usr/local/include -D_LARGEFILE_SOURCE -D_FILE_OFFSET_BITS=64',
    optimize='-O2 -g',
    cppflags='-fno-strict-aliasing -pipe -fstack-protector -I/usr/local/include'
    ccversion='', gccversion='4.4.5', gccosandvers=''
    intsize=4, longsize=8, ptrsize=8, doublesize=8, byteorder=12345678
    d_longlong=define, longlongsize=8, d_longdbl=define, longdblsize=16
    ivtype='long', ivsize=8, nvtype='double', nvsize=8, Off_t='off_t', lseeksize=8
    alignbytes=8, prototype=define
  Linker and Libraries:
    ld='cc', ldflags =' -fstack-protector -L/usr/local/lib'
    libpth=/usr/local/lib /lib/../lib /usr/lib/../lib /lib /usr/lib /lib64 /usr/lib64
    libs=-lnsl -ldb -ldl -lm -lcrypt -lutil -lc
    perllibs=-lnsl -ldl -lm -lcrypt -lutil -lc
    libc=/lib/libc-2.11.2.so, so=so, useshrplib=false, libperl=libperl.a
    gnulibc_version='2.11.2'
  Dynamic Linking:
    dlsrc=dl_dlopen.xs, dlext=so, d_dlsymun=undef, ccdlflags='-Wl,-E'
    cccdlflags='-fPIC', lddlflags='-shared -O2 -g -L/usr/local/lib -fstack-protector'


Characteristics of this binary (from libperl): 
  Compile-time options: PERL_DONT_CREATE_GVSV PERL_MALLOC_WRAP PERL_USE_DEVEL
                        USE_64_BIT_ALL USE_64_BIT_INT USE_LARGE_FILES
                        USE_PERLIO USE_PERL_ATOF
  Built under linux
  Compiled at Nov  1 2011 08:32:34
  %ENV:
    PERL5LIB=""
    PERL5OPT=""
    PERL5_CPANPLUS_IS_RUNNING="28276"
    PERL5_CPAN_IS_RUNNING="28276"
    PERL_MM_USE_DEFAULT="1"
  @INC:
    /home/src/perl/repoperls/installed-perls/perl/v5.12.4/165a/lib/site_perl/5.12.4/x86_64-linux
    /home/src/perl/repoperls/installed-perls/perl/v5.12.4/165a/lib/site_perl/5.12.4
    /home/src/perl/repoperls/installed-perls/perl/v5.12.4/165a/lib/5.12.4/x86_64-linux
    /home/src/perl/repoperls/installed-perls/perl/v5.12.4/165a/lib/5.12.4
    .