Report for Test-LWP-Recorder-0.1.1

Back
From: metabase:user:30f4dfbe-2aae-11df-837a-5e0a49663a4f
Subject: PASS Test-LWP-Recorder-0.1.1 v5.10.0 GNU/Linux
Date: 2015-11-19T10:30:42Z

This distribution has been tested as part of the CPAN Testers
project, supporting the Perl programming language.  See
http://wiki.cpantesters.org/ for more information or email
questions to cpan-testers-discuss@perl.org


--
Dear Edward J. Allen III,

This is a computer-generated report for Test-LWP-Recorder-0.1.1
on perl 5.10.0, created by CPAN-Reporter-1.2011.

Thank you for uploading your work to CPAN.  Congratulations!
All tests were successful.

Sections of this report:

    * Tester comments
    * Program output
    * Prerequisites
    * Environment and other context

------------------------------
TESTER COMMENTS
------------------------------

Additional comments from tester:

this report is from an automated smoke testing program
and was not reviewed by a human for accuracy

------------------------------
PROGRAM OUTPUT
------------------------------

Output from './Build test':

t/00-compile.t ................ ok
# 
# 
# perl: v5.10.0 (wanted 5.006) on linux from /home/njh/perl5/perlbrew/perls/perl-5.10.0/bin/perl
# 
# Carp                                          => 1.32       (want any version)
# Digest::MD5                                   => 2.53       (want any version)
# File::Find                                    => 1.12       (want any version)
# File::Slurp                                   => 9999.19    (want any version)
# File::Spec                                    => 3.47       (want any version)
# File::Temp                                    => 0.2304     (want any version)
# HTTP::Response                                => 5.836      (want any version)
# HTTP::Status                                  => 5.817      (want any version)
# LWP::UserAgent                                => 5.835      (want any version)
# LWPx::Record::DataSection                     => module not found. (want any version)
# List::Util                                    => 1.41       (want any version)
# Module::Build                                 => 0.4205     (want 0.3601) 
# Pod::Coverage::TrustPod                       => module not found. (want any version)
# Test::More                                    => 1.001014   (want 0.88)   
# Test::Pod                                     => 1.48       (want 1.41)   
# Test::Pod::Coverage                           => 1.08       (want 1.08)   
# base                                          => 2.18       (want any version)
# lib                                           => 0.63       (want any version)
# strict                                        => 1.04       (want any version)
# warnings                                      => 1.06       (want any version)
# 
# Thanks for using my code.  I hope it works for you.
# If not, please try and include this output in the bug report.
# That will help me reproduce the issue and solve you problem.
# 
t/000-report-versions-tiny.t .. ok
t/author-critic.t ............. skipped: these tests are for testing by the author
t/author-pod-spell.t .......... skipped: these tests are for testing by the author
t/lwpxtest.t .................. ok
t/lwpxtest_02.t ............... ok
t/release-pod-coverage.t ...... skipped: these tests are for release candidate testing
t/release-pod-linkcheck.t ..... skipped: these tests are for release candidate testing
t/release-pod-syntax.t ........ skipped: these tests are for release candidate testing
All tests successful.
Files=9, Tests=14,  5 wallclock secs ( 0.24 usr  0.08 sys +  3.98 cusr  0.50 csys =  4.80 CPU)
Result: PASS

------------------------------
PREREQUISITES
------------------------------

Prerequisite modules loaded:

requires:

    Module                    Need   Have    
    ------------------------- ------ --------
    base                      0      2.18    
    Carp                      0      1.32    
    Digest::MD5               0      2.53    
    File::Slurp               0      9999.19 
    File::Spec                0      3.47    
    HTTP::Response            0      5.836   
    HTTP::Status              0      5.817   
    List::Util                0      1.41    
    LWP::UserAgent            0      5.835   
    perl                      5.006  5.010000
    strict                    0      1.04    
    warnings                  0      1.06    

build_requires:

    Module                    Need   Have    
    ------------------------- ------ --------
    File::Find                0      1.12    
    File::Temp                0      0.2304  
    lib                       0      0.63    
  ! LWPx::Record::DataSection 0      n/a     
    Module::Build             0.3601 0.4205  
    Test::More                0.88   1.001014

configure_requires:

    Module                    Need   Have    
    ------------------------- ------ --------
    Module::Build             0.3601 0.4205  


------------------------------
ENVIRONMENT AND OTHER CONTEXT
------------------------------

Environment variables:

    AUTOMATED_TESTING = 1
    LANG = en_GB.UTF-8
    PATH = /home/njh/perl5/perlbrew/bin:/home/njh/perl5/perlbrew/perls/perl-5.10.0/bin:/home/njh/perl5/perlbrew/bin:/usr/bin:/bin
    PERL5LIB = /home/njh/.cpan/build/CGI-Simple-1.115-9cZr32/blib/arch:/home/njh/.cpan/build/CGI-Simple-1.115-9cZr32/blib/lib:/home/njh/.cpan/build/Text-Hogan-1.01-QPhxMo/blib/arch:/home/njh/.cpan/build/Text-Hogan-1.01-QPhxMo/blib/lib:/home/njh/.cpan/build/Path-Tiny-0.076-08FdQh/blib/arch:/home/njh/.cpan/build/Path-Tiny-0.076-08FdQh/blib/lib:/home/njh/.cpan/build/Clone-0.38-0zI_MN/blib/arch:/home/njh/.cpan/build/Clone-0.38-0zI_MN/blib/lib:/home/njh/.cpan/build/Test-Simple-1.001014-u36EtM/blib/arch:/home/njh/.cpan/build/Test-Simple-1.001014-u36EtM/blib/lib:/home/njh/.cpan/build/Text-Trim-1.02-0AQAzI/blib/arch:/home/njh/.cpan/build/Text-Trim-1.02-0AQAzI/blib/lib:/home/njh/.cpan/build/Data-Visitor-0.30-n_zJVk/blib/arch:/home/njh/.cpan/build/Data-Visitor-0.30-n_zJVk/blib/lib:/home/njh/.cpan/build/Tie-ToObject-0.03-e4bTxc/blib/arch:/home/njh/.cpan/build/Tie-ToObject-0.03-e4bTxc/blib/lib:/home/njh/.cpan/build/Try-Tiny-0.22-GIOEAv/blib/arch:/home/njh/.cpan/build/Try-Tiny-0.22-GIOEAv/blib/lib
    PERL5OPT = 
    PERL5_CPANPLUS_IS_RUNNING = 13106
    PERL5_CPAN_IS_RUNNING = 13106
    PERL5_MINISMOKEBOX = 0.58
    PERLBREW_BASHRC_VERSION = 0.73
    PERLBREW_LIB = 
    PERLBREW_MANPATH = /home/njh/perl5/perlbrew/perls/perl-5.10.0/man
    PERLBREW_PATH = /home/njh/perl5/perlbrew/bin:/home/njh/perl5/perlbrew/perls/perl-5.10.0/bin
    PERLBREW_PERL = perl-5.10.0
    PERLBREW_ROOT = /home/njh/perl5/perlbrew
    PERLBREW_VERSION = 0.73
    PERL_EXTUTILS_AUTOINSTALL = --defaultdeps
    PERL_LOCAL_LIB_ROOT = 
    PERL_MM_USE_DEFAULT = 1
    SHELL = /bin/sh

Perl special variables (and OS-specific diagnostics, for MSWin32):

    $^X = /home/njh/perl5/perlbrew/perls/perl-5.10.0/bin/perl
    $UID/$EUID = 1000 / 1000
    $GID = 1000 4 24 25 29 30 44 46 200 1000
    $EGID = 1000 4 24 25 29 30 44 46 200 1000

Perl module toolchain versions installed:

    Module              Have    
    ------------------- --------
    CPAN                2.10    
    CPAN::Meta          2.133380
    Cwd                 3.47    
    ExtUtils::CBuilder  0.280216
    ExtUtils::Command   1.18    
    ExtUtils::Install   1.54    
    ExtUtils::MakeMaker 7.02    
    ExtUtils::Manifest  1.65    
    ExtUtils::ParseXS   3.22    
    File::Spec          3.47    
    JSON                2.90    
    JSON::PP            2.27203 
    Module::Build       0.4205  
    Module::Signature   0.73    
    Parse::CPAN::Meta   1.4409  
    Test::Harness       3.30    
    Test::More          1.001014
    YAML                1.15    
    YAML::Syck          1.29    
    version             0.9908  


--

Summary of my perl5 (revision 5 version 10 subversion 0) configuration:
  Platform:
    osname=linux, osvers=3.2.27+, archname=armv6l-linux-thread-multi
    uname='linux pi 3.2.27+ #250 preempt thu oct 18 19:03:02 bst 2012 armv6l gnulinux '
    config_args='-de -Dprefix=/home/njh/perl5/perlbrew/perls/perl-5.10.0 -Duseithreads -Dusemultiplicity -Accflags=-Os -W -Wformat=2 -Wswitch -Wshadow -Wwrite-strings -Wuninitialized -Wall -pipe -fomit-frame-pointer -pedantic -D_FORTIFY_SOURCE=2 -Wpointer-arith -Wstrict-prototypes -fstack-protector -Wstack-protector -Wextra -Wbad-function-cast -Wcast-align -Wcast-qual -Wdisabled-optimization -Wendif-labels -Wfloat-equal -Wformat-nonliteral -Winline -Wmissing-declarations -Wmissing-prototypes -Wnested-externs -Wpointer-arith -Wundef -Wformat-security -Aeval:scriptdir=/home/njh/perl5/perlbrew/perls/perl-5.10.0/bin'
    hint=recommended, useposix=true, d_sigaction=define
    useithreads=define, usemultiplicity=define
    useperlio=define, d_sfio=undef, uselargefiles=define, usesocks=undef
    use64bitint=undef, use64bitall=undef, uselongdouble=undef
    usemymalloc=n, bincompat5005=undef
  Compiler:
    cc='cc', ccflags ='-D_REENTRANT -D_GNU_SOURCE -Os -W -Wformat=2 -Wswitch -Wshadow -Wwrite-strings -Wuninitialized -Wall -pipe -fomit-frame-pointer -pedantic -D_FORTIFY_SOURCE=2 -Wpointer-arith -Wstrict-prototypes -fstack-protector -Wstack-protector -Wextra -Wbad-function-cast -Wcast-align -Wcast-qual -Wdisabled-optimization -Wendif-labels -Wfloat-equal -Wformat-nonliteral -Winline -Wmissing-declarations -Wmissing-prototypes -Wnested-externs -Wpointer-arith -Wundef -Wformat-security -fno-strict-aliasing -I/usr/local/include -D_LARGEFILE_SOURCE -D_FILE_OFFSET_BITS=64',
    optimize='-O2',
    cppflags='-D_REENTRANT -D_GNU_SOURCE -Os -W -Wformat=2 -Wswitch -Wshadow -Wwrite-strings -Wuninitialized -Wall -pipe -fomit-frame-pointer -pedantic -D_FORTIFY_SOURCE=2 -Wpointer-arith -Wstrict-prototypes -fstack-protector -Wstack-protector -Wextra -Wbad-function-cast -Wcast-align -Wcast-qual -Wdisabled-optimization -Wendif-labels -Wfloat-equal -Wformat-nonliteral -Winline -Wmissing-declarations -Wmissing-prototypes -Wnested-externs -Wpointer-arith -Wundef -Wformat-security -fno-strict-aliasing -I/usr/local/include'
    ccversion='', gccversion='4.6.3', gccosandvers=''
    intsize=4, longsize=4, ptrsize=4, doublesize=8, byteorder=1234
    d_longlong=define, longlongsize=8, d_longdbl=define, longdblsize=8
    ivtype='long', ivsize=4, nvtype='double', nvsize=8, Off_t='off_t', lseeksize=8
    alignbytes=8, prototype=define
  Linker and Libraries:
    ld='cc', ldflags =' -L/usr/local/lib'
    libpth=/usr/local/lib /lib/arm-linux-gnueabihf /lib /usr/lib/arm-linux-gnueabihf /usr/lib
    libs=-lnsl -lgdbm -ldb -ldl -lm -lcrypt -lutil -lpthread -lc -lgdbm_compat
    perllibs=-lnsl -ldl -lm -lcrypt -lutil -lpthread -lc -lgdbm_compat
    libc=, so=so, useshrplib=false, libperl=libperl.a
    gnulibc_version='2.13'
  Dynamic Linking:
    dlsrc=dl_dlopen.xs, dlext=so, d_dlsymun=undef, ccdlflags='-Wl,-E'
    cccdlflags='-fPIC', lddlflags='-shared -O2 -L/usr/local/lib'


Characteristics of this binary (from libperl): 
  Compile-time options: MULTIPLICITY PERL_DONT_CREATE_GVSV
                        PERL_IMPLICIT_CONTEXT PERL_MALLOC_WRAP USE_ITHREADS
                        USE_LARGE_FILES USE_PERLIO USE_REENTRANT_API
  Built under linux
  Compiled at Feb 11 2013 07:33:34
  %ENV:
    PERL5LIB="/home/njh/.cpan/build/CGI-Simple-1.115-9cZr32/blib/arch:/home/njh/.cpan/build/CGI-Simple-1.115-9cZr32/blib/lib:/home/njh/.cpan/build/Text-Hogan-1.01-QPhxMo/blib/arch:/home/njh/.cpan/build/Text-Hogan-1.01-QPhxMo/blib/lib:/home/njh/.cpan/build/Path-Tiny-0.076-08FdQh/blib/arch:/home/njh/.cpan/build/Path-Tiny-0.076-08FdQh/blib/lib:/home/njh/.cpan/build/Clone-0.38-0zI_MN/blib/arch:/home/njh/.cpan/build/Clone-0.38-0zI_MN/blib/lib:/home/njh/.cpan/build/Test-Simple-1.001014-u36EtM/blib/arch:/home/njh/.cpan/build/Test-Simple-1.001014-u36EtM/blib/lib:/home/njh/.cpan/build/Text-Trim-1.02-0AQAzI/blib/arch:/home/njh/.cpan/build/Text-Trim-1.02-0AQAzI/blib/lib:/home/njh/.cpan/build/Data-Visitor-0.30-n_zJVk/blib/arch:/home/njh/.cpan/build/Data-Visitor-0.30-n_zJVk/blib/lib:/home/njh/.cpan/build/Tie-ToObject-0.03-e4bTxc/blib/arch:/home/njh/.cpan/build/Tie-ToObject-0.03-e4bTxc/blib/lib:/home/njh/.cpan/build/Try-Tiny-0.22-GIOEAv/blib/arch:/home/njh/.cpan/build/Try-Tiny-0.22-GIOEAv/blib/lib"
    PERL5OPT=""
    PERL5_CPANPLUS_IS_RUNNING="13106"
    PERL5_CPAN_IS_RUNNING="13106"
    PERL5_MINISMOKEBOX="0.58"
    PERLBREW_BASHRC_VERSION="0.73"
    PERLBREW_LIB=""
    PERLBREW_MANPATH="/home/njh/perl5/perlbrew/perls/perl-5.10.0/man"
    PERLBREW_PATH="/home/njh/perl5/perlbrew/bin:/home/njh/perl5/perlbrew/perls/perl-5.10.0/bin"
    PERLBREW_PERL="perl-5.10.0"
    PERLBREW_ROOT="/home/njh/perl5/perlbrew"
    PERLBREW_VERSION="0.73"
    PERL_EXTUTILS_AUTOINSTALL="--defaultdeps"
    PERL_LOCAL_LIB_ROOT=""
    PERL_MM_USE_DEFAULT="1"
  @INC:
    /home/njh/.cpan/build/CGI-Simple-1.115-9cZr32/blib/arch
    /home/njh/.cpan/build/CGI-Simple-1.115-9cZr32/blib/lib
    /home/njh/.cpan/build/Text-Hogan-1.01-QPhxMo/blib/arch
    /home/njh/.cpan/build/Text-Hogan-1.01-QPhxMo/blib/lib
    /home/njh/.cpan/build/Path-Tiny-0.076-08FdQh/blib/arch
    /home/njh/.cpan/build/Path-Tiny-0.076-08FdQh/blib/lib
    /home/njh/.cpan/build/Clone-0.38-0zI_MN/blib/arch
    /home/njh/.cpan/build/Clone-0.38-0zI_MN/blib/lib
    /home/njh/.cpan/build/Test-Simple-1.001014-u36EtM/blib/arch
    /home/njh/.cpan/build/Test-Simple-1.001014-u36EtM/blib/lib
    /home/njh/.cpan/build/Text-Trim-1.02-0AQAzI/blib/arch
    /home/njh/.cpan/build/Text-Trim-1.02-0AQAzI/blib/lib
    /home/njh/.cpan/build/Data-Visitor-0.30-n_zJVk/blib/arch
    /home/njh/.cpan/build/Data-Visitor-0.30-n_zJVk/blib/lib
    /home/njh/.cpan/build/Tie-ToObject-0.03-e4bTxc/blib/arch
    /home/njh/.cpan/build/Tie-ToObject-0.03-e4bTxc/blib/lib
    /home/njh/.cpan/build/Try-Tiny-0.22-GIOEAv/blib/arch
    /home/njh/.cpan/build/Try-Tiny-0.22-GIOEAv/blib/lib
    /home/njh/perl5/perlbrew/perls/perl-5.10.0/lib/5.10.0/armv6l-linux-thread-multi
    /home/njh/perl5/perlbrew/perls/perl-5.10.0/lib/5.10.0
    /home/njh/perl5/perlbrew/perls/perl-5.10.0/lib/site_perl/5.10.0/armv6l-linux-thread-multi
    /home/njh/perl5/perlbrew/perls/perl-5.10.0/lib/site_perl/5.10.0
    .