Test-Moose-More v0.050 Perl 5 v5.37.6 amd64-freebsd-thread-multi
- Status
- Pass
- From
- James E Keenan
- Dist
-
Test-Moose-More v0.050
- Platform
- Perl 5 v5.37.6 amd64-freebsd-thread-multi
- Date
- 2022-11-20 14:14:01
- ID
- 950f3b40-68dd-11ed-8a02-b50a06b3d53a
This distribution has been tested as part of the CPAN Testers
project, supporting the Perl programming language. See
http://wiki.cpantesters.org/ for more information or email
questions to cpan-testers-discuss@perl.org
--
Dear Chris Weyl,
This is a computer-generated report for Test-Moose-More-0.050
on perl 5.37.6, created by CPAN-Reporter-1.2018.
Thank you for uploading your work to CPAN. Congratulations!
All tests were successful.
Sections of this report:
* Tester comments
* Program output
* Prerequisites
* Environment and other context
------------------------------
TESTER COMMENTS
------------------------------
Additional comments from tester:
none provided
------------------------------
PROGRAM OUTPUT
------------------------------
Output from '/usr/bin/make test':
PERL_DL_NONLAZY=1 "/usr/home/jkeenan/testing/v5.37.6/bin/perl" "-MExtUtils::Command::MM" "-MTest::Harness" "-e" "undef *Test::Harness::Switches; test_harness(0, 'blib/lib', 'blib/arch')" t/*.t t/attribute_options_ok/*.t t/is_class_ok/*.t t/validate_attribute/*.t t/validate_class/*.t t/validate_role/*.t t/validate_thing/*.t t/wrapped/*.t
t/00-check-deps.t ...................................... ok
t/00-compile.t ......................................... ok
#
# Versions for all modules listed in MYMETA.json (including optional ones):
#
# === Configure Requires ===
#
# Module Want Have
# ------------------- ---- ----
# ExtUtils::MakeMaker any 7.64
#
# === Build Requires ===
#
# Module Want Have
# ------------------- ---- ----
# ExtUtils::MakeMaker any 7.64
#
# === Test Requires ===
#
# Module Want Have
# ---------------------- ----- --------
# ExtUtils::MakeMaker any 7.64
# File::Spec any 3.87
# IO::Handle any 1.51
# IPC::Open3 any 1.22
# List::Util 1.45 1.63
# Moose any 2.2201
# Moose::Meta::Attribute any 2.2201
# Moose::Role any 2.2201
# Moose::Util::MetaRole any 2.2201
# TAP::SimpleOutput 0.009 0.009
# Test::Builder::Tester any 1.302191
# Test::CheckDeps 0.010 0.010
# Test::More 0.94 1.302191
# namespace::autoclean any 0.29
#
# === Test Recommends ===
#
# Module Want Have
# ---------- -------- --------
# CPAN::Meta 2.120900 2.150010
#
# === Runtime Requires ===
#
# Module Want Have
# ---------------------------- ---- --------
# Carp any 1.54
# Data::OptList any 0.112
# List::MoreUtils any 0.430
# List::Util 1.45 1.63
# Moose::Util any 2.2201
# Moose::Util::TypeConstraints any 2.2201
# Scalar::Util any 1.63
# Sub::Exporter::Progressive any 0.001013
# Syntax::Keyword::Junction any 0.003008
# Test::Builder any 1.302191
# Test::Moose any 2.2201
# Test::More 0.94 1.302191
# strict any 1.12
# warnings any 1.61
#
t/00-report-prereqs.t .................................. ok
t/attribute_options_ok/basic.t ......................... ok
t/attribute_options_ok/subtest-wrapper.t ............... ok
t/check_sugar.t ........................................ ok
t/definition_context.t ................................. ok
t/does_metaroles_ok.t .................................. ok
t/does_not_metaroles_ok.t .............................. ok
t/does_not_ok.t ........................................ ok
t/does_ok.t ............................................ ok
t/has_attribute_ok.t ................................... ok
t/is_anon_ok.t ......................................... ok
t/is_class_ok/basic.t .................................. ok
t/is_class_ok/moose-meta-attribute-should-be-moosey.t .. ok
t/is_immutable_ok.t .................................... ok
t/is_not_anon_ok.t ..................................... ok
t/is_role_ok.t ......................................... ok
t/meta_ok.t ............................................ ok
t/method_from_pkg_ok.t ................................. ok
t/method_is_accessor_ok.t .............................. ok
t/method_is_not_accessor_ok.t .......................... ok
t/method_not_from_pkg_ok.t ............................. ok
t/method_ok.t .......................................... ok
t/no_meta_ok.t ......................................... ok
t/pristine_ok.t ........................................ ok
t/requires_method_ok.t ................................. ok
t/subtest-1.t .......................................... ok
t/validate_attribute/basic.t ........................... ok
t/validate_attribute/coerce.t .......................... ok
t/validate_attribute/in_roles.t ........................ ok
t/validate_attribute/lazy.t ............................ ok
t/validate_attribute/required.t ........................ ok
t/validate_class/basic.t ............................... ok
t/validate_class/metaclasses.t ......................... ok
t/validate_class/metaroles.t ........................... ok
t/validate_class/methods.t ............................. ok
t/validate_role/basic.t ................................ ok
t/validate_role/compose.t .............................. ok
t/validate_role/metaclasses.t .......................... ok
t/validate_role/metaroles.t ............................ ok
t/validate_thing/metaclasses.t ......................... ok
t/validate_thing/methods.t ............................. ok
t/validate_thing/sugar.t ............................... ok
t/wrapped/in_roles.t ................................... ok
All tests successful.
Test Summary Report
-------------------
t/00-check-deps.t (Wstat: 0 Tests: 32 Failed: 0)
TODO passed: 32
Files=45, Tests=235, 13 wallclock secs ( 0.12 usr 0.05 sys + 11.46 cusr 1.34 csys = 12.97 CPU)
Result: PASS
------------------------------
PREREQUISITES
------------------------------
Prerequisite modules loaded:
requires:
Module Need Have
---------------------------- ----- --------
Carp 0 1.54
Data::OptList 0 0.112
List::MoreUtils 0 0.430
List::Util 1.45 1.63
Moose::Util 0 2.2201
Moose::Util::TypeConstraints 0 2.2201
perl 5.006 5.037006
Scalar::Util 0 1.63
strict 0 1.12
Sub::Exporter::Progressive 0 0.001013
Syntax::Keyword::Junction 0 0.003008
Test::Builder 0 1.302191
Test::Moose 0 2.2201
Test::More 0.94 1.302191
warnings 0 1.61
build_requires:
Module Need Have
---------------------------- ----- --------
ExtUtils::MakeMaker 0 7.64
File::Spec 0 3.87
IO::Handle 0 1.51
IPC::Open3 0 1.22
List::Util 1.45 1.63
! Moose 0 broken
! Moose::Meta::Attribute 0 broken
! Moose::Role 0 broken
Moose::Util::MetaRole 0 2.2201
namespace::autoclean 0 0.29
TAP::SimpleOutput 0.009 0.009
Test::Builder::Tester 0 1.302191
Test::CheckDeps 0.010 0.010
Test::More 0.94 1.302191
configure_requires:
Module Need Have
---------------------------- ----- --------
ExtUtils::MakeMaker 0 7.64
perl 5.006 5.037006
------------------------------
ENVIRONMENT AND OTHER CONTEXT
------------------------------
Environment variables:
NONINTERACTIVE_TESTING = 1
P7_TEST_REPORTS_DIR = /home/jkeenan/learn/perl/p5p/core-p7/alpha/test-reports
PATH = /sbin:/bin:/usr/sbin:/usr/bin:/usr/local/sbin:/usr/local/bin:/home/jkeenan/bin:/home/jkeenan/bin/perl:/home/jkeenan/bin/shell:/home/jkeenan/gitwork/metaconfig/bin
PERL2DIR = /home/jkeenan/gitwork/perl2
PERL5LIB =
PERL5OPT =
PERL5_CPANPLUS_IS_RUNNING = 99299
PERL5_CPAN_IS_RUNNING = 99299
PERL_MM_USE_DEFAULT = 1
PERL_USE_UNSAFE_INC = 1
PERL_WORKDIR = /home/jkeenan/gitwork/perl
SHELL = /bin/sh
TERM = screen
Perl special variables (and OS-specific diagnostics, for MSWin32):
$^X = /usr/home/jkeenan/testing/v5.37.6/bin/perl
$UID/$EUID = 1002 / 1002
$GID = 1002 1002 0 5 920 1003
$EGID = 1002 1002 0 5 920 1003
Perl module toolchain versions installed:
Module Have
------------------- --------
CPAN 2.34
CPAN::Meta 2.150010
Cwd 3.86
ExtUtils::CBuilder 0.280238
ExtUtils::Command 7.64
ExtUtils::Install 2.20
ExtUtils::MakeMaker 7.64
ExtUtils::Manifest 1.73
ExtUtils::ParseXS 3.48
File::Spec 3.87
JSON 4.10
JSON::PP 4.12
Module::Build 0.4231
Module::Signature n/a
Parse::CPAN::Meta 2.150010
Test::Harness 3.44
Test::More 1.302191
YAML n/a
YAML::Syck n/a
version 0.9929
--
Summary of my perl5 (revision 5 version 37 subversion 6) configuration:
Commit id: d569e7cc1171d70b4ea183bc7c257dcf50f0ab12
Platform:
osname=freebsd
osvers=12.3-release-p1
archname=amd64-freebsd-thread-multi
uname='freebsd perlmonger.nycbug.org 12.3-release-p1 freebsd 12.3-release-p1 generic amd64 '
config_args='-des -Dusedevel -Uversiononly -Dprefix=/home/jkeenan/testing/v5.37.6 -Dman1dir=none -Dman3dir=none -Duseithreads -Doptimize=-O2 -pipe -fstack-protector -fno-strict-aliasing'
hint=recommended
useposix=true
d_sigaction=define
useithreads=define
usemultiplicity=define
use64bitint=define
use64bitall=define
uselongdouble=undef
usemymalloc=n
default_inc_excludes_dot=define
Compiler:
cc='cc'
ccflags ='-DHAS_FPSETMASK -DHAS_FLOATINGPOINT_H -fno-strict-aliasing -pipe -fstack-protector-strong -I/usr/local/include'
optimize='-O2 -pipe -fstack-protector -fno-strict-aliasing'
cppflags='-DHAS_FPSETMASK -DHAS_FLOATINGPOINT_H -fno-strict-aliasing -pipe -fstack-protector-strong -I/usr/local/include'
ccversion=''
gccversion='FreeBSD Clang 10.0.1 (git@github.com:llvm/llvm-project.git llvmorg-10.0.1-0-gef32c611aa2)'
gccosandvers=''
intsize=4
longsize=8
ptrsize=8
doublesize=8
byteorder=12345678
doublekind=3
d_longlong=define
longlongsize=8
d_longdbl=define
longdblsize=16
longdblkind=3
ivtype='long'
ivsize=8
nvtype='double'
nvsize=8
Off_t='off_t'
lseeksize=8
alignbytes=8
prototype=define
Linker and Libraries:
ld='cc'
ldflags ='-pthread -Wl,-E -fstack-protector-strong -L/usr/local/lib'
libpth=/usr/lib /usr/local/lib /usr/lib/clang/10.0.1/lib
libs=-lpthread -lgdbm -ldl -lm -lcrypt -lutil
perllibs=-lpthread -ldl -lm -lcrypt -lutil
libc=
so=so
useshrplib=false
libperl=libperl.a
gnulibc_version=''
Dynamic Linking:
dlsrc=dl_dlopen.xs
dlext=so
d_dlsymun=undef
ccdlflags=' '
cccdlflags='-DPIC -fPIC'
lddlflags='-shared -L/usr/local/lib -fstack-protector-strong'
Characteristics of this binary (from libperl):
Compile-time options:
HAS_TIMES
MULTIPLICITY
PERLIO_LAYERS
PERL_COPY_ON_WRITE
PERL_DONT_CREATE_GVSV
PERL_HASH_FUNC_SIPHASH13
PERL_HASH_USE_SBOX32
PERL_MALLOC_WRAP
PERL_OP_PARENT
PERL_PRESERVE_IVUV
PERL_USE_DEVEL
PERL_USE_SAFE_PUTENV
USE_64_BIT_ALL
USE_64_BIT_INT
USE_ITHREADS
USE_LARGE_FILES
USE_LOCALE
USE_LOCALE_COLLATE
USE_LOCALE_CTYPE
USE_LOCALE_NUMERIC
USE_LOCALE_TIME
USE_PERLIO
USE_PERL_ATOF
USE_REENTRANT_API
Built under freebsd
Compiled at Nov 20 2022 12:54:29
%ENV:
PERL2DIR="/home/jkeenan/gitwork/perl2"
PERL5LIB=""
PERL5OPT=""
PERL5_CPANPLUS_IS_RUNNING="99299"
PERL5_CPAN_IS_RUNNING="99299"
PERL_MM_USE_DEFAULT="1"
PERL_USE_UNSAFE_INC="1"
PERL_WORKDIR="/home/jkeenan/gitwork/perl"
@INC:
/home/jkeenan/testing/v5.37.6/lib/perl5/site_perl/5.37.6/amd64-freebsd-thread-multi
/home/jkeenan/testing/v5.37.6/lib/perl5/site_perl/5.37.6
/home/jkeenan/testing/v5.37.6/lib/perl5/5.37.6/amd64-freebsd-thread-multi
/home/jkeenan/testing/v5.37.6/lib/perl5/5.37.6
.