Treex-Core v2.20151210 Perl 5 v5.28.1 OpenBSD.amd64-openbsd-thread-multi
- Status
- Pass
- From
- Alceu Rodrigues de Freitas Junior
- Dist
-
Treex-Core v2.20151210
- Platform
- Perl 5 v5.28.1 OpenBSD.amd64-openbsd-thread-multi
- Date
- 2019-02-27 23:44:10
- ID
- 94c7f6ac-3ae9-11e9-81b0-ba2586e2073a
This distribution has been tested as part of the CPAN Testers
project, supporting the Perl programming language. See
http://wiki.cpantesters.org/ for more information or email
questions to cpan-testers-discuss@perl.org
--
Dear Dusan Varis,
This is a computer-generated report for Treex-Core-2.20151210
on perl 5.28.1, created by CPAN-Reporter-1.2018.
Thank you for uploading your work to CPAN. Congratulations!
All tests were successful.
Sections of this report:
* Tester comments
* Program output
* Prerequisites
* Environment and other context
------------------------------
TESTER COMMENTS
------------------------------
Additional comments from tester:
this report is from an automated smoke testing program
and was not reviewed by a human for accuracy
------------------------------
PROGRAM OUTPUT
------------------------------
Output from '/usr/bin/make test':
Skip blib/lib/auto/share/dist/Treex-Core/tred_extension/treex/resources/treex_subschema_w_layer.xml (unchanged)
Skip blib/lib/auto/share/dist/Treex-Core/tred_extension/treex/stylesheets/Treex_stylesheet (unchanged)
Skip blib/lib/auto/share/dist/Treex-Core/tred_extension/treex/resources/treex_subschema_interset.xml (unchanged)
Skip blib/lib/auto/share/dist/Treex-Core/tred_extension/treex/resources/treex_schema.xml (unchanged)
Skip blib/lib/auto/share/dist/Treex-Core/tred_extension/treex/contrib/treex/contrib.mac (unchanged)
Skip blib/lib/auto/share/dist/Treex-Core/tred_extension/extensions.lst (unchanged)
Skip blib/lib/auto/share/dist/Treex-Core/tred_extension/treex/package.xml (unchanged)
Skip blib/lib/auto/share/dist/Treex-Core/tred_extension/treex/resources/pmlbackend_conf.xml (unchanged)
Skip blib/lib/auto/share/dist/Treex-Core/tred_extension/treex/resources/treex_subschema_n_layer.xml (unchanged)
Skip blib/lib/auto/share/dist/Treex-Core/tred_extension/treex/contrib/treex/Treex_mode.inc (unchanged)
Skip blib/lib/auto/share/dist/Treex-Core/tred_extension/treex/resources/treex_subschema_bbn.xml (unchanged)
Skip blib/lib/auto/share/dist/Treex-Core/tred_extension/treex/resources/treex_subschema_a_layer.xml (unchanged)
Skip blib/lib/auto/share/dist/Treex-Core/tred_extension/treex/resources/treex_subschema_langcodes.xml (unchanged)
Skip blib/lib/auto/share/dist/Treex-Core/tred_extension/treex/resources/treex_subschema_t_layer.xml (unchanged)
Skip blib/lib/auto/share/dist/Treex-Core/tred_extension/treex/resources/treex_subschema_p_layer.xml (unchanged)
PERL_DL_NONLAZY=1 "/home/goku/perl5/perlbrew/perls/perl-5.28.1/bin/perl" "-MExtUtils::Command::MM" "-MTest::Harness" "-e" "undef *Test::Harness::Switches; test_harness(0, 'blib/lib', 'blib/arch')" t/*.t
t/00-compile.t ..................... ok
t/a_effective_rel.t ................ ok
t/alignment.t ...................... ok
t/attribute.t ...................... ok
t/author-critic.t .................. skipped: these tests are for testing by the author
t/backrefs.t ....................... ok
t/base.t ........................... ok
t/block.t .......................... ok
t/bundle.t ......................... ok
t/bundle_zones.t ................... ok
t/common.t ......................... ok
t/config.t ......................... ok
t/document.t ....................... ok
t/document_zones.t ................. ok
t/dump_scen.t ...................... ok
t/files.t .......................... ok
t/following_node.t ................. ok
t/grammar.t ........................ ok
t/log.t ............................ ok
t/n_tree.t ......................... ok
t/node.t ........................... ok
t/ordered.t ........................ ok
t/p_penn_treebank_string_format.t .. ok
t/phrase.t ......................... ok
t/release-cpan-changes.t ........... skipped: these tests are for release candidate testing
t/release-dist-manifest.t .......... skipped: these tests are for release candidate testing
t/release-distmeta.t ............... skipped: these tests are for release candidate testing
t/release-kwalitee.t ............... skipped: these tests are for release candidate testing
t/release-minimum-version.t ........ skipped: these tests are for release candidate testing
t/release-mojibake.t ............... skipped: these tests are for release candidate testing
t/release-no-tabs.t ................ skipped: these tests are for release candidate testing
t/release-pod-coverage.t ........... skipped: these tests are for release candidate testing
t/release-pod-linkcheck.t .......... skipped: these tests are for release candidate testing
t/release-pod-syntax.t ............. skipped: these tests are for release candidate testing
t/release-portability.t ............ skipped: these tests are for release candidate testing
t/release-synopsis.t ............... skipped: these tests are for release candidate testing
t/release-test-version.t ........... skipped: these tests are for release candidate testing
t/release-unused-vars.t ............ skipped: these tests are for release candidate testing
t/remove_bundle.t .................. ok
t/resource.t ....................... ok
t/run.t ............................ ok
t/scenario.t ....................... ok
t/scenario_parser.t ................ ok
t/storable.t ....................... ok
t/t_effective_rel.t ................ ok
t/trees.t .......................... ok
t/wildattr.t ....................... ok
t/writers.t ........................ skipped: these tests require export AUTHOR_TESTING=1
All tests successful.
Files=48, Tests=654, 136 wallclock secs ( 0.08 usr 0.44 sys + 103.28 cusr 25.77 csys = 129.57 CPU)
Result: PASS
------------------------------
PREREQUISITES
------------------------------
Prerequisite modules loaded:
requires:
Module Need Have
----------------------------------------------- ------- ----------
App::whichpm 0 0.05
autodie 0 2.29
base 0 2.27
Cache::LRU 0 0.04
Carp 0 1.50
Cwd 0 3.75
Data::Dumper 0 2.173
Digest::MD5 0 2.55
Encode 0 3.00
English 0 1.10
Exporter 0 5.73
File::Basename 0 2.85
File::chdir 0 0.1011
File::Glob 0 1.31
File::HomeDir 0.97 1.002
File::Path 2.08 2.16
File::ShareDir 0 1.116
File::Slurp 9999.19 9999.26
File::Spec 0 3.75
File::Spec::Functions 0 3.75
File::Temp 0 0.2309
File::Which 0 1.23
integer 0 1.01
IO::Handle 0 1.39
IO::Interactive 0 1.022
Lingua::Interset 2.050 3.014
Lingua::Interset::FeatureStructure 0 3.014
List::MoreUtils 0 0.428
List::Util 0 1.50
Locale::Language 0 3.59
LWP::Simple 0 6.36
Module::Reload 0 1.11
Moose 0 2.2011
Moose::Exporter 0 2.2011
Moose::Role 0 2.2011
Moose::Util::TypeConstraints 0 2.2011
MooseX::Getopt 0 0.74
MooseX::NonMoose 0 0.26
MooseX::Params::Validate 0 0.21
MooseX::Role::Parameterized 0 1.10
MooseX::SemiAffordanceAccessor 0.09 0.10
MooseX::SemiAffordanceAccessor::Role::Attribute 0.09 0.10
namespace::autoclean 0 0.28
Parse::RecDescent 0 1.967015
perl 5.010 5.028001
PerlIO::via::gzip 0 0.03
POSIX 0 1.84
Readonly 0 2.05
Scalar::Util 0 1.50
Storable 0 3.11_01
strict 0 1.11
Sys::Hostname 0 1.22
Text::Balanced 0 2.03
Time::HiRes 0 1.9760
Treex::Block::Read::BaseSplitterRole 0 2.20160630
Treex::PML 0 2.24
Treex::PML::Factory 0 2.24
Treex::PML::IO 0 2.24
Treex::PML::Node 0 2.24
Treex::PML::Struct 0 2.24
UNIVERSAL::DOES 0 0.005
utf8 0 1.21
vars 0 1.04
warnings 0 1.42
YAML 0.72 1.27
build_requires:
Module Need Have
----------------------------------------------- ------- ----------
constant 0 1.33
ExtUtils::MakeMaker 0 7.35_09
File::Spec 0 3.75
IO::Handle 0 1.39
IPC::Open3 0 1.20
Test::Moose 0 2.2011
Test::More 0 1.302162
Test::Output 0 1.031
configure_requires:
Module Need Have
----------------------------------------------- ------- ----------
ExtUtils::MakeMaker 0 7.35_09
File::ShareDir::Install 0.06 0.13
------------------------------
ENVIRONMENT AND OTHER CONTEXT
------------------------------
Environment variables:
AUTOMATED_TESTING = 1
DBD_MYSQL_TESTDB = test
DBD_MYSQL_TESTHOST = localhost
DBD_MYSQL_TESTPASSWORD =
DBD_MYSQL_TESTPORT = 3306
DBD_MYSQL_TESTUSER = goku
EXTENDED_TESTING = 1
PATH = /home/goku/perl5/perlbrew/bin:/home/goku/perl5/perlbrew/perls/perl-5.28.1/bin:/home/goku/bin:/usr/bin:/bin:/usr/sbin:/sbin:/usr/X11R6/bin:/usr/local/bin:/usr/local/sbin
PERL5LIB =
PERL5OPT =
PERL5_CPANPLUS_IS_RUNNING = 57971
PERL5_CPAN_IS_RUNNING = 57971
PERL5_CPAN_IS_RUNNING_IN_RECURSION = 4015,57971
PERLBREW_HOME = /home/goku/.perlbrew
PERLBREW_MANPATH = /home/goku/perl5/perlbrew/perls/perl-5.28.1/man
PERLBREW_PATH = /home/goku/perl5/perlbrew/bin:/home/goku/perl5/perlbrew/perls/perl-5.28.1/bin
PERLBREW_PERL = perl-5.28.1
PERLBREW_ROOT = /home/goku/perl5/perlbrew
PERLBREW_SHELLRC_VERSION = 0.86
PERLBREW_VERSION = 0.86
PERL_CR_SMOKER_CURRENT = Treex-Core-2.20151210
PERL_EXTUTILS_AUTOINSTALL = --defaultdeps
PERL_MM_USE_DEFAULT = 1
PERL_USE_UNSAFE_INC = 1
SHELL = /usr/local/bin/bash
TERM = xterm
Perl special variables (and OS-specific diagnostics, for MSWin32):
$^X = /home/goku/perl5/perlbrew/perls/perl-5.28.1/bin/perl
$UID/$EUID = 1001 / 1001
$GID = 999 999 1001
$EGID = 999 999 1001
Perl module toolchain versions installed:
Module Have
------------------- --------
CPAN 2.25
CPAN::Meta 2.150010
Cwd 3.75
ExtUtils::CBuilder 0.280230
ExtUtils::Command 7.35_09
ExtUtils::Install 2.14
ExtUtils::MakeMaker 7.35_09
ExtUtils::Manifest 1.71
ExtUtils::ParseXS 3.35
File::Spec 3.75
JSON 4.01
JSON::PP 4.00
Module::Build 0.4224
Module::Signature n/a
Parse::CPAN::Meta 2.150010
Test::Harness 3.42
Test::More 1.302162
YAML 1.27
YAML::Syck n/a
version 0.9924
--
Summary of my perl5 (revision 5 version 28 subversion 1) configuration:
Platform:
osname=openbsd
osvers=6.4
archname=OpenBSD.amd64-openbsd-thread-multi
uname='openbsd cpan-smoker-openbsd 6.4 generic.mp#364 amd64 '
config_args='-de -Dprefix=/home/goku/perl5/perlbrew/perls/perl-5.28.1 -Dman1dir=none -Dman3dir=none -Dusethreads -Duse64bitall -Dusemultiplicity -Duse64bitint -Aeval:scriptdir=/home/goku/perl5/perlbrew/perls/perl-5.28.1/bin'
hint=recommended
useposix=true
d_sigaction=define
useithreads=define
usemultiplicity=define
use64bitint=define
use64bitall=define
uselongdouble=undef
usemymalloc=n
default_inc_excludes_dot=define
bincompat5005=undef
Compiler:
cc='cc'
ccflags ='-pthread -fno-strict-aliasing -pipe -fstack-protector-strong -I/usr/local/include -D_FORTIFY_SOURCE=2'
optimize='-O2'
cppflags='-pthread -fno-strict-aliasing -pipe -fstack-protector-strong -I/usr/local/include'
ccversion=''
gccversion='4.2.1 Compatible OpenBSD Clang 6.0.0 (tags/RELEASE_600/final)'
gccosandvers=''
intsize=4
longsize=8
ptrsize=8
doublesize=8
byteorder=12345678
doublekind=3
d_longlong=define
longlongsize=8
d_longdbl=define
longdblsize=16
longdblkind=3
ivtype='long'
ivsize=8
nvtype='double'
nvsize=8
Off_t='off_t'
lseeksize=8
alignbytes=8
prototype=define
Linker and Libraries:
ld='cc'
ldflags ='-pthread -Wl,-E -fstack-protector-strong -L/usr/local/lib'
libpth=/usr/lib /usr/local/lib
libs=-lpthread -lm -lutil -lc
perllibs=-lpthread -lm -lutil -lc
libc=/usr/lib/libc.so.92.5
so=so
useshrplib=false
libperl=libperl.a
gnulibc_version=''
Dynamic Linking:
dlsrc=dl_dlopen.xs
dlext=so
d_dlsymun=undef
ccdlflags=' '
cccdlflags='-DPIC -fPIC '
lddlflags='-shared -fPIC -L/usr/local/lib -fstack-protector-strong'
Characteristics of this binary (from libperl):
Compile-time options:
HAS_TIMES
MULTIPLICITY
PERLIO_LAYERS
PERL_COPY_ON_WRITE
PERL_DONT_CREATE_GVSV
PERL_IMPLICIT_CONTEXT
PERL_MALLOC_WRAP
PERL_OP_PARENT
PERL_PRESERVE_IVUV
USE_64_BIT_ALL
USE_64_BIT_INT
USE_ITHREADS
USE_LARGE_FILES
USE_LOCALE
USE_LOCALE_COLLATE
USE_LOCALE_CTYPE
USE_LOCALE_NUMERIC
USE_LOCALE_TIME
USE_PERLIO
USE_PERL_ATOF
USE_REENTRANT_API
Locally applied patches:
Devel::PatchPerl 1.52
Built under openbsd
Compiled at Jan 31 2019 01:06:57
%ENV:
PERL5LIB=""
PERL5OPT=""
PERL5_CPANPLUS_IS_RUNNING="57971"
PERL5_CPAN_IS_RUNNING="57971"
PERL5_CPAN_IS_RUNNING_IN_RECURSION="4015,57971"
PERLBREW_HOME="/home/goku/.perlbrew"
PERLBREW_MANPATH="/home/goku/perl5/perlbrew/perls/perl-5.28.1/man"
PERLBREW_PATH="/home/goku/perl5/perlbrew/bin:/home/goku/perl5/perlbrew/perls/perl-5.28.1/bin"
PERLBREW_PERL="perl-5.28.1"
PERLBREW_ROOT="/home/goku/perl5/perlbrew"
PERLBREW_SHELLRC_VERSION="0.86"
PERLBREW_VERSION="0.86"
PERL_CR_SMOKER_CURRENT="Treex-Core-2.20151210"
PERL_EXTUTILS_AUTOINSTALL="--defaultdeps"
PERL_MM_USE_DEFAULT="1"
PERL_USE_UNSAFE_INC="1"
@INC:
/home/goku/perl5/perlbrew/perls/perl-5.28.1/lib/site_perl/5.28.1/OpenBSD.amd64-openbsd-thread-multi
/home/goku/perl5/perlbrew/perls/perl-5.28.1/lib/site_perl/5.28.1
/home/goku/perl5/perlbrew/perls/perl-5.28.1/lib/5.28.1/OpenBSD.amd64-openbsd-thread-multi
/home/goku/perl5/perlbrew/perls/perl-5.28.1/lib/5.28.1
.