Report for Test-TempDir-0.10

Back
From: metabase:user:30ae4450-2aae-11df-837a-5e0a49663a4f
Subject: PASS Test-TempDir-0.10 v5.16.3 
Date: 2015-05-16T13:56:56Z

This distribution has been tested as part of the CPAN Testers
project, supporting the Perl programming language.  See
http://wiki.cpantesters.org/ for more information or email
questions to cpan-testers-discuss@perl.org


--
Dear Karen Etheridge,

This is a computer-generated report for Test-TempDir-0.10
on perl 5.16.3, created by CPAN-Reporter-1.2011_02.

Thank you for uploading your work to CPAN.  Congratulations!
All tests were successful.

Sections of this report:

    * Tester comments
    * Program output
    * Prerequisites
    * Environment and other context

------------------------------
TESTER COMMENTS
------------------------------

Additional comments from tester:

this report is from an automated smoke testing program
and was not reviewed by a human for accuracy

------------------------------
PROGRAM OUTPUT
------------------------------

Output from 'C:\strawberry163\perl\bin\perl.exe ./Build test':

# 
# Versions for all modules listed in MYMETA.json (including optional ones):
# 
# === Configure Requires ===
# 
#     Module               Want  Have
#     ------------------- ----- -----
#     Module::Build::Tiny 0.039 0.039
# 
# === Test Requires ===
# 
#     Module              Want     Have
#     ------------------- ---- --------
#     ExtUtils::MakeMaker  any     6.64
#     File::Path          2.04     2.09
#     File::Spec           any     3.40
#     Test::More          0.88 1.001002
#     Test::Requires       any     0.07
#     ok                   any     0.11
# 
# === Test Recommends ===
# 
#     Module         Want     Have
#     ---------- -------- --------
#     CPAN::Meta 2.120900 2.140640
# 
# === Runtime Requires ===
# 
#     Module                       Want     Have
#     ---------------------------- ---- --------
#     Carp                          any     1.26
#     File::NFSLock                 any     1.21
#     File::Spec                    any     3.40
#     File::Temp                    any     0.22
#     Moose                         any   2.1204
#     Moose::Util::TypeConstraints  any   2.1204
#     MooseX::Types::Path::Class    any     0.06
#     Path::Class                   any     0.33
#     Sub::Exporter                 any    0.985
#     Test::Builder                 any 1.001002
#     namespace::autoclean         0.08     0.13
#     strict                        any     1.07
#     warnings                      any     1.13
# 
# === Runtime Recommends ===
# 
#     Module             Want Have
#     ------------------ ---- ----
#     Directory::Scratch  any 0.15
# 
t/00-report-prereqs.t .. ok
Class::MOP::load_class is deprecated at C:/strawberry163/perl/site/lib/Class/MOP.pm line 73.
	Class::MOP::load_class('MooseX::Role::Parameterized::Meta::Role::Parameterized') called at C:/strawberry163/perl/vendor/lib/MooseX/Role/Parameterized/Meta/Role/Parameterizable.pm line 60
	MooseX::Role::Parameterized::Meta::Role::Parameterizable::generate_role('MooseX::Role::Parameterized::Meta::Role::Parameterizable=HASH...', 'consumer', 'Moose::Meta::Role=HASH(0x1682364)', 'parameters', 'HASH(0x16eb794)') called at C:/strawberry163/perl/vendor/lib/MooseX/Role/Parameterized/Meta/Role/Parameterizable.pm line 104
	MooseX::Role::Parameterized::Meta::Role::Parameterizable::apply('MooseX::Role::Parameterized::Meta::Role::Parameterizable=HASH...', 'Moose::Meta::Role=HASH(0x1682364)') called at C:/strawberry163/perl/site/lib/Moose/Util.pm line 166
	Moose::Util::_apply_all_roles('Moose::Meta::Role=HASH(0x1682364)', undef, 'MooseX::Getopt::GLD') called at C:/strawberry163/perl/site/lib/Moose/Util.pm line 108
	Moose::Util::apply_all_roles('Moose::Meta::Role=HASH(0x1682364)', 'MooseX::Getopt::GLD') called at C:/strawberry163/perl/site/lib/Moose/Role.pm line 27
	Moose::Role::with('Moose::Meta::Role=HASH(0x1682364)', 'MooseX::Getopt::GLD') called at C:/strawberry163/perl/site/lib/Moose/Exporter.pm line 405
	Moose::Role::with('MooseX::Getopt::GLD') called at C:/strawberry163/perl/site/lib/MooseX/Getopt.pm line 12
	require MooseX/Getopt.pm called at C:/strawberry163/perl/site/lib/MooseX/Types/Path/Class.pm line 35
	eval {...} called at C:/strawberry163/perl/site/lib/MooseX/Types/Path/Class.pm line 35
	require MooseX/Types/Path/Class.pm called at C:\strawberry163\cpan\build\Test-TempDir-0.10-RXPzBu\blib\lib/Test/TempDir/Handle.pm line 7
	Test::TempDir::Handle::BEGIN() called at C:/strawberry163/perl/site/lib/MooseX/Getopt.pm line 0
	eval {...} called at C:/strawberry163/perl/site/lib/MooseX/Getopt.pm line 0
	require Test/TempDir/Handle.pm called at t/00_load.t line 6
	main::BEGIN() called at C:/strawberry163/perl/site/lib/MooseX/Getopt.pm line 0
	eval {...} called at C:/strawberry163/perl/site/lib/MooseX/Getopt.pm line 0
	eval 'package main;

#line 6 t/00_load.t
use Test::TempDir::Handle @{$args[0]};
1;

;' called at C:/strawberry163/perl/lib/Test/More.pm line 992
	Test::More::_eval('package main;\x{a}\x{a}#line 6 t/00_load.t\x{a}use Test::TempDir::Handle ...', 'ARRAY(0xa7d89c)') called at C:/strawberry163/perl/lib/Test/More.pm line 967
	Test::More::use_ok('Test::TempDir::Handle') called at t/00_load.t line 6
	main::BEGIN() called at C:/strawberry163/perl/site/lib/MooseX/Getopt.pm line 0
	eval {...} called at C:/strawberry163/perl/site/lib/MooseX/Getopt.pm line 0
t/00_load.t ............ ok
Class::MOP::load_class is deprecated at C:/strawberry163/perl/site/lib/Class/MOP.pm line 73.
	Class::MOP::load_class('MooseX::Role::Parameterized::Meta::Role::Parameterized') called at C:/strawberry163/perl/vendor/lib/MooseX/Role/Parameterized/Meta/Role/Parameterizable.pm line 60
	MooseX::Role::Parameterized::Meta::Role::Parameterizable::generate_role('MooseX::Role::Parameterized::Meta::Role::Parameterizable=HASH...', 'consumer', 'Moose::Meta::Role=HASH(0x167804c)', 'parameters', 'HASH(0x16f1074)') called at C:/strawberry163/perl/vendor/lib/MooseX/Role/Parameterized/Meta/Role/Parameterizable.pm line 104
	MooseX::Role::Parameterized::Meta::Role::Parameterizable::apply('MooseX::Role::Parameterized::Meta::Role::Parameterizable=HASH...', 'Moose::Meta::Role=HASH(0x167804c)') called at C:/strawberry163/perl/site/lib/Moose/Util.pm line 166
	Moose::Util::_apply_all_roles('Moose::Meta::Role=HASH(0x167804c)', undef, 'MooseX::Getopt::GLD') called at C:/strawberry163/perl/site/lib/Moose/Util.pm line 108
	Moose::Util::apply_all_roles('Moose::Meta::Role=HASH(0x167804c)', 'MooseX::Getopt::GLD') called at C:/strawberry163/perl/site/lib/Moose/Role.pm line 27
	Moose::Role::with('Moose::Meta::Role=HASH(0x167804c)', 'MooseX::Getopt::GLD') called at C:/strawberry163/perl/site/lib/Moose/Exporter.pm line 405
	Moose::Role::with('MooseX::Getopt::GLD') called at C:/strawberry163/perl/site/lib/MooseX/Getopt.pm line 12
	require MooseX/Getopt.pm called at C:/strawberry163/perl/site/lib/MooseX/Types/Path/Class.pm line 35
	eval {...} called at C:/strawberry163/perl/site/lib/MooseX/Types/Path/Class.pm line 35
	require MooseX/Types/Path/Class.pm called at C:\strawberry163\cpan\build\Test-TempDir-0.10-RXPzBu\blib\lib/Test/TempDir/Factory.pm line 12
	Test::TempDir::Factory::BEGIN() called at C:/strawberry163/perl/site/lib/MooseX/Getopt.pm line 0
	eval {...} called at C:/strawberry163/perl/site/lib/MooseX/Getopt.pm line 0
	require Test/TempDir/Factory.pm called at C:\strawberry163\cpan\build\Test-TempDir-0.10-RXPzBu\blib\lib/Test/TempDir.pm line 10
	Test::TempDir::BEGIN() called at C:/strawberry163/perl/site/lib/MooseX/Getopt.pm line 0
	eval {...} called at C:/strawberry163/perl/site/lib/MooseX/Getopt.pm line 0
	require Test/TempDir.pm called at t/basic.t line 11
	main::BEGIN() called at C:/strawberry163/perl/site/lib/MooseX/Getopt.pm line 0
	eval {...} called at C:/strawberry163/perl/site/lib/MooseX/Getopt.pm line 0
	eval 'package main;

#line 11 t/basic.t
use Test::TempDir @{$args[0]};
1;

;' called at C:/strawberry163/perl/lib/Test/More.pm line 992
	Test::More::_eval('package main;\x{a}\x{a}#line 11 t/basic.t\x{a}use Test::TempDir @{$args[0...', 'ARRAY(0xa7e93c)') called at C:/strawberry163/perl/lib/Test/More.pm line 967
	Test::More::use_ok('Test::TempDir', 'temp_root', 'tempfile') called at t/basic.t line 11
	main::BEGIN() called at C:/strawberry163/perl/site/lib/MooseX/Getopt.pm line 0
	eval {...} called at C:/strawberry163/perl/site/lib/MooseX/Getopt.pm line 0
t/basic.t .............. ok
Class::MOP::load_class is deprecated at C:/strawberry163/perl/site/lib/Class/MOP.pm line 73.
	Class::MOP::load_class('MooseX::Role::Parameterized::Meta::Role::Parameterized') called at C:/strawberry163/perl/vendor/lib/MooseX/Role/Parameterized/Meta/Role/Parameterizable.pm line 60
	MooseX::Role::Parameterized::Meta::Role::Parameterizable::generate_role('MooseX::Role::Parameterized::Meta::Role::Parameterizable=HASH...', 'consumer', 'Moose::Meta::Role=HASH(0x171fc74)', 'parameters', 'HASH(0x1797004)') called at C:/strawberry163/perl/vendor/lib/MooseX/Role/Parameterized/Meta/Role/Parameterizable.pm line 104
	MooseX::Role::Parameterized::Meta::Role::Parameterizable::apply('MooseX::Role::Parameterized::Meta::Role::Parameterizable=HASH...', 'Moose::Meta::Role=HASH(0x171fc74)') called at C:/strawberry163/perl/site/lib/Moose/Util.pm line 166
	Moose::Util::_apply_all_roles('Moose::Meta::Role=HASH(0x171fc74)', undef, 'MooseX::Getopt::GLD') called at C:/strawberry163/perl/site/lib/Moose/Util.pm line 108
	Moose::Util::apply_all_roles('Moose::Meta::Role=HASH(0x171fc74)', 'MooseX::Getopt::GLD') called at C:/strawberry163/perl/site/lib/Moose/Role.pm line 27
	Moose::Role::with('Moose::Meta::Role=HASH(0x171fc74)', 'MooseX::Getopt::GLD') called at C:/strawberry163/perl/site/lib/Moose/Exporter.pm line 405
	Moose::Role::with('MooseX::Getopt::GLD') called at C:/strawberry163/perl/site/lib/MooseX/Getopt.pm line 12
	require MooseX/Getopt.pm called at C:/strawberry163/perl/site/lib/MooseX/Types/Path/Class.pm line 35
	eval {...} called at C:/strawberry163/perl/site/lib/MooseX/Types/Path/Class.pm line 35
	require MooseX/Types/Path/Class.pm called at C:\strawberry163\cpan\build\Test-TempDir-0.10-RXPzBu\blib\lib/Test/TempDir/Factory.pm line 12
	Test::TempDir::Factory::BEGIN() called at C:/strawberry163/perl/site/lib/MooseX/Getopt.pm line 0
	eval {...} called at C:/strawberry163/perl/site/lib/MooseX/Getopt.pm line 0
	require Test/TempDir/Factory.pm called at C:\strawberry163\cpan\build\Test-TempDir-0.10-RXPzBu\blib\lib/Test/TempDir.pm line 10
	Test::TempDir::BEGIN() called at C:/strawberry163/perl/site/lib/MooseX/Getopt.pm line 0
	eval {...} called at C:/strawberry163/perl/site/lib/MooseX/Getopt.pm line 0
	require Test/TempDir.pm called at t/directory_scratch.t line 13
	main::BEGIN() called at C:/strawberry163/perl/site/lib/MooseX/Getopt.pm line 0
	eval {...} called at C:/strawberry163/perl/site/lib/MooseX/Getopt.pm line 0
	eval 'package main;

#line 13 t/directory_scratch.t
use Test::TempDir @{$args[0]};
1;

;' called at C:/strawberry163/perl/lib/Test/More.pm line 992
	Test::More::_eval('package main;\x{a}\x{a}#line 13 t/directory_scratch.t\x{a}use Test::TempD...', 'ARRAY(0xa7e944)') called at C:/strawberry163/perl/lib/Test/More.pm line 967
	Test::More::use_ok('Test::TempDir', 'temp_root', 'scratch') called at t/directory_scratch.t line 13
	main::BEGIN() called at C:/strawberry163/perl/site/lib/MooseX/Getopt.pm line 0
	eval {...} called at C:/strawberry163/perl/site/lib/MooseX/Getopt.pm line 0
Warning: not cleaning up files in t\tmp\uMRnV9yVgq at t/directory_scratch.t line 0.
t/directory_scratch.t .. ok
Class::MOP::load_class is deprecated at C:/strawberry163/perl/site/lib/Class/MOP.pm line 73.
	Class::MOP::load_class('MooseX::Role::Parameterized::Meta::Role::Parameterized') called at C:/strawberry163/perl/vendor/lib/MooseX/Role/Parameterized/Meta/Role/Parameterizable.pm line 60
	MooseX::Role::Parameterized::Meta::Role::Parameterizable::generate_role('MooseX::Role::Parameterized::Meta::Role::Parameterizable=HASH...', 'consumer', 'Moose::Meta::Role=HASH(0x1676efc)', 'parameters', 'HASH(0x16f1914)') called at C:/strawberry163/perl/vendor/lib/MooseX/Role/Parameterized/Meta/Role/Parameterizable.pm line 104
	MooseX::Role::Parameterized::Meta::Role::Parameterizable::apply('MooseX::Role::Parameterized::Meta::Role::Parameterizable=HASH...', 'Moose::Meta::Role=HASH(0x1676efc)') called at C:/strawberry163/perl/site/lib/Moose/Util.pm line 166
	Moose::Util::_apply_all_roles('Moose::Meta::Role=HASH(0x1676efc)', undef, 'MooseX::Getopt::GLD') called at C:/strawberry163/perl/site/lib/Moose/Util.pm line 108
	Moose::Util::apply_all_roles('Moose::Meta::Role=HASH(0x1676efc)', 'MooseX::Getopt::GLD') called at C:/strawberry163/perl/site/lib/Moose/Role.pm line 27
	Moose::Role::with('Moose::Meta::Role=HASH(0x1676efc)', 'MooseX::Getopt::GLD') called at C:/strawberry163/perl/site/lib/Moose/Exporter.pm line 405
	Moose::Role::with('MooseX::Getopt::GLD') called at C:/strawberry163/perl/site/lib/MooseX/Getopt.pm line 12
	require MooseX/Getopt.pm called at C:/strawberry163/perl/site/lib/MooseX/Types/Path/Class.pm line 35
	eval {...} called at C:/strawberry163/perl/site/lib/MooseX/Types/Path/Class.pm line 35
	require MooseX/Types/Path/Class.pm called at C:\strawberry163\cpan\build\Test-TempDir-0.10-RXPzBu\blib\lib/Test/TempDir/Factory.pm line 12
	Test::TempDir::Factory::BEGIN() called at C:/strawberry163/perl/site/lib/MooseX/Getopt.pm line 0
	eval {...} called at C:/strawberry163/perl/site/lib/MooseX/Getopt.pm line 0
	require Test/TempDir/Factory.pm called at t/factory.t line 19
	main::BEGIN() called at C:/strawberry163/perl/site/lib/MooseX/Getopt.pm line 0
	eval {...} called at C:/strawberry163/perl/site/lib/MooseX/Getopt.pm line 0
	eval 'package main;

#line 19 t/factory.t
use Test::TempDir::Factory @{$args[0]};
1;

;' called at C:/strawberry163/perl/lib/Test/More.pm line 992
	Test::More::_eval('package main;\x{a}\x{a}#line 19 t/factory.t\x{a}use Test::TempDir::Factor...', 'ARRAY(0x9d51e4)') called at C:/strawberry163/perl/lib/Test/More.pm line 967
	Test::More::use_ok('Test::TempDir::Factory') called at t/factory.t line 19
	main::BEGIN() called at C:/strawberry163/perl/site/lib/MooseX/Getopt.pm line 0
	eval {...} called at C:/strawberry163/perl/site/lib/MooseX/Getopt.pm line 0
t/factory.t ............ ok
Class::MOP::load_class is deprecated at C:/strawberry163/perl/site/lib/Class/MOP.pm line 73.
	Class::MOP::load_class('MooseX::Role::Parameterized::Meta::Role::Parameterized') called at C:/strawberry163/perl/vendor/lib/MooseX/Role/Parameterized/Meta/Role/Parameterizable.pm line 60
	MooseX::Role::Parameterized::Meta::Role::Parameterizable::generate_role('MooseX::Role::Parameterized::Meta::Role::Parameterizable=HASH...', 'consumer', 'Moose::Meta::Role=HASH(0x1676d04)', 'parameters', 'HASH(0x16effac)') called at C:/strawberry163/perl/vendor/lib/MooseX/Role/Parameterized/Meta/Role/Parameterizable.pm line 104
	MooseX::Role::Parameterized::Meta::Role::Parameterizable::apply('MooseX::Role::Parameterized::Meta::Role::Parameterizable=HASH...', 'Moose::Meta::Role=HASH(0x1676d04)') called at C:/strawberry163/perl/site/lib/Moose/Util.pm line 166
	Moose::Util::_apply_all_roles('Moose::Meta::Role=HASH(0x1676d04)', undef, 'MooseX::Getopt::GLD') called at C:/strawberry163/perl/site/lib/Moose/Util.pm line 108
	Moose::Util::apply_all_roles('Moose::Meta::Role=HASH(0x1676d04)', 'MooseX::Getopt::GLD') called at C:/strawberry163/perl/site/lib/Moose/Role.pm line 27
	Moose::Role::with('Moose::Meta::Role=HASH(0x1676d04)', 'MooseX::Getopt::GLD') called at C:/strawberry163/perl/site/lib/Moose/Exporter.pm line 405
	Moose::Role::with('MooseX::Getopt::GLD') called at C:/strawberry163/perl/site/lib/MooseX/Getopt.pm line 12
	require MooseX/Getopt.pm called at C:/strawberry163/perl/site/lib/MooseX/Types/Path/Class.pm line 35
	eval {...} called at C:/strawberry163/perl/site/lib/MooseX/Types/Path/Class.pm line 35
	require MooseX/Types/Path/Class.pm called at C:\strawberry163\cpan\build\Test-TempDir-0.10-RXPzBu\blib\lib/Test/TempDir/Handle.pm line 7
	Test::TempDir::Handle::BEGIN() called at C:/strawberry163/perl/site/lib/MooseX/Getopt.pm line 0
	eval {...} called at C:/strawberry163/perl/site/lib/MooseX/Getopt.pm line 0
	require Test/TempDir/Handle.pm called at t/handle.t line 20
	main::BEGIN() called at C:/strawberry163/perl/site/lib/MooseX/Getopt.pm line 0
	eval {...} called at C:/strawberry163/perl/site/lib/MooseX/Getopt.pm line 0
	eval 'package main;

#line 20 t/handle.t
use Test::TempDir::Handle @{$args[0]};
1;

;' called at C:/strawberry163/perl/lib/Test/More.pm line 992
	Test::More::_eval('package main;\x{a}\x{a}#line 20 t/handle.t\x{a}use Test::TempDir::Handle ...', 'ARRAY(0xa7de04)') called at C:/strawberry163/perl/lib/Test/More.pm line 967
	Test::More::use_ok('Test::TempDir::Handle') called at t/handle.t line 20
	main::BEGIN() called at C:/strawberry163/perl/site/lib/MooseX/Getopt.pm line 0
	eval {...} called at C:/strawberry163/perl/site/lib/MooseX/Getopt.pm line 0
t/handle.t ............. ok
All tests successful.
Files=6, Tests=73,  6 wallclock secs ( 0.04 usr +  0.08 sys =  0.12 CPU)
Result: PASS

------------------------------
PREREQUISITES
------------------------------

Prerequisite modules loaded:

requires:

    Module                       Need  Have    
    ---------------------------- ----- --------
    Carp                         0     1.26    
    File::NFSLock                0     1.21    
    File::Spec                   0     3.40    
    File::Temp                   0     0.22    
    Moose                        0     2.1204  
    Moose::Util::TypeConstraints 0     2.1204  
    MooseX::Types::Path::Class   0     0.06    
    namespace::autoclean         0.08  0.13    
    Path::Class                  0     0.33    
    perl                         5.006 5.016003
    strict                       0     1.07    
    Sub::Exporter                0     0.985   
    Test::Builder                0     1.001002
    warnings                     0     1.13    

build_requires:

    Module                       Need  Have    
    ---------------------------- ----- --------
    ExtUtils::MakeMaker          0     6.64    
    File::Path                   2.04  2.09    
    File::Spec                   0     3.40    
    ok                           0     0.11    
    perl                         5.006 5.016003
    Test::More                   0.88  1.001002
    Test::Requires               0     0.07    

configure_requires:

    Module                       Need  Have    
    ---------------------------- ----- --------
    Module::Build::Tiny          0.039 0.039   
    perl                         5.006 5.016003


------------------------------
ENVIRONMENT AND OTHER CONTEXT
------------------------------

Environment variables:

    AUTOMATED_TESTING = 1
    COMSPEC = C:\WINDOWS\system32\cmd.exe
    NUMBER_OF_PROCESSORS = 1
    PATH = C:\WINDOWS\system32;C:\WINDOWS;C:\WINDOWS\System32\Wbem;C:\strawberry163\c\bin;C:\strawberry163\perl\site\bin;C:\strawberry163\perl\bin
    PERL5LIB = C:\strawberry163\cpan\build\Module-Build-Tiny-0.039-64PVeo/blib/arch;C:\strawberry163\cpan\build\Module-Build-Tiny-0.039-64PVeo/blib/lib
    PERL5OPT = 
    PERL5_CPANPLUS_IS_RUNNING = 1044
    PERL5_CPAN_IS_RUNNING = 1044
    PERL5_CPAN_IS_RUNNING_IN_RECURSION = 608,1044
    PERL_CR_SMOKER_CURRENT = Test-TempDir-0.10
    PERL_CR_SMOKER_RUNONCE = 1
    PERL_EXTUTILS_AUTOINSTALL = --defaultdeps
    PERL_MM_USE_DEFAULT = 1
    PROCESSOR_IDENTIFIER = x86 Family 16 Model 5 Stepping 3, AuthenticAMD
    TEMP = C:\DOCUME~1\c\LOCALS~1\Temp
    TERM = dumb

Perl special variables (and OS-specific diagnostics, for MSWin32):

    $^X = C:\strawberry163\perl\bin\perl.exe
    $UID/$EUID = 0 / 0
    $GID = 0
    $EGID = 0
    Win32::GetOSName = WinXP/.Net
    Win32::GetOSVersion = Service Pack 3, 5, 1, 2600, 2, 3, 0, 256, 1
    Win32::FsType = NTFS
    Win32::IsAdminUser = 1

Perl module toolchain versions installed:

    Module              Have    
    ------------------- --------
    CPAN                2.00    
    CPAN::Meta          2.140640
    Cwd                 3.40    
    ExtUtils::CBuilder  0.280206
    ExtUtils::Command   1.17    
    ExtUtils::Install   1.58    
    ExtUtils::MakeMaker 6.64    
    ExtUtils::Manifest  1.61    
    ExtUtils::ParseXS   3.24    
    File::Spec          3.40    
    JSON                2.90    
    JSON::PP            2.27203 
    Module::Build       0.4205  
    Module::Signature   0.70    
    Parse::CPAN::Meta   1.4414  
    Test::Harness       3.30    
    Test::More          1.001002
    YAML                0.90    
    YAML::Syck          1.24    
    version             0.9902  


--

Summary of my perl5 (revision 5 version 16 subversion 3) configuration:
   
  Platform:
    osname=MSWin32, osvers=4.0, archname=MSWin32-x86-multi-thread
    uname='Win32 strawberry-perl 5.16.3.1 #1 Tue Mar 12 13:55:20 2013 i386'
    config_args='undef'
    hint=recommended, useposix=true, d_sigaction=undef
    useithreads=define, usemultiplicity=define
    useperlio=define, d_sfio=undef, uselargefiles=define, usesocks=undef
    use64bitint=undef, use64bitall=undef, uselongdouble=undef
    usemymalloc=n, bincompat5005=undef
  Compiler:
    cc='gcc', ccflags =' -s -O2 -DWIN32  -DPERL_TEXTMODE_SCRIPTS -DPERL_IMPLICIT_CONTEXT -DPERL_IMPLICIT_SYS -fno-strict-aliasing -mms-bitfields',
    optimize='-s -O2',
    cppflags='-DWIN32'
    ccversion='', gccversion='4.6.3', gccosandvers=''
    intsize=4, longsize=4, ptrsize=4, doublesize=8, byteorder=1234
    d_longlong=undef, longlongsize=8, d_longdbl=define, longdblsize=12
    ivtype='long', ivsize=4, nvtype='double', nvsize=8, Off_t='long long', lseeksize=8
    alignbytes=8, prototype=define
  Linker and Libraries:
    ld='g++', ldflags ='-s -L"C:\strawberry163\perl\lib\CORE" -L"C:\strawberry163\c\lib"'
    libpth=C:\strawberry163\c\lib C:\strawberry163\c\i686-w64-mingw32\lib
    libs=-lmoldname -lkernel32 -luser32 -lgdi32 -lwinspool -lcomdlg32 -ladvapi32 -lshell32 -lole32 -loleaut32 -lnetapi32 -luuid -lws2_32 -lmpr -lwinmm -lversion -lodbc32 -lodbccp32 -lcomctl32
    perllibs=-lmoldname -lkernel32 -luser32 -lgdi32 -lwinspool -lcomdlg32 -ladvapi32 -lshell32 -lole32 -loleaut32 -lnetapi32 -luuid -lws2_32 -lmpr -lwinmm -lversion -lodbc32 -lodbccp32 -lcomctl32
    libc=, so=dll, useshrplib=true, libperl=libperl516.a
    gnulibc_version=''
  Dynamic Linking:
    dlsrc=dl_win32.xs, dlext=dll, d_dlsymun=undef, ccdlflags=' '
    cccdlflags=' ', lddlflags='-mdll -s -L"C:\strawberry163\perl\lib\CORE" -L"C:\strawberry163\c\lib"'


Characteristics of this binary (from libperl): 
  Compile-time options: HAS_TIMES HAVE_INTERP_INTERN MULTIPLICITY
                        PERLIO_LAYERS PERL_DONT_CREATE_GVSV
                        PERL_IMPLICIT_CONTEXT PERL_IMPLICIT_SYS
                        PERL_MALLOC_WRAP PERL_PRESERVE_IVUV PL_OP_SLAB_ALLOC
                        USE_ITHREADS USE_LARGE_FILES USE_LOCALE
                        USE_LOCALE_COLLATE USE_LOCALE_CTYPE
                        USE_LOCALE_NUMERIC USE_PERLIO USE_PERL_ATOF
  Built under MSWin32
  Compiled at Mar 12 2013 14:01:07
  %ENV:
    PERL5LIB="C:\strawberry163\cpan\build\Module-Build-Tiny-0.039-64PVeo/blib/arch;C:\strawberry163\cpan\build\Module-Build-Tiny-0.039-64PVeo/blib/lib"
    PERL5_CPANPLUS_IS_RUNNING="1044"
    PERL5_CPAN_IS_RUNNING="1044"
    PERL5_CPAN_IS_RUNNING_IN_RECURSION="608,1044"
    PERL_CR_SMOKER_CURRENT="Test-TempDir-0.10"
    PERL_CR_SMOKER_RUNONCE="1"
    PERL_EXTUTILS_AUTOINSTALL="--defaultdeps"
    PERL_MM_USE_DEFAULT="1"
  @INC:
    C:\strawberry163\cpan\build\Module-Build-Tiny-0.039-64PVeo/blib/arch
    C:\strawberry163\cpan\build\Module-Build-Tiny-0.039-64PVeo/blib/lib
    C:/strawberry163/perl/site/lib
    C:/strawberry163/perl/vendor/lib
    C:/strawberry163/perl/lib
    .