Dist-Zilla-Plugin-CheckExtraTests v0.029 Perl 5 v5.32.1 x86_64-linux
- Status
- Pass
- From
- Dan Book
- Dist
-
Dist-Zilla-Plugin-CheckExtraTests v0.029
- Platform
- Perl 5 v5.32.1 x86_64-linux
- Date
- 2021-02-16 22:30:30
- ID
- 9374468a-70a6-11eb-8997-1c192214a73b
This distribution has been tested as part of the CPAN Testers
project, supporting the Perl programming language. See
http://wiki.cpantesters.org/ for more information or email
questions to cpan-testers-discuss@perl.org
--
Dear DAGOLDEN,
This is a computer-generated report for Dist-Zilla-Plugin-CheckExtraTests-0.029
on perl 5.32.1, created by App::cpanminus::reporter 0.17 (1.7044).
Thank you for uploading your work to CPAN. Congratulations!
All tests were successful.
Sections of this report:
* Tester comments
* Program output
* Prerequisites
* Environment and other context
------------------------------
TESTER COMMENTS
------------------------------
Additional comments from tester:
none provided
------------------------------
PROGRAM OUTPUT
------------------------------
Output from '':
Building and testing Dist-Zilla-Plugin-CheckExtraTests-0.029
cp lib/Dist/Zilla/App/Command/xtest.pm blib/lib/Dist/Zilla/App/Command/xtest.pm
cp lib/Dist/Zilla/Plugin/RunExtraTests.pm blib/lib/Dist/Zilla/Plugin/RunExtraTests.pm
cp lib/Dist/Zilla/Plugin/CheckExtraTests.pm blib/lib/Dist/Zilla/Plugin/CheckExtraTests.pm
Manifying 3 pod documents
PERL_DL_NONLAZY=1 "/home/grinnz/.plenv/versions/5.32.1/bin/perl5.32.1" "-MExtUtils::Command::MM" "-MTest::Harness" "-e" "undef *Test::Harness::Switches; test_harness(0, 'blib/lib', 'blib/arch')" t/*.t
#
# Versions for all modules listed in MYMETA.json (including optional ones):
#
# === Configure Requires ===
#
# Module Want Have
# ------------------- ---- ----
# ExtUtils::MakeMaker 6.17 7.44
#
# === Configure Suggests ===
#
# Module Want Have
# -------- ------- ----
# JSON::PP 2.27300 4.04
#
# === Build Requires ===
#
# Module Want Have
# ------------------- ---- ----
# ExtUtils::MakeMaker any 7.44
#
# === Test Requires ===
#
# Module Want Have
# ------------------------ ---- --------
# Capture::Tiny any 0.48
# Dist::Zilla::App::Tester any 6.017
# ExtUtils::MakeMaker any 7.44
# File::Spec any 3.78
# Params::Util any 1.102
# Sub::Exporter any 0.987
# Test::More 0.88 1.302183
# Test::Requires any 0.11
# Try::Tiny any 0.30
# lib any 0.65
#
# === Test Recommends ===
#
# Module Want Have
# ---------- -------- --------
# CPAN::Meta 2.120900 2.150010
#
# === Runtime Requires ===
#
# Module Want Have
# -------------------------------- ----- ------
# App::Prove 3.00 3.42
# Archive::Tar any 2.38
# Dist::Zilla 4.3 6.017
# Dist::Zilla::App any 6.017
# Dist::Zilla::Role::BeforeRelease any 6.017
# Dist::Zilla::Role::TestRunner any 6.017
# File::pushd any 1.016
# Moose 2 2.2014
# Path::Iterator::Rule any 1.014
# Path::Tiny 0.013 0.118
# namespace::autoclean 0.09 0.29
# strict any 1.11
# warnings any 1.47
#
t/00-report-prereqs.t .. ok
t/checkxt.t ............ ok
t/runxt.t .............. ok
t/withblib.t ........... ok
All tests successful.
Files=4, Tests=20, 10 wallclock secs ( 0.03 usr 0.01 sys + 8.26 cusr 1.82 csys = 10.12 CPU)
Result: PASS
------------------------------
PREREQUISITES
------------------------------
Prerequisite modules loaded:
No requirements found
------------------------------
ENVIRONMENT AND OTHER CONTEXT
------------------------------
Environment variables:
LANG = en_US.UTF-8
PATH = /home/grinnz/.plenv/versions/5.32.1/bin:/home/grinnz/.plenv/libexec:/home/grinnz/.plenv/plugins/perl-build/bin:/home/grinnz/.plenv/plugins/plenv-contrib/bin:/home/grinnz/.plenv/shims:/home/grinnz/.plenv/bin:/usr/local/cuda/bin:/home/grinnz/.plenv/bin:/usr/local/cuda/bin:/usr/local/bin:/usr/bin:/usr/local/sbin:/usr/sbin
SHELL = /usr/bin/fish
TERM = screen
Perl special variables (and OS-specific diagnostics, for MSWin32):
EGID = 1000 10 26 135 974 1000
EUID = 1000
EXECUTABLE_NAME = /home/grinnz/.plenv/versions/5.32.1/bin/perl5.32.1
GID = 1000 10 26 135 974 1000
UID = 1000
Perl module toolchain versions installed:
Module Have
------------------- --------
CPAN 2.28
CPAN::Meta 2.150010
Cwd 3.78
ExtUtils::CBuilder 0.280236
ExtUtils::Command 7.58
ExtUtils::Install 2.20
ExtUtils::MakeMaker 7.58
ExtUtils::Manifest 1.72
ExtUtils::ParseXS 3.40
File::Spec 3.78
JSON 4.03
JSON::PP 4.06
Module::Build 0.4231
Module::Signature 0.87
Parse::CPAN::Meta 2.150010
Test::Harness 3.42
Test::More 1.302183
YAML 1.30
YAML::Syck n/a
version 0.9928
--
Summary of my perl5 (revision 5 version 32 subversion 1) configuration:
Platform:
osname=linux
osvers=5.9.11-100.fc32.x86_64
archname=x86_64-linux
uname='linux home.grinnz.com 5.9.11-100.fc32.x86_64 #1 smp tue nov 24 19:16:53 utc 2020 x86_64 x86_64 x86_64 gnulinux '
config_args='-Dprefix=/home/grinnz/.plenv/versions/5.32.1 -de -Dversiononly -A'eval:scriptdir=/home/grinnz/.plenv/versions/5.32.1/bin''
hint=recommended
useposix=true
d_sigaction=define
useithreads=undef
usemultiplicity=undef
use64bitint=define
use64bitall=define
uselongdouble=undef
usemymalloc=n
default_inc_excludes_dot=define
bincompat5005=undef
Compiler:
cc='cc'
ccflags ='-fwrapv -fno-strict-aliasing -pipe -fstack-protector-strong -I/usr/local/include -D_LARGEFILE_SOURCE -D_FILE_OFFSET_BITS=64 -D_FORTIFY_SOURCE=2'
optimize='-O2'
cppflags='-fwrapv -fno-strict-aliasing -pipe -fstack-protector-strong -I/usr/local/include'
ccversion=''
gccversion='10.2.1 20201016 (Red Hat 10.2.1-6)'
gccosandvers=''
intsize=4
longsize=8
ptrsize=8
doublesize=8
byteorder=12345678
doublekind=3
d_longlong=define
longlongsize=8
d_longdbl=define
longdblsize=16
longdblkind=3
ivtype='long'
ivsize=8
nvtype='double'
nvsize=8
Off_t='off_t'
lseeksize=8
alignbytes=8
prototype=define
Linker and Libraries:
ld='cc'
ldflags =' -fstack-protector-strong -L/usr/local/lib'
libpth=/usr/local/lib /usr/lib /lib/../lib64 /usr/lib/../lib64 /lib /lib64 /usr/lib64 /usr/local/lib64
libs=-lpthread -lgdbm -ldb -ldl -lm -lcrypt -lutil -lc -lgdbm_compat
perllibs=-lpthread -ldl -lm -lcrypt -lutil -lc
libc=libc-2.31.so
so=so
useshrplib=false
libperl=libperl.a
gnulibc_version='2.31'
Dynamic Linking:
dlsrc=dl_dlopen.xs
dlext=so
d_dlsymun=undef
ccdlflags='-Wl,-E'
cccdlflags='-fPIC'
lddlflags='-shared -O2 -L/usr/local/lib -fstack-protector-strong'
Characteristics of this binary (from libperl):
Compile-time options:
HAS_TIMES
PERLIO_LAYERS
PERL_COPY_ON_WRITE
PERL_DONT_CREATE_GVSV
PERL_MALLOC_WRAP
PERL_OP_PARENT
PERL_PRESERVE_IVUV
USE_64_BIT_ALL
USE_64_BIT_INT
USE_LARGE_FILES
USE_LOCALE
USE_LOCALE_COLLATE
USE_LOCALE_CTYPE
USE_LOCALE_NUMERIC
USE_LOCALE_TIME
USE_PERLIO
USE_PERL_ATOF
Built under linux
Compiled at Feb 16 2021 14:27:44
@INC:
/home/grinnz/.plenv/versions/5.32.1/lib/perl5/site_perl/5.32.1/x86_64-linux
/home/grinnz/.plenv/versions/5.32.1/lib/perl5/site_perl/5.32.1
/home/grinnz/.plenv/versions/5.32.1/lib/perl5/5.32.1/x86_64-linux
/home/grinnz/.plenv/versions/5.32.1/lib/perl5/5.32.1