CGI-Buffer v0.82 Perl 5 v5.24.3 darwin-2level

Status
Pass
From
Nigel Horne
Dist
CGI-Buffer v0.82
Platform
Perl 5 v5.24.3 darwin-2level
Date
2018-09-05 16:13:05
ID
9236a642-b126-11e8-8f24-f51a558d364c
This distribution has been tested as part of the CPAN Testers
project, supporting the Perl programming language.  See
http://wiki.cpantesters.org/ for more information or email
questions to cpan-testers-discuss@perl.org


--
Dear Nigel Horne,

This is a computer-generated report for CGI-Buffer-0.82
on perl 5.24.3, created by CPAN-Reporter-1.2018.

Thank you for uploading your work to CPAN.  Congratulations!
All tests were successful.

Sections of this report:

    * Tester comments
    * Program output
    * Prerequisites
    * Environment and other context

------------------------------
TESTER COMMENTS
------------------------------

Additional comments from tester:

none provided

------------------------------
PROGRAM OUTPUT
------------------------------

Output from '/sw/bin/make test':

PERL_DL_NONLAZY=1 "/Users/hornenj/perl5/perlbrew/perls/perl-5.24.3/bin/perl5.24.3" "-MExtUtils::Command::MM" "-MTest::Harness" "-e" "undef *Test::Harness::Switches; test_harness(0, 'blib/lib', 'blib/arch')" t/*.t
t/apoc.t ........... skipped: Test::Apocalypse required for testing the distribution
t/boiler.t ......... ok
# Testing CGI::Buffer 0.82, Perl 5.024003, /Users/hornenj/perl5/perlbrew/perls/perl-5.24.3/bin/perl5.24.3
t/00-load.t ........ ok
t/changes.t ........ skipped: Author tests not required for installation
t/critic.t ......... skipped: Author tests not required for installation
t/cv.t ............. skipped: Author tests not required for installation
t/coverage.t ....... ok
t/dist.t ........... skipped: Author tests not required for installation
t/gv.t ............. skipped: Author tests not required for installation
t/is_cached.t ...... ok
t/kwalitee.t ....... skipped: Author tests not required for installation
t/links.t .......... skipped: Author tests not required for installation
t/js.t ............. ok
t/manifest.t ....... skipped: Author tests not required for installation
t/metrics.t ........ skipped: Author tests not required for installation
t/namespaces.t ..... skipped: Author tests not required for installation
t/last_mod.t ....... ok
t/no404s.t ......... skipped: Author tests not required for installation
# Author tests not required for installation
t/noopentickets.t .. ok
t/noplan.t ......... skipped: Author tests not required for installation
t/pod-cm.t ......... skipped: Test::Pod::Spelling::CommonMistakes required for testing POD spelling
t/pod.t ............ skipped: Author tests not required for installation
t/port.t ........... skipped: Test::Portability::Files required for testing filenames portability
t/prereq.t ......... skipped: Author tests not required for installation
t/snippets.t ....... skipped: Author tests not required for installation
t/spelling.t ....... skipped: Author tests not required for installation
t/strict.t ......... skipped: Author tests not required for installation
t/too_late.t ....... ok
t/unused.t ......... skipped: Author tests not required for installation
t/used.t ........... skipped: Author tests not required for installation
t/vars.t ........... skipped: Author tests not required for installation
# Ignore warning about <a> is never closed
(1:59): <a> at (1:13) is never closed
(1:66): <head> tag is required
(1:66): <title> tag is required
t/output.t ......... ok
All tests successful.

Test Summary Report
-------------------
t/boiler.t       (Wstat: 0 Tests: 3 Failed: 0)
  TODO passed:   1-3
Files=32, Tests=133,  2 wallclock secs ( 0.07 usr  0.05 sys +  3.47 cusr  0.87 csys =  4.46 CPU)
Result: PASS

------------------------------
PREREQUISITES
------------------------------

Prerequisite modules loaded:

requires:

    Module               Need     Have     
    -------------------- -------- ---------
    Carp                 0        1.40     
    CGI::Info            0.51     0.67     
    Compress::Zlib       0        2.069_001
    CSS::Packer          0        2.05     
    Digest::MD5          0        2.54     
    Encode               0        2.80_01  
    File::Spec           0        3.74     
    HTML::Lint           0        2.26     
    HTML::Packer         1        2.06     
    HTTP::Date           0        6.02     
    HTTP::Status         0        6.13     
    IO::Compress::Brotli 0.003    0.004    
    IO::String           0        1.08     
    JavaScript::Packer   2        2.03     
    perl                 5.006002 5.024003 
    Storable             0        2.56_01  
    Time::localtime      0        1.02     

build_requires:

    Module               Need     Have     
    -------------------- -------- ---------
    DateTime             0        1.44     
    ExtUtils::MakeMaker  0        7.34     
    Test::Most           0        0.35     
    Test::TempDir::Tiny  0        0.016    
    WWW::RT::CPAN        0        0.002    

configure_requires:

    Module               Need     Have     
    -------------------- -------- ---------
    ExtUtils::MakeMaker  0        7.34     


------------------------------
ENVIRONMENT AND OTHER CONTEXT
------------------------------

Environment variables:

    HARNESS_OPTIONS = c:j3
    LANG = en_US.UTF-8
    LC_ALL = POSIX
    LDFLAGS = -L/Users/hornenj/openssl/lib
    NONINTERACTIVE_TESTING = 1
    PATH = /Users/hornenj/perl5/perlbrew/bin:/Users/hornenj/perl5/perlbrew/perls/perl-5.24.3/bin:/Users/hornenj/perl5/perlbrew/bin:/Users/hornenj/perl5/perlbrew/perls/perl-5.29.1-thread/bin:/Users/hornenj/homebrew/bin:/Users/hornenj/bin:/usr/bin:/bin:/usr/X11R6/bin:/sw/bin
    PERL5LIB = 
    PERL5OPT = 
    PERL5_CPANPLUS_IS_RUNNING = 49948
    PERL5_CPAN_IS_RUNNING = 49948
    PERLBREW_HOME = /Users/hornenj/.perlbrew
    PERLBREW_LIB = 
    PERLBREW_MANPATH = /Users/hornenj/perl5/perlbrew/perls/perl-5.24.3/man
    PERLBREW_PATH = /Users/hornenj/perl5/perlbrew/bin:/Users/hornenj/perl5/perlbrew/perls/perl-5.24.3/bin
    PERLBREW_PERL = perl-5.24.3
    PERLBREW_ROOT = /Users/hornenj/perl5/perlbrew
    PERLBREW_SHELLRC_VERSION = 0.84
    PERLBREW_VERSION = 0.84
    PERL_LOCAL_LIB_ROOT = 
    PERL_MM_USE_DEFAULT = 1
    SHELL = /bin/bash
    TERM = xterm-256color
    TMPDIR = /var/folders/pz/pd7y1qjs6s3cbk170cw50fjc000c61/T/
    VERSIONER_PERL_PREFER_32_BIT = no
    VERSIONER_PERL_VERSION = 5.18

Perl special variables (and OS-specific diagnostics, for MSWin32):

    $^X = /Users/hornenj/perl5/perlbrew/perls/perl-5.24.3/bin/perl5.24.3
    $UID/$EUID = 12481 / 12481
    $GID = 14 14 206 5344 37191 527 12 62 98 204 399 37223 241 223 100
    $EGID = 14 14 206 5344 37191 527 12 62 98 204 399 37223 241 223 100

Perl module toolchain versions installed:

    Module              Have      
    ------------------- ----------
    CPAN                2.16      
    CPAN::Meta          2.150010  
    Cwd                 3.74      
    ExtUtils::CBuilder  0.280225  
    ExtUtils::Command   7.34      
    ExtUtils::Install   2.06      
    ExtUtils::MakeMaker 7.34      
    ExtUtils::Manifest  1.70      
    ExtUtils::ParseXS   3.31      
    File::Spec          3.74      
    JSON                2.97001   
    JSON::PP            2.27300_01
    Module::Build       0.4224    
    Module::Signature   n/a       
    Parse::CPAN::Meta   2.150010  
    Test::Harness       3.36_01   
    Test::More          1.302106  
    YAML                1.26      
    YAML::Syck          1.30      
    version             0.9916    


--

Summary of my perl5 (revision 5 version 24 subversion 3) configuration:
   
  Platform:
    osname=darwin, osvers=16.7.0, archname=darwin-2level
    uname='darwin ncbimac2024 16.7.0 darwin kernel version 16.7.0: thu jun 15 17:36:27 pdt 2017; root:xnu-3789.70.16~2release_x86_64 x86_64 '
    config_args='-de -Dprefix=/Users/hornenj/perl5/perlbrew/perls/perl-5.24.3 -Dusedevel -Accflags=-O2 -W -Wformat=2 -Wswitch -Wshadow -Wwrite-strings -Wuninitialized -Wall -pipe -fomit-frame-pointer -pedantic -D_FORTIFY_SOURCE=2 -Wpointer-arith -Wstrict-prototypes -fstack-protector -Wstack-protector -Wextra -Wbad-function-cast -Wcast-align -Wcast-qual -Wdisabled-optimization -Wendif-labels -Wfloat-equal -Wformat-nonliteral -Winline -Wmissing-declarations -Wmissing-prototypes -Wnested-externs -Wpointer-arith -Wundef -Wformat-security -ftree-vectorize -mmmx -msse -mfpmath=sse -msse2 -msse3 -msse4.1 -msse4.2 -fdiagnostics-color=auto -mtune=native -march=native -I/Users/hornenj/openssl/include -Aldflags=-L/Users/hornenj/openssl/lib -Addflags=-L/Users/hornenj/openssl/lib -Acc=cc -Aeval:scriptdir=/Users/hornenj/perl5/perlbrew/perls/perl-5.24.3/bin'
    hint=recommended, useposix=true, d_sigaction=define
    useithreads=undef, usemultiplicity=undef
    use64bitint=define, use64bitall=define, uselongdouble=undef
    usemymalloc=n, bincompat5005=undef
  Compiler:
    cc=' cc', ccflags ='-fno-common -DPERL_DARWIN -O2 -W -Wformat=2 -Wswitch -Wshadow -Wwrite-strings -Wuninitialized -Wall -pipe -fomit-frame-pointer -pedantic -D_FORTIFY_SOURCE=2 -Wpointer-arith -Wstrict-prototypes -fstack-protector -Wstack-protector -Wextra -Wbad-function-cast -Wcast-align -Wcast-qual -Wdisabled-optimization -Wendif-labels -Wfloat-equal -Wformat-nonliteral -Winline -Wmissing-declarations -Wmissing-prototypes -Wnested-externs -Wpointer-arith -Wundef -Wformat-security -ftree-vectorize -mmmx -msse -mfpmath=sse -msse2 -msse3 -msse4.1 -msse4.2 -fdiagnostics-color=auto -mtune=native -march=native -I/Users/hornenj/openssl/include -fno-strict-aliasing -fstack-protector-strong',
    optimize='-O3',
    cppflags='-fno-common -DPERL_DARWIN -O2 -W -Wformat=2 -Wswitch -Wshadow -Wwrite-strings -Wuninitialized -Wall -pipe -fomit-frame-pointer -pedantic -D_FORTIFY_SOURCE=2 -Wpointer-arith -Wstrict-prototypes -fstack-protector -Wstack-protector -Wextra -Wbad-function-cast -Wcast-align -Wcast-qual -Wdisabled-optimization -Wendif-labels -Wfloat-equal -Wformat-nonliteral -Winline -Wmissing-declarations -Wmissing-prototypes -Wnested-externs -Wpointer-arith -Wundef -Wformat-security -ftree-vectorize -mmmx -msse -mfpmath=sse -msse2 -msse3 -msse4.1 -msse4.2 -fdiagnostics-color=auto -mtune=native -march=native -I/Users/hornenj/openssl/include -fno-strict-aliasing -fstack-protector-strong'
    ccversion='', gccversion='4.2.1 Compatible Apple LLVM 8.1.0 (clang-802.0.42)', gccosandvers=''
    intsize=4, longsize=8, ptrsize=8, doublesize=8, byteorder=12345678, doublekind=3
    d_longlong=define, longlongsize=8, d_longdbl=define, longdblsize=16, longdblkind=3
    ivtype='long', ivsize=8, nvtype='double', nvsize=8, Off_t='off_t', lseeksize=8
    alignbytes=8, prototype=define
  Linker and Libraries:
    ld='env MACOSX_DEPLOYMENT_TARGET=10.3 cc', ldflags =' -L/Users/hornenj/openssl/lib -fstack-protector-strong -L/usr/local/lib'
    libpth=/Applications/Xcode.app/Contents/Developer/Toolchains/XcodeDefault.xctoolchain/usr/bin/../lib/clang/8.1.0/lib /Applications/Xcode.app/Contents/Developer/Toolchains/XcodeDefault.xctoolchain/usr/lib /usr/lib /usr/local/lib
    libs=-lpthread -ldbm -ldl -lm -lutil -lc
    perllibs=-lpthread -ldl -lm -lutil -lc
    libc=, so=dylib, useshrplib=false, libperl=libperl.a
    gnulibc_version=''
  Dynamic Linking:
    dlsrc=dl_dlopen.xs, dlext=bundle, d_dlsymun=undef, ccdlflags=' '
    cccdlflags=' ', lddlflags=' -bundle -undefined dynamic_lookup -L/Users/hornenj/openssl/lib -L/usr/local/lib -fstack-protector-strong'


Characteristics of this binary (from libperl): 
  Compile-time options: HAS_TIMES PERLIO_LAYERS PERL_COPY_ON_WRITE
                        PERL_DONT_CREATE_GVSV
                        PERL_HASH_FUNC_ONE_AT_A_TIME_HARD PERL_MALLOC_WRAP
                        PERL_PRESERVE_IVUV PERL_USE_DEVEL USE_64_BIT_ALL
                        USE_64_BIT_INT USE_LARGE_FILES USE_LOCALE
                        USE_LOCALE_COLLATE USE_LOCALE_CTYPE
                        USE_LOCALE_NUMERIC USE_LOCALE_TIME USE_PERLIO
                        USE_PERL_ATOF
  Locally applied patches:
	Devel::PatchPerl 1.30
  Built under darwin
  Compiled at Oct 16 2017 10:19:39
  %ENV:
    PERL5LIB=""
    PERL5OPT=""
    PERL5_CPANPLUS_IS_RUNNING="49948"
    PERL5_CPAN_IS_RUNNING="49948"
    PERLBREW_HOME="/Users/hornenj/.perlbrew"
    PERLBREW_LIB=""
    PERLBREW_MANPATH="/Users/hornenj/perl5/perlbrew/perls/perl-5.24.3/man"
    PERLBREW_PATH="/Users/hornenj/perl5/perlbrew/bin:/Users/hornenj/perl5/perlbrew/perls/perl-5.24.3/bin"
    PERLBREW_PERL="perl-5.24.3"
    PERLBREW_ROOT="/Users/hornenj/perl5/perlbrew"
    PERLBREW_SHELLRC_VERSION="0.84"
    PERLBREW_VERSION="0.84"
    PERL_LOCAL_LIB_ROOT=""
    PERL_MM_USE_DEFAULT="1"
  @INC:
    /Users/hornenj/perl5/perlbrew/perls/perl-5.24.3/lib/site_perl/5.24.3/darwin-2level
    /Users/hornenj/perl5/perlbrew/perls/perl-5.24.3/lib/site_perl/5.24.3
    /Users/hornenj/perl5/perlbrew/perls/perl-5.24.3/lib/5.24.3/darwin-2level
    /Users/hornenj/perl5/perlbrew/perls/perl-5.24.3/lib/5.24.3
    .