Report for Template-Stash-AutoEscaping-0.0301

Back
From: metabase:user:30f0bd62-2aae-11df-837a-5e0a49663a4f
Subject: PASS Template-Stash-AutoEscaping-0.0301 v5.12.3 OpenBSD
Date: 2011-05-06T01:38:40Z

This distribution has been tested as part of the CPAN Testers
project, supporting the Perl programming language.  See
http://wiki.cpantesters.org/ for more information or email
questions to cpan-testers-discuss@perl.org


--
Dear Shlomi Fish,

This is a computer-generated report for Template-Stash-AutoEscaping-0.0301
on perl 5.12.3, created by CPAN-Reporter-1.1902.

Thank you for uploading your work to CPAN.  Congratulations!
All tests were successful.

Sections of this report:

    * Tester comments
    * Program output
    * Prerequisites
    * Environment and other context

------------------------------
TESTER COMMENTS
------------------------------

Additional comments from tester:

this report is from an automated smoke testing program
and was not reviewed by a human for accuracy

------------------------------
PROGRAM OUTPUT
------------------------------

Output from '/usr/bin/make test':

PERL_DL_NONLAZY=1 /home/sts/cpansmoke/perl-5.12.3/bin/perl "-MExtUtils::Command::MM" "-e" "test_harness(0, 'inc', 'blib/lib', 'blib/arch')" t/*.t
t/00_compile.t ............. ok
t/01_module.t .............. ok
t/02_hashkey.t ............. ok
t/03_die_on_non_escaped.t .. ok
All tests successful.
Files=4, Tests=27,  1 wallclock secs ( 0.03 usr  0.02 sys +  0.55 cusr  0.12 csys =  0.72 CPU)
Result: PASS

------------------------------
PREREQUISITES
------------------------------

Prerequisite modules loaded:

requires:

    Module                   Need Have 
    ------------------------ ---- -----
    base                     0    2.15 
    Class::Data::Inheritable 0    0.08 
    Data::Dumper             0    2.125
    ExtUtils::MakeMaker      6.42 6.56 
    Filter::Util::Call       0    1.08 
    overload                 0    1.10 
    strict                   0    1.04 
    Template                 0    2.22 
    Template::Config         0    2.75 
    Template::Exception      0    2.7  
    Test::More               0    0.94 
    UNIVERSAL::require       0    0.13 
    URI                      0    1.58 
    warnings                 0    1.09 

configure_requires:

    Module                   Need Have 
    ------------------------ ---- -----
    ExtUtils::MakeMaker      6.42 6.56 


------------------------------
ENVIRONMENT AND OTHER CONTEXT
------------------------------

Environment variables:

    AUTOMATED_TESTING = 1
    LC_CTYPE = en_US.UTF-8
    PATH = /home/sts/bin:/bin:/sbin:/usr/bin:/usr/sbin:/usr/X11R6/bin:/usr/local/bin:/usr/local/sbin:/usr/games:.
    PERL5LIB = /home/sts/cpansmoke/perl-5.12.3/cpan/build/Class-Data-Inheritable-0.08-kd4kRb/blib/arch:/home/sts/cpansmoke/perl-5.12.3/cpan/build/Class-Data-Inheritable-0.08-kd4kRb/blib/lib:/home/sts/cpansmoke/perl-5.12.3/cpan/build/Template-Toolkit-2.22-3dRx83/blib/arch:/home/sts/cpansmoke/perl-5.12.3/cpan/build/Template-Toolkit-2.22-3dRx83/blib/lib:/home/sts/cpansmoke/perl-5.12.3/cpan/build/UNIVERSAL-require-0.13-iPlbyg/blib/arch:/home/sts/cpansmoke/perl-5.12.3/cpan/build/UNIVERSAL-require-0.13-iPlbyg/blib/lib:/home/sts/cpansmoke/perl-5.12.3/cpan/build/AppConfig-1.66-QV3Vrx/blib/arch:/home/sts/cpansmoke/perl-5.12.3/cpan/build/AppConfig-1.66-QV3Vrx/blib/lib
    PERL5OPT = 
    PERL5_CPANPLUS_IS_RUNNING = 29546
    PERL5_CPAN_IS_RUNNING = 29546
    PERL5_CPAN_IS_RUNNING_IN_RECURSION = 9424,29546
    PERL_CR_SMOKER_CURRENT = Template-Stash-AutoEscaping-0.0301
    PERL_EXTUTILS_AUTOINSTALL = --defaultdeps
    PERL_MM_USE_DEFAULT = 1
    SHELL = /usr/local/bin/bash
    TERM = screen
    TMPDIR = /home/sts/cpansmoke/tmp

Perl special variables (and OS-specific diagnostics, for MSWin32):

    $^X = /home/sts/cpansmoke/perl-5.12.3/bin/perl
    $UID/$EUID = 1000 / 1000
    $GID = 10 10 0
    $EGID = 10 10 0

Perl module toolchain versions installed:

    Module              Have   
    ------------------- -------
    CPAN                1.9600 
    Cwd                 3.31   
    ExtUtils::CBuilder  0.27   
    ExtUtils::Command   1.16   
    ExtUtils::Install   1.55   
    ExtUtils::MakeMaker 6.56   
    ExtUtils::Manifest  1.57   
    ExtUtils::ParseXS   2.21   
    File::Spec          3.31_01
    Module::Build       0.3603 
    Module::Signature   n/a    
    Test::Harness       3.17   
    Test::More          0.94   
    YAML                0.73   
    YAML::Syck          n/a    
    version             0.82   


--

Summary of my perl5 (revision 5 version 12 subversion 3) configuration:
   
  Platform:
    osname=openbsd, osvers=4.9, archname=OpenBSD.i386-openbsd-thread-multi
    uname='openbsd cpansmoke3 4.9 generic.mp#794 i386 '
    config_args='-des -Dusethreads -Dprefix=/home/sts/cpansmoke/perl-5.12.3'
    hint=recommended, useposix=true, d_sigaction=define
    useithreads=define, usemultiplicity=define
    useperlio=define, d_sfio=undef, uselargefiles=define, usesocks=undef
    use64bitint=undef, use64bitall=undef, uselongdouble=undef
    usemymalloc=n, bincompat5005=undef
  Compiler:
    cc='cc', ccflags ='-pthread -fno-strict-aliasing -pipe -fstack-protector -I/usr/local/include',
    optimize='-O2',
    cppflags='-pthread -fno-strict-aliasing -pipe -fstack-protector -I/usr/local/include'
    ccversion='', gccversion='4.2.1 20070719 ', gccosandvers='openbsd4.9'
    intsize=4, longsize=4, ptrsize=4, doublesize=8, byteorder=1234
    d_longlong=define, longlongsize=8, d_longdbl=define, longdblsize=12
    ivtype='long', ivsize=4, nvtype='double', nvsize=8, Off_t='off_t', lseeksize=8
    alignbytes=4, prototype=define
  Linker and Libraries:
    ld='cc', ldflags ='-pthread -Wl,-E  -fstack-protector -L/usr/local/lib'
    libpth=/usr/local/lib /usr/lib
    libs=-lgdbm -lm -lutil -lc
    perllibs=-lm -lutil -lc
    libc=/usr/lib/libc.so.58.0, so=so, useshrplib=false, libperl=libperl.a
    gnulibc_version=''
  Dynamic Linking:
    dlsrc=dl_dlopen.xs, dlext=so, d_dlsymun=undef, ccdlflags=' '
    cccdlflags='-DPIC -fPIC ', lddlflags='-shared -fPIC  -L/usr/local/lib -fstack-protector'


Characteristics of this binary (from libperl): 
  Compile-time options: MULTIPLICITY PERL_DONT_CREATE_GVSV
                        PERL_IMPLICIT_CONTEXT PERL_MALLOC_WRAP USE_ITHREADS
                        USE_LARGE_FILES USE_PERLIO USE_PERL_ATOF
                        USE_REENTRANT_API
  Built under openbsd
  Compiled at May  3 2011 17:48:15
  %ENV:
    PERL5LIB="/home/sts/cpansmoke/perl-5.12.3/cpan/build/Class-Data-Inheritable-0.08-kd4kRb/blib/arch:/home/sts/cpansmoke/perl-5.12.3/cpan/build/Class-Data-Inheritable-0.08-kd4kRb/blib/lib:/home/sts/cpansmoke/perl-5.12.3/cpan/build/Template-Toolkit-2.22-3dRx83/blib/arch:/home/sts/cpansmoke/perl-5.12.3/cpan/build/Template-Toolkit-2.22-3dRx83/blib/lib:/home/sts/cpansmoke/perl-5.12.3/cpan/build/UNIVERSAL-require-0.13-iPlbyg/blib/arch:/home/sts/cpansmoke/perl-5.12.3/cpan/build/UNIVERSAL-require-0.13-iPlbyg/blib/lib:/home/sts/cpansmoke/perl-5.12.3/cpan/build/AppConfig-1.66-QV3Vrx/blib/arch:/home/sts/cpansmoke/perl-5.12.3/cpan/build/AppConfig-1.66-QV3Vrx/blib/lib"
    PERL5OPT=""
    PERL5_CPANPLUS_IS_RUNNING="29546"
    PERL5_CPAN_IS_RUNNING="29546"
    PERL5_CPAN_IS_RUNNING_IN_RECURSION="9424,29546"
    PERL_CR_SMOKER_CURRENT="Template-Stash-AutoEscaping-0.0301"
    PERL_EXTUTILS_AUTOINSTALL="--defaultdeps"
    PERL_MM_USE_DEFAULT="1"
  @INC:
    /home/sts/cpansmoke/perl-5.12.3/cpan/build/Class-Data-Inheritable-0.08-kd4kRb/blib/arch
    /home/sts/cpansmoke/perl-5.12.3/cpan/build/Class-Data-Inheritable-0.08-kd4kRb/blib/lib
    /home/sts/cpansmoke/perl-5.12.3/cpan/build/Template-Toolkit-2.22-3dRx83/blib/arch
    /home/sts/cpansmoke/perl-5.12.3/cpan/build/Template-Toolkit-2.22-3dRx83/blib/lib
    /home/sts/cpansmoke/perl-5.12.3/cpan/build/UNIVERSAL-require-0.13-iPlbyg/blib/arch
    /home/sts/cpansmoke/perl-5.12.3/cpan/build/UNIVERSAL-require-0.13-iPlbyg/blib/lib
    /home/sts/cpansmoke/perl-5.12.3/cpan/build/AppConfig-1.66-QV3Vrx/blib/arch
    /home/sts/cpansmoke/perl-5.12.3/cpan/build/AppConfig-1.66-QV3Vrx/blib/lib
    /home/sts/cpansmoke/perl-5.12.3/lib/site_perl/5.12.3/OpenBSD.i386-openbsd-thread-multi
    /home/sts/cpansmoke/perl-5.12.3/lib/site_perl/5.12.3
    /home/sts/cpansmoke/perl-5.12.3/lib/5.12.3/OpenBSD.i386-openbsd-thread-multi
    /home/sts/cpansmoke/perl-5.12.3/lib/5.12.3
    .