Report for KiokuDB-0.57

Back
From: metabase:user:320bfe00-2aae-11df-837a-5e0a49663a4f
Subject: PASS KiokuDB-0.57 v5.21.11 GNU/Linux
Date: 2015-03-30T23:07:42Z

This distribution has been tested as part of the CPAN Testers
project, supporting the Perl programming language.  See
http://wiki.cpantesters.org/ for more information or email
questions to cpan-testers-discuss@perl.org


--
Dear Jesse Luehrs,

This is a computer-generated report for KiokuDB-0.57
on perl 5.21.11, created by CPAN-Reporter-1.2011.

Thank you for uploading your work to CPAN.  Congratulations!
All tests were successful.

Sections of this report:

    * Tester comments
    * Program output
    * Prerequisites
    * Environment and other context

------------------------------
TESTER COMMENTS
------------------------------

Additional comments from tester:

this report is from an automated smoke testing program
and was not reviewed by a human for accuracy

------------------------------
PROGRAM OUTPUT
------------------------------

Output from '/usr/bin/make test':

PERL_DL_NONLAZY=1 "/home/sand/src/perl/repoperls/installed-perls/host/k83x386w/v5.21.10-46-gcb74824/37ba/bin/perl" "-MExtUtils::Command::MM" "-MTest::Harness" "-e" "undef *Test::Harness::Switches; test_harness(0, 'blib/lib', 'blib/arch')" t/*.t
t/00-compile.t ................. ok
t/coderefs.t ................... ok
t/collapser.t .................. ok
t/digest.t ..................... ok
t/directory.t .................. ok
t/entry.t ...................... ok
t/gc_naive.t ................... ok
t/gin.t ........................ ok
t/hash.t ....................... ok
t/hash_backend.t ............... ok
t/jspon_serialization.t ........ ok
t/kiokudb_class_native.t ....... ok
t/lazy.t ....................... ok
t/link_checker.t ............... ok
t/link_checker_real.t .......... ok
t/live_objs.t .................. ok
t/moose_triggers.t ............. ok
t/ref.t ........................ ok
t/scaling.t .................... ok
t/serializer.t ................. ok
t/stream.t ..................... ok
t/tied.t ....................... ok
t/typemap.t .................... ok
t/typemap_default_json.t ....... ok
t/typemap_default_storable.t ... ok
t/typemap_entry_callback.t ..... ok
t/typemap_entry_mop.t .......... ok
t/typemap_entry_naive.t ........ ok
t/typemap_entry_passthrough.t .. ok
t/typemap_entry_storable.t ..... ok
t/typemap_extra.t .............. ok
t/typemap_resolver.t ........... ok
t/typemap_values.t ............. ok
t/uuid.t ....................... ok
t/versioning.t ................. ok
All tests successful.
Files=35, Tests=23560, 174 wallclock secs ( 2.91 usr  0.63 sys + 119.60 cusr 11.59 csys = 134.73 CPU)
Result: PASS

------------------------------
PREREQUISITES
------------------------------

Prerequisite modules loaded:

requires:

    Module                                         Need   Have    
    ---------------------------------------------- ------ --------
    B                                              0      1.57    
    B::Deparse                                     0      1.35    
    Cache::Ref                                     0.02   0.04    
    Carp                                           0      1.36    
    Class::Load                                    0      0.22    
    constant                                       0      1.33    
    Data::Stream::Bulk                             0.08   0.11    
    Data::Stream::Bulk::Util                       0      0.11    
    Data::Swap                                     0      0.08    
    Data::UUID                                     1.203  1.220   
    Data::Visitor                                  0.24   0.30    
    Digest::SHA                                    0      5.95    
    Encode                                         0      2.72    
    Hash::Util::FieldHash::Compat                  0      0.08    
    IO::Handle                                     0      1.35    
    JSON                                           2.12   2.90    
    JSON::XS                                       2.231  3.01    
    List::Util                                     0      1.41    
    Module::Pluggable::Object                      0      5.1     
    Moose                                          2.0000 2.1403  
    Moose::Exporter                                0      2.1403  
    Moose::Role                                    0      2.1403  
    Moose::Util                                    0      2.1403  
    Moose::Util::MetaRole                          0      2.1403  
    Moose::Util::TypeConstraints                   0      2.1403  
    MooseX::Clone                                  0.04   0.05    
    MooseX::Clone::Meta::Attribute::Trait::NoClone 0      0       
    MooseX::Role::Parameterized                    0.10   1.08    
    MooseX::YAML                                   0.04   0.04    
    namespace::clean                               0.08   0.25    
    overload                                       0      1.25    
    PadWalker                                      1.9    2.0     
    Path::Class                                    0      0.35    
    POSIX                                          0      1.52    
    Scalar::Util                                   0      1.41    
    Scope::Guard                                   0      0.20    
    Search::GIN::Driver                            0      0.11    
    Search::GIN::Extract                           0      0.11    
    Search::GIN::Query::Class                      0.03   0.11    
    Set::Object                                    1.26   1.34    
    Storable                                       0      2.53    
    strict                                         0      1.09    
    Sub::Exporter                                  0      0.987   
    Symbol                                         0      1.07    
    Test::Exception                                0      0.38    
    Test::Moose                                    0      2.1403  
    Test::More                                     0.88   1.001014
    Throwable                                      0      0.200012
    Tie::RefHash                                   0      1.39    
    Tie::ToObject                                  0      0.03    
    Try::Tiny                                      0      0.22    
    utf8                                           0      1.16    
    warnings                                       0      1.32    
    YAML::XS                                       0.30   0.59    

build_requires:

    Module                                         Need   Have    
    ---------------------------------------------- ------ --------
    base                                           0      2.22    
    Cache::Ref::CART                               0      0.04    
    Cache::Ref::CLOCK                              0      0.04    
    Data::Dumper                                   0      2.158   
    Data::Stream::Bulk::Callback                   0      0.11    
    File::Spec                                     0      3.56    
    if                                             0      0.0604  
    IO::Handle                                     0      1.35    
    IPC::Open3                                     0      1.18    
    Search::GIN::Driver::Hash                      0      0.11    
    Search::GIN::Extract::Class                    0      0.11    
    Search::GIN::Extract::Delegate                 0      0.11    
    Test::More                                     0.88   1.001014

configure_requires:

    Module                                         Need   Have    
    ---------------------------------------------- ------ --------
    ExtUtils::MakeMaker                            6.30   7.04    


------------------------------
ENVIRONMENT AND OTHER CONTEXT
------------------------------

Environment variables:

    AUTOMATED_TESTING = 1
    LANG = C
    PATH = /home/sand/bin:/usr/local/bin:/usr/bin:/bin:/usr/bin/X11:/usr/games:/usr/local/perl/bin:/usr/X11/bin:/sbin:/usr/sbin
    PERL5LIB = 
    PERL5OPT = 
    PERL5_CPANPLUS_IS_RUNNING = 28117
    PERL5_CPAN_IS_RUNNING = 28117
    PERL_MM_USE_DEFAULT = 1
    SHELL = /usr/bin/zsh
    TERM = screen

Perl special variables (and OS-specific diagnostics, for MSWin32):

    $^X = /home/sand/src/perl/repoperls/installed-perls/host/k83x386w/v5.21.10-46-gcb74824/37ba/bin/perl
    $UID/$EUID = 1005 / 1005
    $GID = 1005 1005
    $EGID = 1005 1005

Perl module toolchain versions installed:

    Module              Have    
    ------------------- --------
    CPAN                2.10    
    CPAN::Meta          2.150001
    Cwd                 3.56    
    ExtUtils::CBuilder  0.280221
    ExtUtils::Command   1.20    
    ExtUtils::Install   2.04    
    ExtUtils::MakeMaker 7.04    
    ExtUtils::Manifest  1.70    
    ExtUtils::ParseXS   3.28    
    File::Spec          3.56    
    JSON                2.90    
    JSON::PP            2.27300 
    Module::Build       0.4211  
    Module::Signature   0.73    
    Parse::CPAN::Meta   1.4414  
    Test::Harness       3.35    
    Test::More          1.001014
    YAML                1.14    
    YAML::Syck          1.29    
    version             0.9909  


--

Summary of my perl5 (revision 5 version 21 subversion 11) configuration:
  Commit id: cb74824085db788b8cbf6dbde3c1f1f39d978811
  Platform:
    osname=linux, osvers=3.2.0-4-686-pae, archname=i686-linux-ld
    uname='linux k83x386w 3.2.0-4-686-pae #1 smp debian 3.2.65-1+deb7u2 i686 gnulinux '
    config_args='-Dprefix=/home/sand/src/perl/repoperls/installed-perls/host/k83x386w/v5.21.10-46-gcb74824/37ba -Dmyhostname=k83x386w -Dinstallusrbinperl=n -Uversiononly -Dusedevel -des -Ui_db -Uuseithreads -Duselongdouble -DDEBUGGING=-g'
    hint=recommended, useposix=true, d_sigaction=define
    useithreads=undef, usemultiplicity=undef
    use64bitint=undef, use64bitall=undef, uselongdouble=define
    usemymalloc=n, bincompat5005=undef
  Compiler:
    cc='cc', ccflags ='-fwrapv -fno-strict-aliasing -pipe -fstack-protector -I/usr/local/include -D_LARGEFILE_SOURCE -D_FILE_OFFSET_BITS=64 -D_FORTIFY_SOURCE=2',
    optimize='-O2 -g',
    cppflags='-fwrapv -fno-strict-aliasing -pipe -fstack-protector -I/usr/local/include'
    ccversion='', gccversion='4.7.2', gccosandvers=''
    intsize=4, longsize=4, ptrsize=4, doublesize=8, byteorder=1234, doublekind=3
    d_longlong=define, longlongsize=8, d_longdbl=define, longdblsize=12, longdblkind=3
    ivtype='long', ivsize=4, nvtype='long double', nvsize=12, Off_t='off_t', lseeksize=8
    alignbytes=4, prototype=define
  Linker and Libraries:
    ld='cc', ldflags =' -fstack-protector -L/usr/local/lib'
    libpth=/usr/local/lib /usr/lib/gcc/i486-linux-gnu/4.7/include-fixed /usr/include/i386-linux-gnu /usr/lib /lib/i386-linux-gnu /lib/../lib /usr/lib/i386-linux-gnu /usr/lib/../lib /lib
    libs=-lpthread -lnsl -ldb -ldl -lm -lcrypt -lutil -lc
    perllibs=-lpthread -lnsl -ldl -lm -lcrypt -lutil -lc
    libc=libc-2.13.so, so=so, useshrplib=false, libperl=libperl.a
    gnulibc_version='2.13'
  Dynamic Linking:
    dlsrc=dl_dlopen.xs, dlext=so, d_dlsymun=undef, ccdlflags='-Wl,-E'
    cccdlflags='-fPIC', lddlflags='-shared -O2 -g -L/usr/local/lib -fstack-protector'


Characteristics of this binary (from libperl): 
  Compile-time options: HAS_TIMES PERLIO_LAYERS PERL_DONT_CREATE_GVSV
                        PERL_HASH_FUNC_ONE_AT_A_TIME_HARD PERL_MALLOC_WRAP
                        PERL_NEW_COPY_ON_WRITE PERL_PRESERVE_IVUV
                        PERL_USE_DEVEL USE_LARGE_FILES USE_LOCALE
                        USE_LOCALE_COLLATE USE_LOCALE_CTYPE
                        USE_LOCALE_NUMERIC USE_LOCALE_TIME USE_LONG_DOUBLE
                        USE_PERLIO USE_PERL_ATOF
  Built under linux
  Compiled at Mar 30 2015 22:00:46
  %ENV:
    PERL5LIB=""
    PERL5OPT=""
    PERL5_CPANPLUS_IS_RUNNING="28117"
    PERL5_CPAN_IS_RUNNING="28117"
    PERL_MM_USE_DEFAULT="1"
  @INC:
    /home/sand/src/perl/repoperls/installed-perls/host/k83x386w/v5.21.10-46-gcb74824/37ba/lib/site_perl/5.21.11/i686-linux-ld
    /home/sand/src/perl/repoperls/installed-perls/host/k83x386w/v5.21.10-46-gcb74824/37ba/lib/site_perl/5.21.11
    /home/sand/src/perl/repoperls/installed-perls/host/k83x386w/v5.21.10-46-gcb74824/37ba/lib/5.21.11/i686-linux-ld
    /home/sand/src/perl/repoperls/installed-perls/host/k83x386w/v5.21.10-46-gcb74824/37ba/lib/5.21.11
    .