Report for Bread-Board-Declare-0.16

Back
From: metabase:user:68a9c4ac-1ec7-11e0-bf29-9c4bfeb2ac3f
Subject: PASS Bread-Board-Declare-0.16 v5.14.4 GNU/Linux
Date: 2015-03-18T05:28:09Z

This distribution has been tested as part of the CPAN Testers
project, supporting the Perl programming language.  See
http://wiki.cpantesters.org/ for more information or email
questions to cpan-testers-discuss@perl.org


--
Dear Jesse Luehrs,

This is a computer-generated report for Bread-Board-Declare-0.16
on perl 5.14.4, created by CPAN-Reporter-1.2011.

Thank you for uploading your work to CPAN.  Congratulations!
All tests were successful.

Sections of this report:

    * Tester comments
    * Program output
    * Prerequisites
    * Environment and other context

------------------------------
TESTER COMMENTS
------------------------------

Additional comments from tester:

none provided

------------------------------
PROGRAM OUTPUT
------------------------------

Output from '/usr/bin/make test':

PERL_DL_NONLAZY=1 "/home/rando/perl5/perlbrew/perls/14.4/bin/perl" "-MExtUtils::Command::MM" "-MTest::Harness" "-e" "undef *Test::Harness::Switches; test_harness(0, 'blib/lib', 'blib/arch')" t/*.t
t/00-compile.t .............. ok
t/auto-deref.t .............. ok
t/basic.t ................... ok
t/block.t ................... ok
t/circular-dependency.t ..... ok
t/constructor-name.t ........ ok
t/defaults.t ................ ok
t/deps.t .................... ok
t/extends.t ................. ok
t/infer-loading.t ........... ok
t/infer-subclasses.t ........ ok
t/infer.t ................... ok
t/inheritance.t ............. ok
t/inline-services.t ......... ok
t/inlining.t ................ ok
t/leak.t .................... ok
t/lifecycle.t ............... ok
t/mop.t ..................... ok
t/more-inheritance.t ........ ok
t/multiple-instantiation.t .. ok
t/no-service.t .............. ok
t/parameters.t .............. ok
t/roles.t ................... ok
t/subcontainers.t ........... ok
t/type-checks.t ............. ok
All tests successful.
Files=25, Tests=358, 17 wallclock secs ( 0.15 usr  0.03 sys + 16.64 cusr  0.68 csys = 17.50 CPU)
Result: PASS

------------------------------
PREREQUISITES
------------------------------

Prerequisite modules loaded:

requires:

    Module                             Need Have    
    ---------------------------------- ---- --------
    Bread::Board                       0    0.32    
    Bread::Board::BlockInjection       0    0.32    
    Bread::Board::ConstructorInjection 0    0.32    
    Bread::Board::Literal              0    0.32    
    Bread::Board::Service              0    0.32    
    Bread::Board::Types                0    0.32    
    Class::Load                        0    0.22    
    Moose                              0    2.1403  
    Moose::Exporter                    0    2.1403  
    Moose::Role                        0    2.1403  
    Moose::Util                        0    2.1403  

build_requires:

    Module                             Need Have    
    ---------------------------------- ---- --------
    File::Spec                         0    3.47    
    IO::Handle                         0    1.31    
    IPC::Open3                         0    1.0901  
    lib                                0    0.63    
    Moose::Util::TypeConstraints       0    2.1403  
    strict                             0    1.04    
    Test::Fatal                        0    0.014   
    Test::Moose                        0    2.1403  
    Test::More                         0.88 1.001014
    warnings                           0    1.12    

configure_requires:

    Module                             Need Have    
    ---------------------------------- ---- --------
    ExtUtils::MakeMaker                6.30 7.04    


------------------------------
ENVIRONMENT AND OTHER CONTEXT
------------------------------

Environment variables:

    HARNESS_SUBCLASS = TAP::Harness::Restricted
    LANG = en_US.UTF-8
    LANGUAGE = en_US.UTF-8
    LC_ALL = en_US.UTF-8
    LC_CTYPE = en_US.UTF-8
    NONINTERACTIVE_TESTING = 1
    PATH = /home/rando/perl5/perlbrew/bin:/home/rando/perl5/perlbrew/perls/14.4/bin:/home/rando/data/devel/linux:/home/rando/scala/sbt/bin:/home/rando/scala/local/bin:/home/rando/.rvm/gems/ruby-1.9.3-p286/bin:/home/rando/.rvm/gems/ruby-1.9.3-p286@global/bin:/home/rando/.rvm/rubies/ruby-1.9.3-p286/bin:/home/rando/.rvm/bin:/home/rando/python/venv/2.7.3/bin:/home/rando/perl5/perlbrew/bin:/home/rando/perl5/perlbrew/perls/local/bin:/home/rando/node/global/bin:/home/rando/usr/iojs/bin:/home/rando/java/jdk1.7.0_11/bin:/home/rando/gopath/bin:/home/rando/go/bin:/home/rando/bin:/home/rando/usr/bin:/usr/lib/lightdm/lightdm:/usr/local/sbin:/usr/local/bin:/usr/sbin:/usr/bin:/sbin:/bin:/usr/games
    PERL5LIB = 
    PERL5OPT = 
    PERL5_CPANPLUS_IS_RUNNING = 3104
    PERL5_CPAN_IS_RUNNING = 3104
    PERLBREW_BASHRC_VERSION = 0.73
    PERLBREW_HOME = /home/rando/.perlbrew
    PERLBREW_LIB = 
    PERLBREW_MANPATH = /home/rando/perl5/perlbrew/perls/14.4/man
    PERLBREW_PATH = /home/rando/perl5/perlbrew/bin:/home/rando/perl5/perlbrew/perls/14.4/bin
    PERLBREW_PERL = 14.4
    PERLBREW_ROOT = /home/rando/perl5/perlbrew
    PERLBREW_VERSION = 0.73
    PERL_LOCAL_LIB_ROOT = 
    PERL_MM_USE_DEFAULT = 1
    SHELL = /usr/bin/zsh
    TERM = screen-256color

Perl special variables (and OS-specific diagnostics, for MSWin32):

    $^X = /home/rando/perl5/perlbrew/perls/14.4/bin/perl
    $UID/$EUID = 1000 / 1000
    $GID = 1000 4 24 27 30 46 105 110 123 127 1000 1002
    $EGID = 1000 4 24 27 30 46 105 110 123 127 1000 1002

Perl module toolchain versions installed:

    Module              Have    
    ------------------- --------
    CPAN                2.10    
    CPAN::Meta          2.150001
    Cwd                 3.47    
    ExtUtils::CBuilder  0.280220
    ExtUtils::Command   1.17    
    ExtUtils::Install   1.56    
    ExtUtils::MakeMaker 7.04    
    ExtUtils::Manifest  1.65    
    ExtUtils::ParseXS   2.2210  
    File::Spec          3.47    
    JSON                2.90    
    JSON::PP            2.27300 
    Module::Build       0.4211  
    Module::Signature   0.73    
    Parse::CPAN::Meta   1.4414  
    Test::Harness       3.35    
    Test::More          1.001014
    YAML                1.14    
    YAML::Syck          1.29    
    version             0.9912  


--

Summary of my perl5 (revision 5 version 14 subversion 4) configuration:
   
  Platform:
    osname=linux, osvers=3.2.0-76-generic, archname=x86_64-linux
    uname='linux raptor 3.2.0-76-generic #111-ubuntu smp tue jan 13 22:16:09 utc 2015 x86_64 x86_64 x86_64 gnulinux '
    config_args='-de -Dprefix=/home/rando/perl5/perlbrew/perls/14.4 -Dman1dir=none -Dman3dir=none -Aeval:scriptdir=/home/rando/perl5/perlbrew/perls/14.4/bin'
    hint=recommended, useposix=true, d_sigaction=define
    useithreads=undef, usemultiplicity=undef
    useperlio=define, d_sfio=undef, uselargefiles=define, usesocks=undef
    use64bitint=define, use64bitall=define, uselongdouble=undef
    usemymalloc=n, bincompat5005=undef
  Compiler:
    cc='cc', ccflags ='-fno-strict-aliasing -pipe -fstack-protector -I/usr/local/include -D_LARGEFILE_SOURCE -D_FILE_OFFSET_BITS=64',
    optimize='-O2',
    cppflags='-fno-strict-aliasing -pipe -fstack-protector -I/usr/local/include'
    ccversion='', gccversion='4.6.3', gccosandvers=''
    intsize=4, longsize=8, ptrsize=8, doublesize=8, byteorder=12345678
    d_longlong=define, longlongsize=8, d_longdbl=define, longdblsize=16
    ivtype='long', ivsize=8, nvtype='double', nvsize=8, Off_t='off_t', lseeksize=8
    alignbytes=8, prototype=define
  Linker and Libraries:
    ld='cc', ldflags =' -fstack-protector -L/usr/local/lib'
    libpth=/usr/local/lib /lib/x86_64-linux-gnu /lib/../lib /usr/lib/x86_64-linux-gnu /usr/lib/../lib /lib /usr/lib
    libs=-lnsl -ldl -lm -lcrypt -lutil -lc
    perllibs=-lnsl -ldl -lm -lcrypt -lutil -lc
    libc=libc-2.15.so, so=so, useshrplib=false, libperl=libperl.a
    gnulibc_version='2.15'
  Dynamic Linking:
    dlsrc=dl_dlopen.xs, dlext=so, d_dlsymun=undef, ccdlflags='-Wl,-E'
    cccdlflags='-fPIC', lddlflags='-shared -O2 -L/usr/local/lib -fstack-protector'


Characteristics of this binary (from libperl): 
  Compile-time options: PERL_DONT_CREATE_GVSV PERL_MALLOC_WRAP
                        PERL_PRESERVE_IVUV USE_64_BIT_ALL USE_64_BIT_INT
                        USE_LARGE_FILES USE_PERLIO USE_PERL_ATOF
  Locally applied patches:
	Devel::PatchPerl 1.30
  Built under linux
  Compiled at Mar 17 2015 17:18:56
  %ENV:
    PERL5LIB=""
    PERL5OPT=""
    PERL5_CPANPLUS_IS_RUNNING="3104"
    PERL5_CPAN_IS_RUNNING="3104"
    PERLBREW_BASHRC_VERSION="0.73"
    PERLBREW_HOME="/home/rando/.perlbrew"
    PERLBREW_LIB=""
    PERLBREW_MANPATH="/home/rando/perl5/perlbrew/perls/14.4/man"
    PERLBREW_PATH="/home/rando/perl5/perlbrew/bin:/home/rando/perl5/perlbrew/perls/14.4/bin"
    PERLBREW_PERL="14.4"
    PERLBREW_ROOT="/home/rando/perl5/perlbrew"
    PERLBREW_VERSION="0.73"
    PERL_LOCAL_LIB_ROOT=""
    PERL_MM_USE_DEFAULT="1"
  @INC:
    /home/rando/perl5/perlbrew/perls/14.4/lib/site_perl/5.14.4/x86_64-linux
    /home/rando/perl5/perlbrew/perls/14.4/lib/site_perl/5.14.4
    /home/rando/perl5/perlbrew/perls/14.4/lib/5.14.4/x86_64-linux
    /home/rando/perl5/perlbrew/perls/14.4/lib/5.14.4
    .