Dist-Zilla-Plugin-Git v2.043 Perl 5 v5.26.1 darwin-2level
- Status
- Pass
- From
- Karen Etheridge
- Dist
-
Dist-Zilla-Plugin-Git v2.043
- Platform
- Perl 5 v5.26.1 darwin-2level
- Date
- 2018-02-16 21:51:36
- ID
- 8f4a424c-1363-11e8-a3b7-538258a1f2a9
This distribution has been tested as part of the CPAN Testers
project, supporting the Perl programming language. See
http://wiki.cpantesters.org/ for more information or email
questions to cpan-testers-discuss@perl.org
--
Dear ETHER,
This is a computer-generated report for Dist-Zilla-Plugin-Git-2.043
on perl 5.26.1, created by App::cpanminus::reporter 0.17 (1.7043).
Thank you for uploading your work to CPAN. Congratulations!
All tests were successful.
Sections of this report:
* Tester comments
* Program output
* Prerequisites
* Environment and other context
------------------------------
TESTER COMMENTS
------------------------------
Additional comments from tester:
none provided
------------------------------
PROGRAM OUTPUT
------------------------------
Output from '':
Building and testing Dist-Zilla-Plugin-Git-2.043
"/Volumes/amaretto/Users/ether/perl5/perlbrew/perls/26.1/bin/perl" "-Iblib/arch" "-Iblib/lib" Makefile_git.PL Makefile_git
Manifying 13 pod documents
"/Volumes/amaretto/Users/ether/perl5/perlbrew/perls/26.1/bin/perl" "-Iblib/arch" "-Iblib/lib" Makefile_git.PL Makefile_git
PERL_DL_NONLAZY=1 "/Volumes/amaretto/Users/ether/perl5/perlbrew/perls/26.1/bin/perl" "-MExtUtils::Command::MM" "-MTest::Harness" "-e" "undef *Test::Harness::Switches; test_harness(0, 'blib/lib', 'blib/arch')" t/*.t
# git version 2.14.2
t/000-report-git-version.t ...... ok
#
# Versions for all modules listed in MYMETA.json (including optional ones):
#
# === Configure Requires ===
#
# Module Want Have
# ------------------- ---- -------
# ExtUtils::MakeMaker any 7.31_03
# Text::ParseWords any 3.30
# version any 0.9917
#
# === Build Requires ===
#
# Module Want Have
# ------------------- ---- -------
# ExtUtils::MakeMaker any 7.31_03
#
# === Test Requires ===
#
# Module Want Have
# -------------------------------- ----- --------
# CPAN::Meta::Check 0.011 0.014
# CPAN::Meta::Requirements any 2.140
# Devel::SimpleTrace any 0.08
# Dist::Zilla::File::InMemory any 6.010
# Dist::Zilla::Plugin::Config::Git any 0.92
# Dist::Zilla::Role::Releaser any 6.010
# Dist::Zilla::Tester any 6.010
# Encode any 2.96
# Exporter any 5.72
# ExtUtils::MakeMaker any 7.31_03
# File::Copy any 2.32
# File::Copy::Recursive any 0.38
# File::Path 2.07 2.12_01
# File::Spec any 3.67
# File::Which any 1.22
# File::pushd any 1.014
# Log::Dispatchouli any 2.015
# Test::DZil any 6.010
# Test::Fatal any 0.014
# Test::More 0.88 1.302096
# lib any 0.64
# utf8 any 1.19
#
# === Test Recommends ===
#
# Module Want Have
# ---------- -------- --------
# CPAN::Meta 2.120900 2.150010
#
# === Runtime Requires ===
#
# Module Want Have
# ---------------------------------- -------- --------
# Cwd any 3.67
# DateTime any 1.46
# Dist::Zilla 4 6.010
# Dist::Zilla::Plugin::GatherDir 4.200016 6.010
# Dist::Zilla::Role::AfterBuild any 6.010
# Dist::Zilla::Role::AfterMint any 6.010
# Dist::Zilla::Role::AfterRelease any 6.010
# Dist::Zilla::Role::BeforeRelease any 6.010
# Dist::Zilla::Role::FilePruner any 6.010
# Dist::Zilla::Role::GitConfig any 0.92
# Dist::Zilla::Role::PluginBundle any 6.010
# Dist::Zilla::Role::VersionProvider any 6.010
# File::Spec::Functions any 3.67
# File::Temp any 0.2304
# File::chdir any 0.1011
# Git::Wrapper 0.021 0.047
# IPC::Open3 any 1.20
# IPC::System::Simple any 1.25
# List::Util 1.45 1.46_02
# Module::Runtime any 0.014
# Moose any 2.2006
# Moose::Role any 2.2006
# Moose::Util::TypeConstraints any 2.2006
# MooseX::Has::Sugar any 1.000006
# MooseX::Types::Moose any 0.50
# MooseX::Types::Path::Tiny 0.010 0.012
# Path::Tiny 0.048 0.104
# String::Formatter any 0.102084
# Try::Tiny any 0.28
# Version::Next any 1.000
# constant any 1.33
# namespace::autoclean 0.09 0.28
# strict any 1.11
# version 0.80 0.9917
# warnings any 1.37
#
# === Other Modules ===
#
# Module Have
# ------------- ----
# JSON::PP 2.94
# Pod::Coverage 0.23
# Sub::Name 0.23
# YAML 1.23
# autodie 2.29
#
t/00-report-prereqs.t ........... ok
t/commit-dirtydir.t ............. ok
t/commit-build-custom.t ......... ok
t/commit-message.t .............. ok
t/commit-build.t ................ ok
t/commit-build-src-as-parent.t .. ok
t/commit-utf8.t ................. ok
t/commit-ws.t ................... ok
t/commit.t ...................... ok
t/check.t ....................... ok
t/gatherdir-multi.t ............. ok
t/gatherdir.t ................... ok
t/repo-dir.t .................... ok
t/push-gitconfig.t .............. ok
t/push.t ........................ ok
t/push-multi.t .................. ok
t/tag-signed.t .................. ok
t/version-extraction.t .......... ok
t/tag.t ......................... ok
t/version-default.t ............. ok
t/version-regexp.t .............. ok
t/zzz-check-breaks.t ............ ok
t/version-by-branch.t ........... ok
All tests successful.
Files=24, Tests=207, 10 wallclock secs ( 0.11 usr 0.06 sys + 35.50 cusr 9.77 csys = 45.44 CPU)
Result: PASS
------------------------------
PREREQUISITES
------------------------------
Prerequisite modules loaded:
No requirements found
------------------------------
ENVIRONMENT AND OTHER CONTEXT
------------------------------
Environment variables:
HARNESS_OPTIONS = j5:c
LANG = en_CA.UTF-8
NO_NETWORK_TESTING = 1
PATH = /Volumes/amaretto/Users/ether/.perlbrew/libs/26.1@std/bin:/Volumes/amaretto/Users/ether/perl5/perlbrew/bin:/Volumes/amaretto/Users/ether/perl5/perlbrew/perls/26.1/bin:/Volumes/amaretto/Users/ether/bin:/Volumes/amaretto/Users/ether/git/misc/install/jaeger/bin:/Volumes/amaretto/Users/ether/git/misc/install/generic/bin:/opt/local/bin:/opt/local/sbin:/Volumes/amaretto/Users/ether/git/git-hub/lib:/usr/local/bin:/usr/bin:/bin:/usr/sbin:/sbin:/opt/local/share/git-core/contrib/workdir
PERL5LIB = /Volumes/amaretto/Users/ether/.perlbrew/libs/26.1@std/lib/perl5
PERLBREW_HOME = /Volumes/amaretto/Users/ether/.perlbrew
PERLBREW_LIB = std
PERLBREW_MANPATH = /Volumes/amaretto/Users/ether/.perlbrew/libs/26.1@std/man:/Volumes/amaretto/Users/ether/perl5/perlbrew/perls/26.1/man
PERLBREW_PATH = /Volumes/amaretto/Users/ether/.perlbrew/libs/26.1@std/bin:/Volumes/amaretto/Users/ether/perl5/perlbrew/bin:/Volumes/amaretto/Users/ether/perl5/perlbrew/perls/26.1/bin
PERLBREW_PERL = 26.1
PERLBREW_ROOT = /Volumes/amaretto/Users/ether/perl5/perlbrew
PERLBREW_SHELLRC_VERSION = 0.82
PERLBREW_VERSION = 0.82
PERLDOC = -oman
PERLDOC_PAGER = less -sicMr
PERL_AUTOINSTALL_PREFER_CPAN = 1
PERL_INSTALL_QUIET = 1
PERL_LOCAL_LIB_ROOT = /Volumes/amaretto/Users/ether/.perlbrew/libs/26.1@std
PERL_MB_OPT = --install_base /Volumes/amaretto/Users/ether/.perlbrew/libs/26.1@std
PERL_MM_OPT = INSTALL_BASE=/Volumes/amaretto/Users/ether/.perlbrew/libs/26.1@std
PERL_USE_UNSAFE_INC = 0
SHELL = /bin/bash
TERM = xterm-color
TMPDIR = /var/folders/4f/y458q_3n2g75w6m_k19nn8kr0000gp/T/
Perl special variables (and OS-specific diagnostics, for MSWin32):
EGID = 20 20 12 61 79 80 81 98 701 33 100 204 395 398 399
EUID = 502
EXECUTABLE_NAME = /Volumes/amaretto/Users/ether/perl5/perlbrew/perls/26.1/bin/perl
GID = 20 20 12 61 79 80 81 98 701 33 100 204 395 398 399
UID = 502
Perl module toolchain versions installed:
Module Have
------------------- --------
CPAN 2.18
CPAN::Meta 2.150010
Cwd 3.67
ExtUtils::CBuilder 0.280226
ExtUtils::Command 7.32
ExtUtils::Install 2.06
ExtUtils::MakeMaker 7.32
ExtUtils::Manifest 1.70
ExtUtils::ParseXS 3.34
File::Spec 3.67
JSON 2.94
JSON::PP 2.97001
Module::Build 0.4224
Module::Signature n/a
Parse::CPAN::Meta 2.150010
Test::Harness 3.38
Test::More 1.302122
YAML 1.23
YAML::Syck 1.30
version 0.9917
--
Summary of my perl5 (revision 5 version 26 subversion 1) configuration:
Platform:
osname=darwin
osvers=16.7.0
archname=darwin-2level
uname='darwin jaeger 16.7.0 darwin kernel version 16.7.0: thu jun 15 17:36:27 pdt 2017; root:xnu-3789.70.16~2release_x86_64 x86_64 '
config_args='-de -Dprefix=/Volumes/amaretto/Users/ether/perl5/perlbrew/perls/26.1 -Dman1dir=none -Dman3dir=none -Aeval:scriptdir=/Volumes/amaretto/Users/ether/perl5/perlbrew/perls/26.1/bin'
hint=recommended
useposix=true
d_sigaction=define
useithreads=undef
usemultiplicity=undef
use64bitint=define
use64bitall=define
uselongdouble=undef
usemymalloc=n
default_inc_excludes_dot=define
bincompat5005=undef
Compiler:
cc='cc'
ccflags ='-fno-common -DPERL_DARWIN -mmacosx-version-min=10.12 -fno-strict-aliasing -pipe -fstack-protector-strong -I/opt/local/include -DPERL_USE_SAFE_PUTENV'
optimize='-O3'
cppflags='-fno-common -DPERL_DARWIN -mmacosx-version-min=10.12 -fno-strict-aliasing -pipe -fstack-protector-strong -I/opt/local/include'
ccversion=''
gccversion='4.2.1 Compatible Apple LLVM 9.0.0 (clang-900.0.37)'
gccosandvers=''
intsize=4
longsize=8
ptrsize=8
doublesize=8
byteorder=12345678
doublekind=3
d_longlong=define
longlongsize=8
d_longdbl=define
longdblsize=16
longdblkind=3
ivtype='long'
ivsize=8
nvtype='double'
nvsize=8
Off_t='off_t'
lseeksize=8
alignbytes=8
prototype=define
Linker and Libraries:
ld='cc'
ldflags =' -mmacosx-version-min=10.12 -fstack-protector-strong -L/opt/local/lib'
libpth=/Applications/Xcode.app/Contents/Developer/Toolchains/XcodeDefault.xctoolchain/usr/lib/clang/9.0.0/lib /Applications/Xcode.app/Contents/Developer/Toolchains/XcodeDefault.xctoolchain/usr/lib /usr/lib /opt/local/lib
libs=-lpthread -lgdbm -ldbm -ldl -lm -lutil -lc
perllibs=-lpthread -ldl -lm -lutil -lc
libc=
so=dylib
useshrplib=false
libperl=libperl.a
gnulibc_version=''
Dynamic Linking:
dlsrc=dl_dlopen.xs
dlext=bundle
d_dlsymun=undef
ccdlflags=' '
cccdlflags=' '
lddlflags=' -mmacosx-version-min=10.12 -bundle -undefined dynamic_lookup -L/opt/local/lib -fstack-protector-strong'
Characteristics of this binary (from libperl):
Compile-time options:
HAS_TIMES
PERLIO_LAYERS
PERL_COPY_ON_WRITE
PERL_DONT_CREATE_GVSV
PERL_MALLOC_WRAP
PERL_OP_PARENT
PERL_PRESERVE_IVUV
PERL_USE_SAFE_PUTENV
USE_64_BIT_ALL
USE_64_BIT_INT
USE_LARGE_FILES
USE_LOCALE
USE_LOCALE_COLLATE
USE_LOCALE_CTYPE
USE_LOCALE_NUMERIC
USE_LOCALE_TIME
USE_PERLIO
USE_PERL_ATOF
Locally applied patches:
Devel::PatchPerl 1.48
Built under darwin
Compiled at Sep 24 2017 13:38:56
%ENV:
PERL5LIB="/Volumes/amaretto/Users/ether/.perlbrew/libs/26.1@std/lib/perl5"
PERLBREW_HOME="/Volumes/amaretto/Users/ether/.perlbrew"
PERLBREW_LIB="std"
PERLBREW_MANPATH="/Volumes/amaretto/Users/ether/.perlbrew/libs/26.1@std/man:/Volumes/amaretto/Users/ether/perl5/perlbrew/perls/26.1/man"
PERLBREW_PATH="/Volumes/amaretto/Users/ether/.perlbrew/libs/26.1@std/bin:/Volumes/amaretto/Users/ether/perl5/perlbrew/bin:/Volumes/amaretto/Users/ether/perl5/perlbrew/perls/26.1/bin"
PERLBREW_PERL="26.1"
PERLBREW_ROOT="/Volumes/amaretto/Users/ether/perl5/perlbrew"
PERLBREW_SHELLRC_VERSION="0.82"
PERLBREW_VERSION="0.82"
PERLDOC="-oman"
PERLDOC_PAGER="less -sicMr"
PERL_AUTOINSTALL_PREFER_CPAN="1"
PERL_INSTALL_QUIET="1"
PERL_LOCAL_LIB_ROOT="/Volumes/amaretto/Users/ether/.perlbrew/libs/26.1@std"
PERL_MB_OPT="--install_base /Volumes/amaretto/Users/ether/.perlbrew/libs/26.1@std"
PERL_MM_OPT="INSTALL_BASE=/Volumes/amaretto/Users/ether/.perlbrew/libs/26.1@std"
PERL_USE_UNSAFE_INC="0"
@INC:
/Volumes/amaretto/Users/ether/.perlbrew/libs/26.1@std/lib/perl5/darwin-2level
/Volumes/amaretto/Users/ether/.perlbrew/libs/26.1@std/lib/perl5
/Volumes/amaretto/Users/ether/perl5/perlbrew/perls/26.1/lib/site_perl/5.26.1/darwin-2level
/Volumes/amaretto/Users/ether/perl5/perlbrew/perls/26.1/lib/site_perl/5.26.1
/Volumes/amaretto/Users/ether/perl5/perlbrew/perls/26.1/lib/5.26.1/darwin-2level
/Volumes/amaretto/Users/ether/perl5/perlbrew/perls/26.1/lib/5.26.1