Bot-IRC v1.40 Perl 5 v5.22.2 amd64-freebsd

Status
Pass
From
Slaven Rezić
Dist
Bot-IRC v1.40
Platform
Perl 5 v5.22.2 amd64-freebsd
Date
2023-08-26T19:41:32
ID
8f239d6a-4448-11ee-88d9-9f0a6e8775ea
This distribution has been tested as part of the CPAN Testers
project, supporting the Perl programming language.  See
http://wiki.cpantesters.org/ for more information or email
questions to cpan-testers-discuss@perl.org


--
Dear Gryphon Shafer,

This is a computer-generated report for Bot-IRC-1.40
on perl 5.22.2, created by CPAN-Reporter-1.2019.

Thank you for uploading your work to CPAN.  Congratulations!
All tests were successful.

Sections of this report:

    * Tester comments
    * Program output
    * Prerequisites
    * Environment and other context

------------------------------
TESTER COMMENTS
------------------------------

Additional comments from tester:

none provided

------------------------------
PROGRAM OUTPUT
------------------------------

Output from '/usr/bin/make test':

PERL_DL_NONLAZY=1 "/usr/perl5.22.2p/bin/perl" "-MExtUtils::Command::MM" "-MTest::Harness" "-e" "undef *Test::Harness::Switches; test_harness(0, 'blib/lib', 'blib/arch')" t/*.t
Couldn't require Email::Abstract::Courriel : Specification contains unknown keys: [isa] at /usr/perl5.22.2p/lib/site_perl/5.22.2/Courriel/Header.pm line 34.
Compilation failed in require at /usr/perl5.22.2p/lib/site_perl/5.22.2/Courriel/Headers.pm line 9.
BEGIN failed--compilation aborted at /usr/perl5.22.2p/lib/site_perl/5.22.2/Courriel/Headers.pm line 9.
Compilation failed in require at /usr/perl5.22.2p/lib/site_perl/5.22.2/Courriel.pm line 11.
BEGIN failed--compilation aborted at /usr/perl5.22.2p/lib/site_perl/5.22.2/Courriel.pm line 11.
Compilation failed in require at /usr/perl5.22.2p/lib/site_perl/5.22.2/Email/Abstract/Courriel.pm line 8.
BEGIN failed--compilation aborted at /usr/perl5.22.2p/lib/site_perl/5.22.2/Email/Abstract/Courriel.pm line 8.
Compilation failed in require at /usr/perl5.22.2p/lib/site_perl/5.22.2/Module/Runtime.pm line 314.
 at /usr/perl5.22.2p/lib/site_perl/5.22.2/Module/Pluggable.pm line 32.
t/00-compile.t ........... ok
t/author-eol.t ........... skipped: these tests are for testing by the author
t/author-no-tabs.t ....... skipped: these tests are for testing by the author
t/author-pod-coverage.t .. skipped: these tests are for testing by the author
t/author-pod-syntax.t .... skipped: these tests are for testing by the author
t/author-portability.t ... skipped: these tests are for testing by the author
t/author-synopsis.t ...... skipped: these tests are for testing by the author
t/bot-irc-api.t .......... ok
t/bot-irc-run.t .......... ok
t/convert.t .............. ok
t/functions.t ............ ok
t/greeting.t ............. ok
Couldn't require Email::Abstract::Courriel : Specification contains unknown keys: [isa] at /usr/perl5.22.2p/lib/site_perl/5.22.2/Courriel/Header.pm line 34.
Compilation failed in require at /usr/perl5.22.2p/lib/site_perl/5.22.2/Courriel/Headers.pm line 9.
BEGIN failed--compilation aborted at /usr/perl5.22.2p/lib/site_perl/5.22.2/Courriel/Headers.pm line 9.
Compilation failed in require at /usr/perl5.22.2p/lib/site_perl/5.22.2/Courriel.pm line 11.
BEGIN failed--compilation aborted at /usr/perl5.22.2p/lib/site_perl/5.22.2/Courriel.pm line 11.
Compilation failed in require at /usr/perl5.22.2p/lib/site_perl/5.22.2/Email/Abstract/Courriel.pm line 8.
BEGIN failed--compilation aborted at /usr/perl5.22.2p/lib/site_perl/5.22.2/Email/Abstract/Courriel.pm line 8.
Compilation failed in require at /usr/perl5.22.2p/lib/site_perl/5.22.2/Module/Runtime.pm line 314.
 at /usr/perl5.22.2p/lib/site_perl/5.22.2/Module/Pluggable.pm line 32.
t/history.t .............. ok
t/infobot.t .............. ok
t/join.t ................. ok
t/karma.t ................ ok
t/math.t ................. ok
t/ping.t ................. ok
t/release-kwalitee.t ..... skipped: these tests are for release candidate testing
t/seen.t ................. ok
t/store-sqlite.t ......... ok
t/store.t ................ ok
All tests successful.
Files=22, Tests=70,  5 wallclock secs ( 0.02 usr  0.05 sys +  2.64 cusr  2.55 csys =  5.26 CPU)
Result: PASS

------------------------------
PREREQUISITES
------------------------------

Prerequisite modules loaded:

requires:

    Module                            Need  Have    
    --------------------------------- ----- --------
    Daemon::Device                    0     1.09    
    Date::Format                      0     2.24    
    Date::Parse                       0     2.32    
    DateTime                          0     1.59    
    DateTime::Format::Human::Duration 0     0.64    
    DBD::SQLite                       0     1.72    
    DBI                               0     1.643   
    Email::Mailer                     0     1.18    
    Email::Valid                      0     1.202   
    Encode                            0     3.19    
    Encode::Detect::Detector          0     1.01    
    exact                             1.14  1.19    
    exact::class                      1.10  1.16    
    File::Grep                        0     0.02    
    IO::Socket::IP                    0     0.41    
    IO::Socket::SSL                   0     2.081   
    JSON::XS                          0     4.03    
    Math::Expression                  0     1.48    
    Math::Units                       0     1.3     
    perl                              5.014 5.022002
    strict                            0     1.09    
    Time::Crontab                     0     0.04    
    warnings                          0     1.34    
    YAML::XS                          0     0.87    

build_requires:

    Module                            Need  Have    
    --------------------------------- ----- --------
    exact::class                      1.10  1.16    
    ExtUtils::MakeMaker               0     7.70    
    File::Spec                        0     3.75    
    IO::Handle                        0     1.51    
    IPC::Open3                        0     1.18    
    Test2::Mock                       0     0.000155
    Test2::V0                         0     0.000155
    Test::Lib                         0     0.003   
    Test::More                        0     1.302195
    Test::Output                      0     1.033   

configure_requires:

    Module                            Need  Have    
    --------------------------------- ----- --------
    ExtUtils::MakeMaker               0     7.70    
    perl                              5.014 5.022002


------------------------------
ENVIRONMENT AND OTHER CONTEXT
------------------------------

Environment variables:

    LC_ALL = de_DE.ISO8859-1
    PATH = /usr/local/bin:/usr/bin:/bin:/usr/local/sbin:/usr/sbin:/sbin:/home/cpansand/bin/freebsd10.3:/home/cpansand/bin/sh:/home/cpansand/bin:/usr/games:/home/cpansand/devel:/home/eserte/src/srezic-misc/scripts
    PERL5LIB = 
    PERL5OPT = 
    PERL5_CPANPLUS_IS_RUNNING = 4551
    PERL5_CPAN_IS_RUNNING = 4551
    PERL5_CPAN_IS_RUNNING_IN_RECURSION = 92323,4551
    PERLDOC = -MPod::Perldoc::ToTextOverstrike
    PERL_BATCH = yes
    PERL_CANARY_STABILITY_NOPROMPT = 1
    PERL_CPAN_REPORTER_CONFIG = /var/tmp/cpansmoker-1023/2023082407/cpanreporter_000_config.ini
    PERL_EXTUTILS_AUTOINSTALL = --defaultdeps
    PERL_USE_UNSAFE_INC = 1
    SHELL = /usr/local/bin/zsh
    TERM = screen
    TMPDIR = /var/tmp/cpansmoker-1023/2023082407

Perl special variables (and OS-specific diagnostics, for MSWin32):

    $^X = /usr/perl5.22.2p/bin/perl
    $UID/$EUID = 1023 / 1023
    $GID = 1023 1023
    $EGID = 1023 1023

Perl module toolchain versions installed:

    Module              Have    
    ------------------- --------
    CPAN                2.34    
    CPAN::Meta          2.150010
    Cwd                 3.75    
    ExtUtils::CBuilder  0.280236
    ExtUtils::Command   7.70    
    ExtUtils::Install   2.22    
    ExtUtils::MakeMaker 7.70    
    ExtUtils::Manifest  1.75    
    ExtUtils::ParseXS   3.35    
    File::Spec          3.75    
    JSON                4.10    
    JSON::PP            4.16    
    Module::Build       0.4234  
    Module::Signature   0.87    
    Parse::CPAN::Meta   2.150010
    Test2               1.302195
    Test::Harness       3.47    
    Test::More          1.302195
    YAML                1.30    
    YAML::Syck          1.34    
    version             0.9929  


--

Summary of my perl5 (revision 5 version 22 subversion 2) configuration:
   
  Platform:
    osname=freebsd, osvers=10.1-release, archname=amd64-freebsd
    uname='freebsd cvrsnica-freebsd-101.herceg.de 10.1-release freebsd 10.1-release #0 r274401: tue nov 11 21:02:49 utc 2014 root@releng1.nyi.freebsd.org:usrobjusrsrcsysgeneric amd64 '
    config_args='-ds -e -Dprefix=/usr/perl5.22.2p -Dcf_email=srezic@cpan.org -Doptimize=-O2 -pipe'
    hint=recommended, useposix=true, d_sigaction=define
    useithreads=undef, usemultiplicity=undef
    use64bitint=define, use64bitall=define, uselongdouble=undef
    usemymalloc=n, bincompat5005=undef
  Compiler:
    cc='cc', ccflags ='-DHAS_FPSETMASK -DHAS_FLOATINGPOINT_H -fno-strict-aliasing -pipe -fstack-protector -I/usr/local/include -D_FORTIFY_SOURCE=2',
    optimize='-O2 -pipe',
    cppflags='-DHAS_FPSETMASK -DHAS_FLOATINGPOINT_H -fno-strict-aliasing -pipe -fstack-protector -I/usr/local/include'
    ccversion='', gccversion='4.2.1 Compatible FreeBSD Clang 3.4.1 (tags/RELEASE_34/dot1-final 208032)', gccosandvers=''
    intsize=4, longsize=8, ptrsize=8, doublesize=8, byteorder=12345678, doublekind=3
    d_longlong=define, longlongsize=8, d_longdbl=define, longdblsize=16, longdblkind=3
    ivtype='long', ivsize=8, nvtype='double', nvsize=8, Off_t='off_t', lseeksize=8
    alignbytes=8, prototype=define
  Linker and Libraries:
    ld='cc', ldflags ='-pthread -Wl,-E  -fstack-protector -L/usr/local/lib'
    libpth=/usr/lib /usr/local/lib /usr/include/clang/3.4.1 /usr/lib
    libs=-lpthread -lgdbm -lm -lcrypt -lutil -lc
    perllibs=-lpthread -lm -lcrypt -lutil -lc
    libc=, so=so, useshrplib=false, libperl=libperl.a
    gnulibc_version=''
  Dynamic Linking:
    dlsrc=dl_dlopen.xs, dlext=so, d_dlsymun=undef, ccdlflags=' '
    cccdlflags='-DPIC -fPIC', lddlflags='-shared  -L/usr/local/lib -fstack-protector'


Characteristics of this binary (from libperl): 
  Compile-time options: HAS_TIMES PERLIO_LAYERS PERL_DONT_CREATE_GVSV
                        PERL_HASH_FUNC_ONE_AT_A_TIME_HARD PERL_MALLOC_WRAP
                        PERL_NEW_COPY_ON_WRITE PERL_PRESERVE_IVUV
                        USE_64_BIT_ALL USE_64_BIT_INT USE_LARGE_FILES
                        USE_LOCALE USE_LOCALE_COLLATE USE_LOCALE_CTYPE
                        USE_LOCALE_NUMERIC USE_LOCALE_TIME USE_PERLIO
                        USE_PERL_ATOF
  Built under freebsd
  Compiled at May 29 2016 23:34:36
  %ENV:
    PERL5LIB=""
    PERL5OPT=""
    PERL5_CPANPLUS_IS_RUNNING="4551"
    PERL5_CPAN_IS_RUNNING="4551"
    PERL5_CPAN_IS_RUNNING_IN_RECURSION="92323,4551"
    PERLDOC="-MPod::Perldoc::ToTextOverstrike"
    PERL_BATCH="yes"
    PERL_CANARY_STABILITY_NOPROMPT="1"
    PERL_CPAN_REPORTER_CONFIG="/var/tmp/cpansmoker-1023/2023082407/cpanreporter_000_config.ini"
    PERL_EXTUTILS_AUTOINSTALL="--defaultdeps"
    PERL_USE_UNSAFE_INC="1"
  @INC:
    /usr/perl5.22.2p/lib/site_perl/5.22.2/amd64-freebsd
    /usr/perl5.22.2p/lib/site_perl/5.22.2
    /usr/perl5.22.2p/lib/5.22.2/amd64-freebsd
    /usr/perl5.22.2p/lib/5.22.2
    .