RDF-Query v2.918_01 Perl 5 v5.28.3 arm64-freebsd

Status
Pass
From
Slaven Rezić
Dist
RDF-Query v2.918_01
Platform
Perl 5 v5.28.3 arm64-freebsd
Date
2024-04-14 23:56:06
ID
8ebcb982-faba-11ee-a433-02f16d8775ea
This distribution has been tested as part of the CPAN Testers
project, supporting the Perl programming language.  See
http://wiki.cpantesters.org/ for more information or email
questions to cpan-testers-discuss@perl.org


--
Dear Gregory Todd Williams,

This is a computer-generated report for RDF-Query-2.918_01
on perl 5.28.3, created by CPAN-Reporter-1.2019.

Thank you for uploading your work to CPAN.  Congratulations!
All tests were successful.

Sections of this report:

    * Tester comments
    * Program output
    * Prerequisites
    * Environment and other context

------------------------------
TESTER COMMENTS
------------------------------

Additional comments from tester:

none provided

------------------------------
PROGRAM OUTPUT
------------------------------

Output from '/usr/bin/make test':

PERL_DL_NONLAZY=1 "/usr/perl5.28.3/bin/perl" "-MExtUtils::Command::MM" "-MTest::Harness" "-e" "undef *Test::Harness::Switches; test_harness(0, 'inc', 'blib/lib', 'blib/arch')" t/*.t
t/00-simple.t .................... ok
t/01-coverage.t .................. ok
t/algebra-bgp.t .................. ok
t/algebra-expr.t ................. ok
t/algebra-func.t ................. ok
t/algebra-subsumption.t .......... ok
t/algebra.t ...................... ok
t/constraints.t .................. ok
t/dataset-from-file.t ............ ok
t/dataset-from-net.t ............. skipped: No network. Set RDFQUERY_NETWORK_TESTS to run these tests.
t/dev-computed-statements.t ...... ok
t/ext-select-expr.t .............. ok
t/filters.t ...................... ok
t/functions.t .................... ok
t/hooks.t ........................ skipped: No network. Set RDFQUERY_NETWORK_TESTS to run these tests.
t/iterators.t .................... ok
t/literals.t ..................... ok
t/named-graphs.t ................. ok
t/optional.t ..................... ok
t/plan.t ......................... skipped: Developer tests. Set RDFQUERY_DEV_TESTS to run these tests.
t/protocol-serialization.t ....... ok
t/queryform-ask.t ................ ok
t/queryform-construct.t .......... ok
t/queryform-describe.t ........... ok
t/rdql.t ......................... ok
t/resultforms.t .................. ok
t/serialize.t .................... ok
t/sparql11-aggregates.t .......... ok
t/sparql11-federation.t .......... ok
t/sparql11-negation.t ............ ok
t/sparql11-propery_paths.t ....... ok
t/sparql11-select_expressions.t .. ok
t/sparql11-subselect.t ........... ok
t/sparql11-update.t .............. ok
t/syntactic_forms.t .............. ok
t/union.t ........................ ok
All tests successful.
Files=36, Tests=1143, 38 wallclock secs ( 0.30 usr  0.10 sys + 33.07 cusr  4.59 csys = 38.06 CPU)
Result: PASS

------------------------------
PREREQUISITES
------------------------------

Prerequisite modules loaded:

requires:

    Module                   Need  Have    
    ------------------------ ----- --------
    Data::UUID               0     1.227   
    DateTime::Format::W3CDTF 0     0.08    
    Digest::SHA              0     6.01    
    Error                    0     0.17029 
    File::Spec               0     3.75    
    File::Temp               0     0.2311  
    I18N::LangTags           0     0.43    
    JSON                     2     4.10    
    Module::Pluggable        0     5.2     
    Parse::RecDescent        0     1.967015
    RDF::Trine               1.004 1.019   
    Scalar::Util             0     1.63    
    Set::Scalar              0     1.29    
    URI                      1.52  5.28    

build_requires:

    Module                   Need  Have    
    ------------------------ ----- --------
    ExtUtils::MakeMaker      6.36  7.70    
    FindBin                  0     1.54    
    Test::Exception          0     0.43    
    Test::JSON               0     0.11    
    Test::More               0.88  1.302198
    YAML                     0     1.31    

configure_requires:

    Module                   Need  Have    
    ------------------------ ----- --------
    ExtUtils::MakeMaker      6.36  7.70    


------------------------------
ENVIRONMENT AND OTHER CONTEXT
------------------------------

Environment variables:

    LANG = C.UTF-8
    PATH = /usr/local/bin:/usr/bin:/bin:/usr/local/sbin:/usr/sbin:/sbin:/home/cpansand/bin/sh:/home/cpansand/bin:/usr/games:/home/cpansand/devel:/home/eserte/src/srezic-misc/scripts
    PERL5LIB = /home/cpansand/.cpan/build/2024041423/RDF-Trine-1.019-3/blib/arch:/home/cpansand/.cpan/build/2024041423/RDF-Trine-1.019-3/blib/lib:/home/cpansand/.cpan/build/2024041423/XML-Namespace-0.02-3/blib/arch:/home/cpansand/.cpan/build/2024041423/XML-Namespace-0.02-3/blib/lib:/home/cpansand/.cpan/build/2024041423/XML-CommonNS-0.06-3/blib/arch:/home/cpansand/.cpan/build/2024041423/XML-CommonNS-0.06-3/blib/lib:/home/cpansand/.cpan/build/2024041423/XML-NamespaceFactory-1.02-3/blib/arch:/home/cpansand/.cpan/build/2024041423/XML-NamespaceFactory-1.02-3/blib/lib:/home/cpansand/.cpan/build/2024041423/Test-JSON-0.11-1/blib/arch:/home/cpansand/.cpan/build/2024041423/Test-JSON-0.11-1/blib/lib:/home/cpansand/.cpan/build/2024041423/JSON-Any-1.40-1/blib/arch:/home/cpansand/.cpan/build/2024041423/JSON-Any-1.40-1/blib/lib:/home/cpansand/.cpan/build/2024041423/MooseX-ArrayRef-0.005-3/blib/arch:/home/cpansand/.cpan/build/2024041423/MooseX-ArrayRef-0.005-3/blib/lib:/home/cpansand/.cpan/build/2024041423/DBIx-Connector-0.59-3/blib/arch:/home/cpansand/.cpan/build/2024041423/DBIx-Connector-0.59-3/blib/lib
    PERL5OPT = 
    PERL5_CPANPLUS_IS_RUNNING = 1653
    PERL5_CPAN_IS_RUNNING = 1653
    PERL5_CPAN_IS_RUNNING_IN_RECURSION = 49243,1653
    PERL_BATCH = yes
    PERL_CANARY_STABILITY_NOPROMPT = 1
    PERL_CPAN_REPORTER_CONFIG = /var/tmp/cpansmoker-1023/2024041423/cpanreporter_000_config.ini
    PERL_EXTUTILS_AUTOINSTALL = --defaultdeps
    PERL_USE_UNSAFE_INC = 1
    SHELL = /bin/sh
    TMPDIR = /var/tmp/cpansmoker-1023/2024041423

Perl special variables (and OS-specific diagnostics, for MSWin32):

    $^X = /usr/perl5.28.3/bin/perl
    $UID/$EUID = 1023 / 1023
    $GID = 1023 1023
    $EGID = 1023 1023

Perl module toolchain versions installed:

    Module              Have    
    ------------------- --------
    CPAN                2.20    
    CPAN::Meta          2.150010
    Cwd                 3.75    
    ExtUtils::CBuilder  0.280236
    ExtUtils::Command   7.70    
    ExtUtils::Install   2.22    
    ExtUtils::MakeMaker 7.70    
    ExtUtils::Manifest  1.70    
    ExtUtils::ParseXS   3.51    
    File::Spec          3.75    
    JSON                4.10    
    JSON::PP            4.16    
    Module::Build       0.4234  
    Module::Signature   n/a     
    Parse::CPAN::Meta   2.150010
    Test2               1.302198
    Test::Harness       3.42    
    Test::More          1.302198
    YAML                1.31    
    YAML::Syck          1.34    
    version             0.9930  


--

Summary of my perl5 (revision 5 version 28 subversion 3) configuration:
   
  Platform:
    osname=freebsd
    osvers=14.0-stable
    archname=arm64-freebsd
    uname='freebsd cloud9.bbbike.org 14.0-stable freebsd 14.0-stable #0 stable14-ac83f3fa4: mon dec 25 18:44:17 utc 2023 root@cloud9.bbbike.org:usrobjhomeprojectsfreebsd-srcarm64.aarch64sysgeneric arm64 '
    config_args='-ds -e -Dprefix=/usr/perl5.28.3 -Dcf_email=srezic@cpan.org -Doptimize=-O2 -pipe'
    hint=recommended
    useposix=true
    d_sigaction=define
    useithreads=undef
    usemultiplicity=undef
    use64bitint=define
    use64bitall=define
    uselongdouble=undef
    usemymalloc=n
    default_inc_excludes_dot=define
    bincompat5005=undef
  Compiler:
    cc='cc'
    ccflags ='-DHAS_FPSETMASK -DHAS_FLOATINGPOINT_H -fno-strict-aliasing -pipe -fstack-protector-strong -I/usr/local/include'
    optimize='-O2 -pipe'
    cppflags='-DHAS_FPSETMASK -DHAS_FLOATINGPOINT_H -fno-strict-aliasing -pipe -fstack-protector-strong -I/usr/local/include'
    ccversion=''
    gccversion='FreeBSD Clang 16.0.6 (https://github.com/llvm/llvm-project.git llvmorg-16.0.6-0-g7cbf1a259152)'
    gccosandvers=''
    intsize=4
    longsize=8
    ptrsize=8
    doublesize=8
    byteorder=12345678
    doublekind=3
    d_longlong=define
    longlongsize=8
    d_longdbl=define
    longdblsize=16
    longdblkind=1
    ivtype='long'
    ivsize=8
    nvtype='double'
    nvsize=8
    Off_t='off_t'
    lseeksize=8
    alignbytes=8
    prototype=define
  Linker and Libraries:
    ld='cc'
    ldflags ='-Wl,-E  -fstack-protector-strong -L/usr/local/lib'
    libpth=/usr/lib /usr/local/lib /usr/lib/clang/16/lib /usr/lib
    libs=-lpthread -lgdbm -ldl -lm -lcrypt -lutil -lc
    perllibs=-lpthread -ldl -lm -lcrypt -lutil -lc
    libc=
    so=so
    useshrplib=false
    libperl=libperl.a
    gnulibc_version=''
  Dynamic Linking:
    dlsrc=dl_dlopen.xs
    dlext=so
    d_dlsymun=undef
    ccdlflags=' '
    cccdlflags='-DPIC -fPIC'
    lddlflags='-shared  -L/usr/local/lib -fstack-protector-strong'


Characteristics of this binary (from libperl): 
  Compile-time options:
    HAS_TIMES
    PERLIO_LAYERS
    PERL_COPY_ON_WRITE
    PERL_DONT_CREATE_GVSV
    PERL_MALLOC_WRAP
    PERL_OP_PARENT
    PERL_PRESERVE_IVUV
    USE_64_BIT_ALL
    USE_64_BIT_INT
    USE_LARGE_FILES
    USE_LOCALE
    USE_LOCALE_COLLATE
    USE_LOCALE_CTYPE
    USE_LOCALE_NUMERIC
    USE_LOCALE_TIME
    USE_PERLIO
    USE_PERL_ATOF
  Locally applied patches:
    Devel::PatchPerl 2.08
  Built under freebsd
  Compiled at Dec 27 2023 08:38:14
  %ENV:
    PERL5LIB="/home/cpansand/.cpan/build/2024041423/RDF-Trine-1.019-3/blib/arch:/home/cpansand/.cpan/build/2024041423/RDF-Trine-1.019-3/blib/lib:/home/cpansand/.cpan/build/2024041423/XML-Namespace-0.02-3/blib/arch:/home/cpansand/.cpan/build/2024041423/XML-Namespace-0.02-3/blib/lib:/home/cpansand/.cpan/build/2024041423/XML-CommonNS-0.06-3/blib/arch:/home/cpansand/.cpan/build/2024041423/XML-CommonNS-0.06-3/blib/lib:/home/cpansand/.cpan/build/2024041423/XML-NamespaceFactory-1.02-3/blib/arch:/home/cpansand/.cpan/build/2024041423/XML-NamespaceFactory-1.02-3/blib/lib:/home/cpansand/.cpan/build/2024041423/Test-JSON-0.11-1/blib/arch:/home/cpansand/.cpan/build/2024041423/Test-JSON-0.11-1/blib/lib:/home/cpansand/.cpan/build/2024041423/JSON-Any-1.40-1/blib/arch:/home/cpansand/.cpan/build/2024041423/JSON-Any-1.40-1/blib/lib:/home/cpansand/.cpan/build/2024041423/MooseX-ArrayRef-0.005-3/blib/arch:/home/cpansand/.cpan/build/2024041423/MooseX-ArrayRef-0.005-3/blib/lib:/home/cpansand/.cpan/build/2024041423/DBIx-Connector-0.59-3/blib/arch:/home/cpansand/.cpan/build/2024041423/DBIx-Connector-0.59-3/blib/lib"
    PERL5OPT=""
    PERL5_CPANPLUS_IS_RUNNING="1653"
    PERL5_CPAN_IS_RUNNING="1653"
    PERL5_CPAN_IS_RUNNING_IN_RECURSION="49243,1653"
    PERL_BATCH="yes"
    PERL_CANARY_STABILITY_NOPROMPT="1"
    PERL_CPAN_REPORTER_CONFIG="/var/tmp/cpansmoker-1023/2024041423/cpanreporter_000_config.ini"
    PERL_EXTUTILS_AUTOINSTALL="--defaultdeps"
    PERL_USE_UNSAFE_INC="1"
  @INC:
    /home/cpansand/.cpan/build/2024041423/RDF-Trine-1.019-3/blib/arch
    /home/cpansand/.cpan/build/2024041423/RDF-Trine-1.019-3/blib/lib
    /home/cpansand/.cpan/build/2024041423/XML-Namespace-0.02-3/blib/arch
    /home/cpansand/.cpan/build/2024041423/XML-Namespace-0.02-3/blib/lib
    /home/cpansand/.cpan/build/2024041423/XML-CommonNS-0.06-3/blib/arch
    /home/cpansand/.cpan/build/2024041423/XML-CommonNS-0.06-3/blib/lib
    /home/cpansand/.cpan/build/2024041423/XML-NamespaceFactory-1.02-3/blib/arch
    /home/cpansand/.cpan/build/2024041423/XML-NamespaceFactory-1.02-3/blib/lib
    /home/cpansand/.cpan/build/2024041423/Test-JSON-0.11-1/blib/arch
    /home/cpansand/.cpan/build/2024041423/Test-JSON-0.11-1/blib/lib
    /home/cpansand/.cpan/build/2024041423/JSON-Any-1.40-1/blib/arch
    /home/cpansand/.cpan/build/2024041423/JSON-Any-1.40-1/blib/lib
    /home/cpansand/.cpan/build/2024041423/MooseX-ArrayRef-0.005-3/blib/arch
    /home/cpansand/.cpan/build/2024041423/MooseX-ArrayRef-0.005-3/blib/lib
    /home/cpansand/.cpan/build/2024041423/DBIx-Connector-0.59-3/blib/arch
    /home/cpansand/.cpan/build/2024041423/DBIx-Connector-0.59-3/blib/lib
    /usr/perl5.28.3/lib/site_perl/5.28.3/arm64-freebsd
    /usr/perl5.28.3/lib/site_perl/5.28.3
    /usr/perl5.28.3/lib/5.28.3/arm64-freebsd
    /usr/perl5.28.3/lib/5.28.3
    .