Treex-Core v2.20210102 Perl 5 v5.22.4 x86_64-linux

Status
Pass
From
Slaven Rezić
Dist
Treex-Core v2.20210102
Platform
Perl 5 v5.22.4 x86_64-linux
Date
2021-01-02 21:36:21
ID
8e8d16ec-4d42-11eb-9ddd-693a1f24ea8f
This distribution has been tested as part of the CPAN Testers
project, supporting the Perl programming language.  See
http://wiki.cpantesters.org/ for more information or email
questions to cpan-testers-discuss@perl.org


--
Dear Martin Popel,

This is a computer-generated report for Treex-Core-2.20210102
on perl 5.22.4, created by CPAN-Reporter-1.2018.

Thank you for uploading your work to CPAN.  Congratulations!
All tests were successful.

Sections of this report:

    * Tester comments
    * Program output
    * Prerequisites
    * Environment and other context

------------------------------
TESTER COMMENTS
------------------------------

Additional comments from tester:

none provided

------------------------------
PROGRAM OUTPUT
------------------------------

Output from '/usr/bin/make test':

Skip blib/lib/auto/share/dist/Treex-Core/tred_extension/treex/resources/treex_subschema_langcodes.xml (unchanged)
Skip blib/lib/auto/share/dist/Treex-Core/tred_extension/treex/contrib/treex/contrib.mac (unchanged)
Skip blib/lib/auto/share/dist/Treex-Core/tred_extension/treex/resources/treex_subschema_a_layer.xml (unchanged)
Skip blib/lib/auto/share/dist/Treex-Core/tred_extension/treex/resources/treex_subschema_n_layer.xml (unchanged)
Skip blib/lib/auto/share/dist/Treex-Core/tred_extension/treex/contrib/treex/Treex_mode.inc (unchanged)
Skip blib/lib/auto/share/dist/Treex-Core/tred_extension/treex/resources/treex_schema.xml (unchanged)
Skip blib/lib/auto/share/dist/Treex-Core/tred_extension/treex/resources/treex_subschema_p_layer.xml (unchanged)
Skip blib/lib/auto/share/dist/Treex-Core/tred_extension/treex/package.xml (unchanged)
Skip blib/lib/auto/share/dist/Treex-Core/tred_extension/treex/resources/treex_subschema_w_layer.xml (unchanged)
Skip blib/lib/auto/share/dist/Treex-Core/tred_extension/treex/stylesheets/Treex_stylesheet (unchanged)
Skip blib/lib/auto/share/dist/Treex-Core/tred_extension/extensions.lst (unchanged)
Skip blib/lib/auto/share/dist/Treex-Core/tred_extension/treex/resources/treex_subschema_t_layer.xml (unchanged)
Skip blib/lib/auto/share/dist/Treex-Core/tred_extension/treex/resources/pmlbackend_conf.xml (unchanged)
Skip blib/lib/auto/share/dist/Treex-Core/tred_extension/treex/resources/treex_subschema_bbn.xml (unchanged)
Skip blib/lib/auto/share/dist/Treex-Core/tred_extension/treex/resources/treex_subschema_interset.xml (unchanged)
PERL_DL_NONLAZY=1 "/opt/perl-5.22.4/bin/perl" "-MExtUtils::Command::MM" "-MTest::Harness" "-e" "undef *Test::Harness::Switches; test_harness(0, 'blib/lib', 'blib/arch')" t/*.t
t/00-compile.t ..................... ok
t/a_effective_rel.t ................ ok
TREEX-WARN:     0.545:	You called $node->get_aligned_nodes($filter) without determining the "directed" parameter in the $filter. For the time being, it returns links only in the specified direction, but this will be changed soon.
t/alignment.t ...................... ok
t/attribute.t ...................... ok
t/author-critic.t .................. skipped: these tests are for testing by the author
t/author-distmeta.t ................ skipped: these tests are for testing by the author
t/author-minimum-version.t ......... skipped: these tests are for testing by the author
t/author-mojibake.t ................ skipped: these tests are for testing by the author
t/author-no-tabs.t ................. skipped: these tests are for testing by the author
t/author-pod-coverage.t ............ skipped: these tests are for testing by the author
t/author-pod-linkcheck.t ........... skipped: these tests are for testing by the author
t/author-pod-syntax.t .............. skipped: these tests are for testing by the author
t/author-portability.t ............. skipped: these tests are for testing by the author
t/author-synopsis.t ................ skipped: these tests are for testing by the author
t/author-test-version.t ............ skipped: these tests are for testing by the author
t/backrefs.t ....................... ok
t/base.t ........................... ok
t/block.t .......................... ok
t/bundle.t ......................... ok
t/bundle_zones.t ................... ok
t/common.t ......................... ok
t/config.t ......................... ok
t/document.t ....................... ok
t/document_zones.t ................. ok
t/dump_scen.t ...................... ok
t/files.t .......................... ok
t/following_node.t ................. ok
t/grammar.t ........................ ok
t/log.t ............................ ok
t/n_tree.t ......................... ok
t/node.t ........................... ok
t/ordered.t ........................ ok
t/p_penn_treebank_string_format.t .. ok
t/phrase.t ......................... ok
t/release-cpan-changes.t ........... skipped: these tests are for release candidate testing
t/release-dist-manifest.t .......... skipped: these tests are for release candidate testing
t/release-kwalitee.t ............... skipped: these tests are for release candidate testing
t/release-unused-vars.t ............ skipped: these tests are for release candidate testing
t/remove_bundle.t .................. ok
t/resource.t ....................... ok
t/run.t ............................ ok
t/scenario.t ....................... ok
t/scenario_parser.t ................ ok
t/storable.t ....................... ok
t/t_effective_rel.t ................ ok
t/trees.t .......................... ok
t/wildattr.t ....................... ok
t/writers.t ........................ skipped: these tests require export AUTHOR_TESTING=1
All tests successful.
Files=48, Tests=677, 46 wallclock secs ( 0.12 usr  0.30 sys + 37.86 cusr  7.50 csys = 45.78 CPU)
Result: PASS

------------------------------
PREREQUISITES
------------------------------

Prerequisite modules loaded:

requires:

    Module                                          Need    Have    
    ----------------------------------------------- ------- --------
    App::whichpm                                    0       0.05    
    autodie                                         0       2.32    
    base                                            0       2.22_01 
    Cache::LRU                                      0       0.04    
    Carp                                            0       1.50    
    Cwd                                             0       3.75    
    Data::Dumper                                    0       2.173   
    Digest::MD5                                     0       2.58    
    Encode                                          0       3.08    
    English                                         0       1.09    
    Exporter                                        0       5.74    
    File::Basename                                  0       2.85    
    File::chdir                                     0       0.1010  
    File::Glob                                      0       1.24    
    File::HomeDir                                   0.97    1.006   
    File::Path                                      2.08    2.18    
    File::ShareDir                                  0       1.118   
    File::Slurp                                     9999.19 9999.32 
    File::Spec                                      0       3.75    
    File::Spec::Functions                           0       3.75    
    File::Temp                                      0       0.2311  
    File::Which                                     0       1.23    
    integer                                         0       1.01    
    IO::Handle                                      0       1.42    
    IO::Interactive                                 0       1.022   
    Lingua::Interset                                3.006   3.014   
    Lingua::Interset::FeatureStructure              0       3.014   
    List::MoreUtils                                 0       0.430   
    List::Util                                      0       1.55    
    Locale::Language                                0       3.66    
    LWP::Simple                                     0       6.51    
    Module::Reload                                  0       1.11    
    Moose                                           0       2.2014  
    Moose::Exporter                                 0       2.2014  
    Moose::Role                                     0       2.2014  
    Moose::Util::TypeConstraints                    0       2.2014  
    MooseX::Getopt                                  0       0.74    
    MooseX::NonMoose                                0       0.26    
    MooseX::Params::Validate                        0       0.21    
    MooseX::Role::Parameterized                     0       1.11    
    MooseX::SemiAffordanceAccessor                  0.09    0.10    
    MooseX::SemiAffordanceAccessor::Role::Attribute 0.09    0.10    
    namespace::autoclean                            0       0.29    
    Parse::RecDescent                               0       1.967015
    perl                                            5.010   5.022004
    PerlIO::via::gzip                               0       0.03    
    POSIX                                           0       1.53_01 
    Readonly                                        0       2.05    
    Scalar::Util                                    0       1.55    
    Storable                                        0       3.15    
    strict                                          0       1.09    
    Sys::Hostname                                   0       1.20    
    Text::Balanced                                  0       2.04    
    Time::HiRes                                     0       1.9764  
    Treex::PML                                      0       2.24    
    Treex::PML::Factory                             0       2.24    
    Treex::PML::IO                                  0       2.24    
    Treex::PML::Node                                0       2.24    
    Treex::PML::Struct                              0       2.24    
    UNIVERSAL::DOES                                 0       0.005   
    utf8                                            0       1.17    
    vars                                            0       1.03    
    warnings                                        0       1.34    
    YAML                                            0.72    1.29    

build_requires:

    Module                                          Need    Have    
    ----------------------------------------------- ------- --------
    constant                                        0       1.33    
    ExtUtils::MakeMaker                             0       7.58    
    File::Spec                                      0       3.75    
    IO::Handle                                      0       1.42    
    IPC::Open3                                      0       1.18    
    Test::Moose                                     0       2.2014  
    Test::More                                      0       1.302183
    Test::Output                                    0       1.031   

configure_requires:

    Module                                          Need    Have    
    ----------------------------------------------- ------- --------
    ExtUtils::MakeMaker                             0       7.58    
    File::ShareDir::Install                         0.06    0.13    


------------------------------
ENVIRONMENT AND OTHER CONTEXT
------------------------------

Environment variables:

    LANG = C
    PATH = /usr/local/bin:/usr/bin:/bin:/usr/local/sbin:/usr/sbin:/sbin:/home/cpansand/bin/linux-gnu:/home/cpansand/bin/sh:/home/cpansand/bin:/usr/games:/home/cpansand/devel:/home/eserte/src/srezic-misc/scripts
    PERL5LIB = 
    PERL5OPT = 
    PERL5_CPANPLUS_IS_RUNNING = 20230
    PERL5_CPAN_IS_RUNNING = 20230
    PERL5_CPAN_IS_RUNNING_IN_RECURSION = 19497,20230
    PERLDOC = -MPod::Perldoc::ToTextOverstrike
    PERL_BATCH = yes
    PERL_CANARY_STABILITY_NOPROMPT = 1
    PERL_CPAN_REPORTER_CONFIG = /var/tmp/cpansmoker-1023/2021010221/cpanreporter_000_config.ini
    PERL_EXTUTILS_AUTOINSTALL = --defaultdeps
    PERL_USE_UNSAFE_INC = 1
    SHELL = /usr/bin/zsh
    TERM = screen
    TMPDIR = /var/tmp/cpansmoker-1023/2021010221

Perl special variables (and OS-specific diagnostics, for MSWin32):

    $^X = /opt/perl-5.22.4/bin/perl
    $UID/$EUID = 1023 / 1023
    $GID = 1023 1023
    $EGID = 1023 1023

Perl module toolchain versions installed:

    Module              Have    
    ------------------- --------
    CPAN                2.28    
    CPAN::Meta          2.150010
    Cwd                 3.75    
    ExtUtils::CBuilder  0.280235
    ExtUtils::Command   7.58    
    ExtUtils::Install   2.20    
    ExtUtils::MakeMaker 7.58    
    ExtUtils::Manifest  1.70    
    ExtUtils::ParseXS   3.35    
    File::Spec          3.75    
    JSON                4.02    
    JSON::PP            4.05    
    Module::Build       0.4231  
    Module::Signature   0.87    
    Parse::CPAN::Meta   2.150010
    Test::Harness       3.42    
    Test::More          1.302183
    YAML                1.29    
    YAML::Syck          1.34    
    version             0.9928  


--

Summary of my perl5 (revision 5 version 22 subversion 4) configuration:
   
  Platform:
    osname=linux, osvers=4.9.0-9-amd64, archname=x86_64-linux
    uname='linux debian9 4.9.0-9-amd64 #1 smp debian 4.9.168-1+deb9u4 (2019-07-19) x86_64 gnulinux '
    config_args='-ds -e -Dprefix=/opt/perl-5.22.4 -Dcf_email=srezic@cpan.org'
    hint=recommended, useposix=true, d_sigaction=define
    useithreads=undef, usemultiplicity=undef
    use64bitint=define, use64bitall=define, uselongdouble=undef
    usemymalloc=n, bincompat5005=undef
  Compiler:
    cc='cc', ccflags ='-fwrapv -fno-strict-aliasing -pipe -fstack-protector-strong -I/usr/local/include -D_LARGEFILE_SOURCE -D_FILE_OFFSET_BITS=64',
    optimize='-O2',
    cppflags='-fwrapv -fno-strict-aliasing -pipe -fstack-protector-strong -I/usr/local/include'
    ccversion='', gccversion='6.3.0 20170516', gccosandvers=''
    intsize=4, longsize=8, ptrsize=8, doublesize=8, byteorder=12345678, doublekind=3
    d_longlong=define, longlongsize=8, d_longdbl=define, longdblsize=16, longdblkind=3
    ivtype='long', ivsize=8, nvtype='double', nvsize=8, Off_t='off_t', lseeksize=8
    alignbytes=8, prototype=define
  Linker and Libraries:
    ld='cc', ldflags =' -fstack-protector-strong -L/usr/local/lib'
    libpth=/usr/local/lib /usr/lib/gcc/x86_64-linux-gnu/6/include-fixed /usr/include/x86_64-linux-gnu /usr/lib /lib/x86_64-linux-gnu /lib/../lib /usr/lib/x86_64-linux-gnu /usr/lib/../lib /lib
    libs=-lpthread -lnsl -ldb -ldl -lm -lcrypt -lutil -lc
    perllibs=-lpthread -lnsl -ldl -lm -lcrypt -lutil -lc
    libc=libc-2.24.so, so=so, useshrplib=false, libperl=libperl.a
    gnulibc_version='2.24'
  Dynamic Linking:
    dlsrc=dl_dlopen.xs, dlext=so, d_dlsymun=undef, ccdlflags='-Wl,-E'
    cccdlflags='-fPIC', lddlflags='-shared -O2 -L/usr/local/lib -fstack-protector-strong'


Characteristics of this binary (from libperl): 
  Compile-time options: HAS_TIMES PERLIO_LAYERS PERL_DONT_CREATE_GVSV
                        PERL_HASH_FUNC_ONE_AT_A_TIME_HARD PERL_MALLOC_WRAP
                        PERL_NEW_COPY_ON_WRITE PERL_PRESERVE_IVUV
                        USE_64_BIT_ALL USE_64_BIT_INT USE_LARGE_FILES
                        USE_LOCALE USE_LOCALE_COLLATE USE_LOCALE_CTYPE
                        USE_LOCALE_NUMERIC USE_LOCALE_TIME USE_PERLIO
                        USE_PERL_ATOF
  Built under linux
  Compiled at Aug  6 2019 17:25:44
  %ENV:
    PERL5LIB=""
    PERL5OPT=""
    PERL5_CPANPLUS_IS_RUNNING="20230"
    PERL5_CPAN_IS_RUNNING="20230"
    PERL5_CPAN_IS_RUNNING_IN_RECURSION="19497,20230"
    PERLDOC="-MPod::Perldoc::ToTextOverstrike"
    PERL_BATCH="yes"
    PERL_CANARY_STABILITY_NOPROMPT="1"
    PERL_CPAN_REPORTER_CONFIG="/var/tmp/cpansmoker-1023/2021010221/cpanreporter_000_config.ini"
    PERL_EXTUTILS_AUTOINSTALL="--defaultdeps"
    PERL_USE_UNSAFE_INC="1"
  @INC:
    /opt/perl-5.22.4/lib/site_perl/5.22.4/x86_64-linux
    /opt/perl-5.22.4/lib/site_perl/5.22.4
    /opt/perl-5.22.4/lib/5.22.4/x86_64-linux
    /opt/perl-5.22.4/lib/5.22.4
    .