Back
From: metabase:user:9820532a-708b-1014-9a05-b18a96298da1
Subject: PASS MooseX-WithCache-0.01002 v5.15.6 GNU/Linux
Date: 2011-12-30T15:33:00Z
This distribution has been tested as part of the CPAN Testers
project, supporting the Perl programming language. See
http://wiki.cpantesters.org/ for more information or email
questions to cpan-testers-discuss@perl.org
--
Dear Daisuke Maki,
This is a computer-generated report for MooseX-WithCache-0.01002
on perl 5.15.6, created by CPAN-Reporter-1.2003.
Thank you for uploading your work to CPAN. Congratulations!
All tests were successful.
Sections of this report:
* Tester comments
* Program output
* Prerequisites
* Environment and other context
------------------------------
TESTER COMMENTS
------------------------------
Additional comments from tester:
this report is from an automated smoke testing program
and was not reviewed by a human for accuracy
------------------------------
PROGRAM OUTPUT
------------------------------
Output from '/usr/bin/make test':
PERL_DL_NONLAZY=1 /home/test/perl5/perlbrew/perls/perl-5.15.6-ld/bin/perl5.15.6 "-MExtUtils::Command::MM" "-e" "test_harness(0, 'inc', 'blib/lib', 'blib/arch')" t/*.t t/*/*.t
t/00_compile.t ............... ok
Use of qw(...) as parentheses is deprecated at t/02_memcached.t line 25.
t/02_memcached.t ............. skipped: no memcached server found
must specify either 'datastore' hashref or 'global' flag at /home/test/perl5/perlbrew/perls/perl-5.15.6-ld/lib/site_perl/5.15.6/CHI/Driver/Memory.pm line 37
CHI::Driver::Memory::BUILD('Moose::Meta::Class::__ANON__::SERIAL::4=HASH(0x2e6f560)', 'HASH(0x2e9d560)') called at /home/test/perl5/perlbrew/perls/perl-5.15.6-ld/lib/site_perl/5.15.6/x86_64-linux-ld/Class/MOP/Method.pm line 125
Class::MOP::Method::execute('Moose::Meta::Method=HASH(0x2e90a40)', 'Moose::Meta::Class::__ANON__::SERIAL::4=HASH(0x2e6f560)', 'HASH(0x2e9d560)') called at /home/test/perl5/perlbrew/perls/perl-5.15.6-ld/lib/site_perl/5.15.6/x86_64-linux-ld/Moose/Object.pm line 59
Moose::Object::BUILDALL('Moose::Meta::Class::__ANON__::SERIAL::4=HASH(0x2e6f560)', 'HASH(0x2e9d560)') called at /home/test/perl5/perlbrew/perls/perl-5.15.6-ld/lib/site_perl/5.15.6/x86_64-linux-ld/Moose/Meta/Class.pm line 278
Moose::Meta::Class::new_object('Moose::Meta::Class=HASH(0x2e5fc00)', 'HASH(0x2e9d560)') called at /home/test/perl5/perlbrew/perls/perl-5.15.6-ld/lib/site_perl/5.15.6/x86_64-linux-ld/Moose/Object.pm line 28
Moose::Object::new('Moose::Meta::Class::__ANON__::SERIAL::4', 'chi_root_class', 'CHI', 'driver_class', 'CHI::Driver::Memory') called at constructor CHI::Driver::Memory::new (defined at /home/test/perl5/perlbrew/perls/perl-5.15.6-ld/lib/site_perl/5.15.6/CHI/Driver/Memory.pm line 18) line 4
CHI::Driver::Memory::new('Moose::Meta::Class::__ANON__::SERIAL::4', 'chi_root_class', 'CHI', 'driver_class', 'CHI::Driver::Memory') called at /home/test/perl5/perlbrew/perls/perl-5.15.6-ld/lib/site_perl/5.15.6/CHI.pm line 77
CHI::new('CHI', 'driver', 'Memory') called at t/03_chi.t line 29
t/03_chi.t ................... ok
t/04_fastmmap.t .............. ok
t/deprecated/00_compile.t .... ok
Use of qw(...) as parentheses is deprecated at t/deprecated/02_memcached.t line 20.
t/deprecated/02_memcached.t .. skipped: no memcached server found
must specify either 'datastore' hashref or 'global' flag at /home/test/perl5/perlbrew/perls/perl-5.15.6-ld/lib/site_perl/5.15.6/CHI/Driver/Memory.pm line 37
CHI::Driver::Memory::BUILD('Moose::Meta::Class::__ANON__::SERIAL::4=HASH(0x28d26c0)', 'HASH(0x285f398)') called at /home/test/perl5/perlbrew/perls/perl-5.15.6-ld/lib/site_perl/5.15.6/x86_64-linux-ld/Class/MOP/Method.pm line 125
Class::MOP::Method::execute('Moose::Meta::Method=HASH(0x285fa10)', 'Moose::Meta::Class::__ANON__::SERIAL::4=HASH(0x28d26c0)', 'HASH(0x285f398)') called at /home/test/perl5/perlbrew/perls/perl-5.15.6-ld/lib/site_perl/5.15.6/x86_64-linux-ld/Moose/Object.pm line 59
Moose::Object::BUILDALL('Moose::Meta::Class::__ANON__::SERIAL::4=HASH(0x28d26c0)', 'HASH(0x285f398)') called at /home/test/perl5/perlbrew/perls/perl-5.15.6-ld/lib/site_perl/5.15.6/x86_64-linux-ld/Moose/Meta/Class.pm line 278
Moose::Meta::Class::new_object('Moose::Meta::Class=HASH(0x28caf68)', 'HASH(0x285f398)') called at /home/test/perl5/perlbrew/perls/perl-5.15.6-ld/lib/site_perl/5.15.6/x86_64-linux-ld/Moose/Object.pm line 28
Moose::Object::new('Moose::Meta::Class::__ANON__::SERIAL::4', 'chi_root_class', 'CHI', 'driver_class', 'CHI::Driver::Memory') called at constructor CHI::Driver::Memory::new (defined at /home/test/perl5/perlbrew/perls/perl-5.15.6-ld/lib/site_perl/5.15.6/CHI/Driver/Memory.pm line 18) line 4
CHI::Driver::Memory::new('Moose::Meta::Class::__ANON__::SERIAL::4', 'chi_root_class', 'CHI', 'driver_class', 'CHI::Driver::Memory') called at /home/test/perl5/perlbrew/perls/perl-5.15.6-ld/lib/site_perl/5.15.6/CHI.pm line 77
CHI::new('CHI', 'driver', 'Memory') called at t/deprecated/03_chi.t line 30
t/deprecated/03_chi.t ........ ok
t/deprecated/04_fastmmap.t ... ok
All tests successful.
Files=8, Tests=62, 5 wallclock secs ( 0.05 usr 0.04 sys + 4.14 cusr 0.53 csys = 4.76 CPU)
Result: PASS
------------------------------
PREREQUISITES
------------------------------
Prerequisite modules loaded:
requires:
Module Need Have
--------------------------- ----- ------------
Cache::Memcached 0 1.29
Data::Dumper 0 2.131
Digest::MD5 0 2.51
Moose 0.59 2.0401
MooseX::Role::Parameterized 0 0.27
perl 5.008 5.015006
build_requires:
Module Need Have
--------------------------- ----- ------------
ExtUtils::MakeMaker 6.42 6.62
IO::Socket::INET 0 1.32
Test::Exception 0 0.31
Test::More 0 1.005000_002
configure_requires:
Module Need Have
--------------------------- ----- ------------
ExtUtils::MakeMaker 6.42 6.62
------------------------------
ENVIRONMENT AND OTHER CONTEXT
------------------------------
Environment variables:
AUTOMATED_TESTING = 1
LANG = C
LC_ALL = C
MANPATH_WITHOUT_PERLBREW =
PATH = /home/test/bin:/home/test/perl5/perlbrew/bin:/home/test/perl5/perlbrew/perls/perl-5.15.6-ld/bin:~/bin:/usr/bin:/bin
PATH_WITHOUT_PERLBREW = ~/bin:/usr/bin:/bin
PERL5LIB =
PERL5OPT =
PERL5_CPANPLUS_IS_RUNNING = 13045
PERL5_CPAN_IS_RUNNING = 13045
PERL5_CPAN_IS_RUNNING_IN_RECURSION = 8302,13045
PERLBREW_BASHRC_VERSION = 0.37
PERLBREW_HOME = /home/test/.perlbrew
PERLBREW_MANPATH = /home/test/perl5/perlbrew/perls/perl-5.15.6-ld/man
PERLBREW_PATH = /home/test/perl5/perlbrew/bin:/home/test/perl5/perlbrew/perls/perl-5.15.6-ld/bin
PERLBREW_PERL = perl-5.15.6-ld
PERLBREW_ROOT = /home/test/perl5/perlbrew
PERLBREW_VERSION = 0.37
PERL_CPANM_OPT = --prompt --mirror file:///mirrors/cpan/
PERL_CR_SMOKER_CURRENT = WebService-Async-0.04
PERL_EXTUTILS_AUTOINSTALL = --defaultdeps
PERL_MM_USE_DEFAULT = 1
SHELL = /bin/bash
TERM = linux
Perl special variables (and OS-specific diagnostics, for MSWin32):
$^X = /home/test/perl5/perlbrew/perls/perl-5.15.6-ld/bin/perl5.15.6
$UID/$EUID = 1001 / 1001
$GID = 1001 1001
$EGID = 1001 1001
Perl module toolchain versions installed:
Module Have
------------------- ------------
CPAN 1.9800
CPAN::Meta 2.112621
Cwd 3.39_01
ExtUtils::CBuilder 0.280205
ExtUtils::Command 1.17
ExtUtils::Install 1.57
ExtUtils::MakeMaker 6.62
ExtUtils::Manifest 1.60
ExtUtils::ParseXS 3.11
File::Spec 3.39_01
JSON 2.53
JSON::PP 2.27200
Module::Build 0.39_01
Module::Signature 0.68
Parse::CPAN::Meta 1.4401
Test::Harness 3.23
Test::More 1.005000_002
YAML n/a
YAML::Syck 1.19
version 0.95
--
Summary of my perl5 (revision 5 version 15 subversion 6) configuration:
Platform:
osname=linux, osvers=2.6.35-28-generic, archname=x86_64-linux-ld
uname='linux zippy 2.6.35-28-generic #50-ubuntu smp fri mar 18 18:42:20 utc 2011 x86_64 gnulinux '
config_args='-de -Dprefix=/home/test/perl5/perlbrew/perls/perl-5.15.6-ld -Duselongdouble -Dusedevel'
hint=recommended, useposix=true, d_sigaction=define
useithreads=undef, usemultiplicity=undef
useperlio=define, d_sfio=undef, uselargefiles=define, usesocks=undef
use64bitint=define, use64bitall=define, uselongdouble=define
usemymalloc=n, bincompat5005=undef
Compiler:
cc='cc', ccflags ='-fno-strict-aliasing -pipe -fstack-protector -I/usr/local/include -D_LARGEFILE_SOURCE -D_FILE_OFFSET_BITS=64',
optimize='-O2',
cppflags='-fno-strict-aliasing -pipe -fstack-protector -I/usr/local/include'
ccversion='', gccversion='4.4.5', gccosandvers=''
intsize=4, longsize=8, ptrsize=8, doublesize=8, byteorder=12345678
d_longlong=define, longlongsize=8, d_longdbl=define, longdblsize=16
ivtype='long', ivsize=8, nvtype='long double', nvsize=16, Off_t='off_t', lseeksize=8
alignbytes=16, prototype=define
Linker and Libraries:
ld='cc', ldflags =' -fstack-protector -L/usr/local/lib'
libpth=/usr/local/lib /lib/../lib /usr/lib/../lib /lib /usr/lib /usr/lib/x86_64-linux-gnu /lib64 /usr/lib64
libs=-lnsl -ldl -lm -lcrypt -lutil -lc
perllibs=-lnsl -ldl -lm -lcrypt -lutil -lc
libc=/lib/libc-2.12.1.so, so=so, useshrplib=false, libperl=libperl.a
gnulibc_version='2.12.1'
Dynamic Linking:
dlsrc=dl_dlopen.xs, dlext=so, d_dlsymun=undef, ccdlflags='-Wl,-E'
cccdlflags='-fPIC', lddlflags='-shared -O2 -L/usr/local/lib -fstack-protector'
Characteristics of this binary (from libperl):
Compile-time options: HAS_TIMES PERLIO_LAYERS PERL_DONT_CREATE_GVSV
PERL_MALLOC_WRAP PERL_PRESERVE_IVUV PERL_USE_DEVEL
USE_64_BIT_ALL USE_64_BIT_INT USE_LARGE_FILES
USE_LOCALE USE_LOCALE_COLLATE USE_LOCALE_CTYPE
USE_LOCALE_NUMERIC USE_LONG_DOUBLE USE_PERLIO
USE_PERL_ATOF
Built under linux
Compiled at Dec 28 2011 19:19:12
%ENV:
PERL5LIB=""
PERL5OPT=""
PERL5_CPANPLUS_IS_RUNNING="13045"
PERL5_CPAN_IS_RUNNING="13045"
PERL5_CPAN_IS_RUNNING_IN_RECURSION="8302,13045"
PERLBREW_BASHRC_VERSION="0.37"
PERLBREW_HOME="/home/test/.perlbrew"
PERLBREW_MANPATH="/home/test/perl5/perlbrew/perls/perl-5.15.6-ld/man"
PERLBREW_PATH="/home/test/perl5/perlbrew/bin:/home/test/perl5/perlbrew/perls/perl-5.15.6-ld/bin"
PERLBREW_PERL="perl-5.15.6-ld"
PERLBREW_ROOT="/home/test/perl5/perlbrew"
PERLBREW_VERSION="0.37"
PERL_CPANM_OPT="--prompt --mirror file:///mirrors/cpan/"
PERL_CR_SMOKER_CURRENT="WebService-Async-0.04"
PERL_EXTUTILS_AUTOINSTALL="--defaultdeps"
PERL_MM_USE_DEFAULT="1"
@INC:
/home/test/perl5/perlbrew/perls/perl-5.15.6-ld/lib/site_perl/5.15.6/x86_64-linux-ld
/home/test/perl5/perlbrew/perls/perl-5.15.6-ld/lib/site_perl/5.15.6
/home/test/perl5/perlbrew/perls/perl-5.15.6-ld/lib/5.15.6/x86_64-linux-ld
/home/test/perl5/perlbrew/perls/perl-5.15.6-ld/lib/5.15.6
.