HiD v1.992 Perl 5 v5.39.2 x86_64-linux-thread-multi

Status
Pass
From
Andreas J. König (ANDK)
Dist
HiD v1.992
Platform
Perl 5 v5.39.2 x86_64-linux-thread-multi
Date
2023-09-06 19:42:47
ID
8e22c74e-4ced-11ee-9df2-28f77a3870b7
This distribution has been tested as part of the CPAN Testers
project, supporting the Perl programming language.  See
http://wiki.cpantesters.org/ for more information or email
questions to cpan-testers-discuss@perl.org


--
Dear John SJ Anderson,

This is a computer-generated report for HiD-1.992
on perl 5.39.2, created by CPAN-Reporter-1.2019.

Thank you for uploading your work to CPAN.  Congratulations!
All tests were successful.

Sections of this report:

    * Tester comments
    * Program output
    * Prerequisites
    * Environment and other context

------------------------------
TESTER COMMENTS
------------------------------

Additional comments from tester:

this report is from an automated smoke testing program
and was not reviewed by a human for accuracy

------------------------------
PROGRAM OUTPUT
------------------------------

Output from '/usr/bin/make test':

PERL_DL_NONLAZY=1 "/tmp/basesmoker-reloperl-uUkW/bin/perl" "-MExtUtils::Command::MM" "-MTest::Harness" "-e" "undef *Test::Harness::Switches; test_harness(0, 'blib/lib', 'blib/arch')" t/*.t
t/00-compile.t ........... ok
t/author-eol.t ........... skipped: these tests are for testing by the author
t/author-pod-coverage.t .. skipped: these tests are for testing by the author
t/author-pod-syntax.t .... skipped: these tests are for testing by the author
t/cmd-config.t ........... ok
t/cmd-help.t ............. ok
t/cmd-init.t ............. ok
# Testing in /tmp/OOfybOz3lf
t/cmd-publish.t .......... ok
t/config.t ............... ok
t/file.t ................. ok
t/hid-server.t ........... ok
[2023/09/06 19:41:39]  WARN Skipping _posts/2008-02-02-not-published.textile because 'published' flag is false
[2023/09/06 19:41:39] ERROR ERROR: Post failed to build: Can't locate PatternLayout.pm in @INC (you may need to install the PatternLayout module) (@INC entries checked: /tmp/loop_over_bdir-3476-qrra1b/HiD-1.992-0/blib/lib /tmp/loop_over_bdir-3476-qrra1b/HiD-1.992-0/blib/arch /tmp/loop_over_bdir-3476-qrra1b/WWW-Mechanize-Chrome-DOMops-0.06-0/blib/arch /tmp/loop_over_bdir-3476-qrra1b/WWW-Mechanize-Chrome-DOMops-0.06-0/blib/lib /tmp/loop_over_bdir-3476-qrra1b/Lemonldap-NG-Cli-0.2-0/blib/arch /tmp/loop_over_bdir-3476-qrra1b/Lemonldap-NG-Cli-0.2-0/blib/lib /tmp/loop_over_bdir-3476-qrra1b/RDF-NLP-SPARQLQuery-0.1-0/blib/arch /tmp/loop_over_bdir-3476-qrra1b/RDF-NLP-SPARQLQuery-0.1-0/blib/lib /tmp/loop_over_bdir-3476-qrra1b/DBIx-Migration-Directories-0.12-0/blib/arch /tmp/loop_over_bdir-3476-qrra1b/DBIx-Migration-Directories-0.12-0/blib/lib /tmp/loop_over_bdir-3476-qrra1b/WWW-Mechanize-Chrome-DOMops-0.06-0/blib/arch /tmp/loop_over_bdir-3476-qrra1b/WWW-Mechanize-Chrome-DOMops-0.06-0/blib/lib /tmp/loop_over_bdir-3476-qrra1b/Lemonldap-NG-Cli-0.2-0/blib/arch /tmp/loop_over_bdir-3476-qrra1b/Lemonldap-NG-Cli-0.2-0/blib/lib /tmp/loop_over_bdir-3476-qrra1b/RDF-NLP-SPARQLQuery-0.1-0/blib/arch /tmp/loop_over_bdir-3476-qrra1b/RDF-NLP-SPARQLQuery-0.1-0/blib/lib /tmp/loop_over_bdir-3476-qrra1b/DBIx-Migration-Directories-0.12-0/blib/arch /tmp/loop_over_bdir-3476-qrra1b/DBIx-Migration-Directories-0.12-0/blib/lib /home/sand/src/perl/repoperls/installed-perls/host/k93jammy/v5.39.2/b4f3/lib/site_perl/5.39.2/x86_64-linux-thread-multi /home/sand/src/perl/repoperls/installed-perls/host/k93jammy/v5.39.2/b4f3/lib/site_perl/5.39.2 /home/sand/src/perl/repoperls/installed-perls/host/k93jammy/v5.39.2/b4f3/lib/5.39.2/x86_64-linux-thread-multi /home/sand/src/perl/repoperls/installed-perls/host/k93jammy/v5.39.2/b4f3/lib/5.39.2 .) at /home/sand/src/perl/repoperls/installed-perls/host/k93jammy/v5.39.2/b4f3/lib/site_perl/5.39.2/Log/Log4perl/Util.pm line 51.
	...propagated at /tmp/loop_over_bdir-3476-qrra1b/HiD-1.992-0/blib/lib/HiD/Post.pm line 36.
t/hid.t .................. ok
t/layout.t ............... ok
t/page.t ................. ok
t/post-twitter.t ......... ok
t/post.t ................. ok
All tests successful.

Test Summary Report
-------------------
t/cmd-publish.t        (Wstat: 0 Tests: 76 Failed: 0)
  TODO passed:   72-73
Files=16, Tests=209, 26 wallclock secs ( 0.09 usr  0.02 sys + 22.15 cusr  2.73 csys = 24.99 CPU)
Result: PASS

------------------------------
PREREQUISITES
------------------------------

Prerequisite modules loaded:

requires:

    Module                       Need  Have    
    ---------------------------- ----- --------
    autodie                      0     2.36    
    Carp                         0     1.54    
    charnames                    0     1.50    
    Class::Load                  0     0.25    
    Data::Page                   0     2.03    
    Data::Printer                0.35  1.001001
    Date::Parse                  0     2.33    
    DateTime                     0     1.59    
    feature                      0     1.84    
    File::Copy                   0     2.41    
    File::Find::Rule             0     0.34    
    Log::Log4perl                0     1.57    
    Moose                        0     2.2206  
    Moose::Role                  0     2.2206  
    Moose::Util::TypeConstraints 0     2.2206  
    MooseX::App::Cmd             0     0.34    
    MooseX::App::Cmd::Command    0     0.34    
    MooseX::Getopt               0     0.75    
    namespace::autoclean         0     0.29    
    open                         0     1.13    
    parent                       0     0.241   
    Path::Tiny                   0.054 0.144   
    perl                         5.014 5.039002
    Plack::App::File             0     0       
    Plack::Builder               0     0       
    Plack::Handler::Standalone   0     0       
    Plack::Loader::Restarter     0     0       
    Plack::Runner                0     0       
    strict                       0     1.13    
    String::Errf                 0     0.009   
    Template                     0     3.101   
    Text::Handlebars             0     0.05    
    Text::Markdown               0     1.000031
    Text::MultiMarkdown          0     1.001   
    Text::Textile                0     2.13    
    Text::Xslate                 0     v3.5.9  
    Try::Tiny                    0     0.31    
    utf8                         0     1.25    
    warnings                     0     1.67    
    XML::Feed                    0     0.63    
    XML::Feed::Entry             0     0.63    
    YAML::Tiny                   0     1.74    
    YAML::XS                     0     0.88    

build_requires:

    Module                       Need  Have    
    ---------------------------- ----- --------
    App::Cmd::Tester             0     0.336   
    Exporter                     0     5.77    
    ExtUtils::MakeMaker          0     7.70    
    File::Spec                   0     3.90    
    FindBin                      0     1.53    
    HTTP::Request::Common        0     6.44    
    IO::Handle                   0     1.52    
    IPC::Open3                   0     1.22    
    lib                          0     0.65    
    Plack::Test                  0     0       
    Test::File                   0     1.993   
    Test::File::Contents         0     0.242   
    Test::More                   0     1.302195
    Test::Routine                0     0.031   
    Test::Routine::Util          0     0.031   
    Test::Warn                   0     0.37    

configure_requires:

    Module                       Need  Have    
    ---------------------------- ----- --------
    ExtUtils::MakeMaker          0     7.70    
    perl                         5.014 5.039002


------------------------------
ENVIRONMENT AND OTHER CONTEXT
------------------------------

Environment variables:

    AUTOMATED_TESTING = 1
    LANG = en_US.UTF-8
    LC_ADDRESS = de_DE.UTF-8
    LC_IDENTIFICATION = de_DE.UTF-8
    LC_MEASUREMENT = de_DE.UTF-8
    LC_MONETARY = de_DE.UTF-8
    LC_NAME = de_DE.UTF-8
    LC_NUMERIC = de_DE.UTF-8
    LC_PAPER = de_DE.UTF-8
    LC_TELEPHONE = de_DE.UTF-8
    LC_TIME = de_DE.UTF-8
    PATH = /home/sand/bin:/usr/local/bin:/usr/local/sbin:/usr/sbin:/usr/bin:/sbin:/bin:/usr/games:/usr/local/games:/snap/bin:/usr/local/perl/bin:/usr/X11/bin
    PERL = /tmp/basesmoker-reloperl-uUkW/bin/perl
    PERL5LIB = /tmp/loop_over_bdir-3476-qrra1b/WWW-Mechanize-Chrome-DOMops-0.06-0/blib/arch:/tmp/loop_over_bdir-3476-qrra1b/WWW-Mechanize-Chrome-DOMops-0.06-0/blib/lib:/tmp/loop_over_bdir-3476-qrra1b/Lemonldap-NG-Cli-0.2-0/blib/arch:/tmp/loop_over_bdir-3476-qrra1b/Lemonldap-NG-Cli-0.2-0/blib/lib:/tmp/loop_over_bdir-3476-qrra1b/RDF-NLP-SPARQLQuery-0.1-0/blib/arch:/tmp/loop_over_bdir-3476-qrra1b/RDF-NLP-SPARQLQuery-0.1-0/blib/lib:/tmp/loop_over_bdir-3476-qrra1b/DBIx-Migration-Directories-0.12-0/blib/arch:/tmp/loop_over_bdir-3476-qrra1b/DBIx-Migration-Directories-0.12-0/blib/lib
    PERL5OPT = 
    PERL5_CPANPLUS_IS_RUNNING = 3484
    PERL5_CPAN_IS_RUNNING = 3484
    PERL_CANARY_STABILITY_NOPROMPT = 1
    PERL_MM_USE_DEFAULT = 1
    PERL_USE_UNSAFE_INC = 1
    SHELL = /usr/bin/zsh
    TERM = screen

Perl special variables (and OS-specific diagnostics, for MSWin32):

    $^X = /tmp/basesmoker-reloperl-uUkW/bin/perl
    $UID/$EUID = 1005 / 1005
    $GID = 1005 1005
    $EGID = 1005 1005

Perl module toolchain versions installed:

    Module              Have    
    ------------------- --------
    CPAN                2.36    
    CPAN::Meta          2.150010
    Cwd                 3.90    
    ExtUtils::CBuilder  0.280239
    ExtUtils::Command   7.70    
    ExtUtils::Install   2.22    
    ExtUtils::MakeMaker 7.70    
    ExtUtils::Manifest  1.75    
    ExtUtils::ParseXS   3.51    
    File::Spec          3.90    
    JSON                4.10    
    JSON::PP            4.16    
    Module::Build       0.4234  
    Module::Signature   0.88    
    Parse::CPAN::Meta   2.150010
    Test2               1.302195
    Test::Harness       3.47    
    Test::More          1.302195
    YAML                1.30    
    YAML::Syck          1.34    
    version             0.9929  


--

Summary of my perl5 (revision 5 version 39 subversion 2) configuration:
  Commit id: e246fd63c3ad4034efc21113d44231047f6b2909
  Platform:
    osname=linux
    osvers=6.2.0-26-generic
    archname=x86_64-linux-thread-multi
    uname='linux k93jammy 6.2.0-26-generic #26~22.04.1-ubuntu smp preempt_dynamic thu jul 13 16:27:29 utc 2 x86_64 x86_64 x86_64 gnulinux '
    config_args='-Dprefix=/home/sand/src/perl/repoperls/installed-perls/host/k93jammy/v5.39.2/b4f3 -Dmyhostname=k93jammy -Dinstallusrbinperl=n -Uversiononly -Dusedevel -des -Ui_db -Dlibswanted=cl pthread socket inet nsl gdbm dbm malloc dl ld sun m crypt sec util c cposix posix ucb BSD gdbm_compat -Duseithreads -Uuselongdouble -DEBUGGING=-g'
    hint=recommended
    useposix=true
    d_sigaction=define
    useithreads=define
    usemultiplicity=define
    use64bitint=define
    use64bitall=define
    uselongdouble=undef
    usemymalloc=n
    default_inc_excludes_dot=define
  Compiler:
    cc='cc'
    ccflags ='-D_REENTRANT -D_GNU_SOURCE -fwrapv -fno-strict-aliasing -pipe -fstack-protector-strong -I/usr/local/include -D_LARGEFILE_SOURCE -D_FILE_OFFSET_BITS=64'
    optimize='-O2 -g'
    cppflags='-D_REENTRANT -D_GNU_SOURCE -fwrapv -fno-strict-aliasing -pipe -fstack-protector-strong -I/usr/local/include'
    ccversion=''
    gccversion='11.4.0'
    gccosandvers=''
    intsize=4
    longsize=8
    ptrsize=8
    doublesize=8
    byteorder=12345678
    doublekind=3
    d_longlong=define
    longlongsize=8
    d_longdbl=define
    longdblsize=16
    longdblkind=3
    ivtype='long'
    ivsize=8
    nvtype='double'
    nvsize=8
    Off_t='off_t'
    lseeksize=8
    alignbytes=8
    prototype=define
  Linker and Libraries:
    ld='cc'
    ldflags =' -fstack-protector-strong -L/usr/local/lib'
    libpth=/usr/local/lib /usr/lib/x86_64-linux-gnu /usr/lib /usr/lib64
    libs=-lpthread -lnsl -ldl -lm -lcrypt -lutil -lc
    perllibs=-lpthread -lnsl -ldl -lm -lcrypt -lutil -lc
    libc=/lib/x86_64-linux-gnu/libc.so.6
    so=so
    useshrplib=false
    libperl=libperl.a
    gnulibc_version='2.35'
  Dynamic Linking:
    dlsrc=dl_dlopen.xs
    dlext=so
    d_dlsymun=undef
    ccdlflags='-Wl,-E'
    cccdlflags='-fPIC'
    lddlflags='-shared -O2 -g -L/usr/local/lib -fstack-protector-strong'


Characteristics of this binary (from libperl): 
  Compile-time options:
    HAS_LONG_DOUBLE
    HAS_STRTOLD
    HAS_TIMES
    MULTIPLICITY
    PERLIO_LAYERS
    PERL_COPY_ON_WRITE
    PERL_DONT_CREATE_GVSV
    PERL_HASH_FUNC_SIPHASH13
    PERL_HASH_USE_SBOX32
    PERL_MALLOC_WRAP
    PERL_OP_PARENT
    PERL_PRESERVE_IVUV
    PERL_USE_DEVEL
    PERL_USE_SAFE_PUTENV
    USE_64_BIT_ALL
    USE_64_BIT_INT
    USE_ITHREADS
    USE_LARGE_FILES
    USE_LOCALE
    USE_LOCALE_COLLATE
    USE_LOCALE_CTYPE
    USE_LOCALE_NUMERIC
    USE_LOCALE_TIME
    USE_PERLIO
    USE_PERL_ATOF
    USE_REENTRANT_API
    USE_THREAD_SAFE_LOCALE
  Built under linux
  Compiled at Sep  4 2023 06:57:05
  %ENV:
    PERL="/tmp/basesmoker-reloperl-uUkW/bin/perl"
    PERL5LIB="/tmp/loop_over_bdir-3476-qrra1b/WWW-Mechanize-Chrome-DOMops-0.06-0/blib/arch:/tmp/loop_over_bdir-3476-qrra1b/WWW-Mechanize-Chrome-DOMops-0.06-0/blib/lib:/tmp/loop_over_bdir-3476-qrra1b/Lemonldap-NG-Cli-0.2-0/blib/arch:/tmp/loop_over_bdir-3476-qrra1b/Lemonldap-NG-Cli-0.2-0/blib/lib:/tmp/loop_over_bdir-3476-qrra1b/RDF-NLP-SPARQLQuery-0.1-0/blib/arch:/tmp/loop_over_bdir-3476-qrra1b/RDF-NLP-SPARQLQuery-0.1-0/blib/lib:/tmp/loop_over_bdir-3476-qrra1b/DBIx-Migration-Directories-0.12-0/blib/arch:/tmp/loop_over_bdir-3476-qrra1b/DBIx-Migration-Directories-0.12-0/blib/lib"
    PERL5OPT=""
    PERL5_CPANPLUS_IS_RUNNING="3484"
    PERL5_CPAN_IS_RUNNING="3484"
    PERL_CANARY_STABILITY_NOPROMPT="1"
    PERL_MM_USE_DEFAULT="1"
    PERL_USE_UNSAFE_INC="1"
  @INC:
    /tmp/loop_over_bdir-3476-qrra1b/WWW-Mechanize-Chrome-DOMops-0.06-0/blib/arch
    /tmp/loop_over_bdir-3476-qrra1b/WWW-Mechanize-Chrome-DOMops-0.06-0/blib/lib
    /tmp/loop_over_bdir-3476-qrra1b/Lemonldap-NG-Cli-0.2-0/blib/arch
    /tmp/loop_over_bdir-3476-qrra1b/Lemonldap-NG-Cli-0.2-0/blib/lib
    /tmp/loop_over_bdir-3476-qrra1b/RDF-NLP-SPARQLQuery-0.1-0/blib/arch
    /tmp/loop_over_bdir-3476-qrra1b/RDF-NLP-SPARQLQuery-0.1-0/blib/lib
    /tmp/loop_over_bdir-3476-qrra1b/DBIx-Migration-Directories-0.12-0/blib/arch
    /tmp/loop_over_bdir-3476-qrra1b/DBIx-Migration-Directories-0.12-0/blib/lib
    /home/sand/src/perl/repoperls/installed-perls/host/k93jammy/v5.39.2/b4f3/lib/site_perl/5.39.2/x86_64-linux-thread-multi
    /home/sand/src/perl/repoperls/installed-perls/host/k93jammy/v5.39.2/b4f3/lib/site_perl/5.39.2
    /home/sand/src/perl/repoperls/installed-perls/host/k93jammy/v5.39.2/b4f3/lib/5.39.2/x86_64-linux-thread-multi
    /home/sand/src/perl/repoperls/installed-perls/host/k93jammy/v5.39.2/b4f3/lib/5.39.2
    .