Report for Net-HTTP-Spore-0.04

Back
From: metabase:user:9820532a-708b-1014-9a05-b18a96298da1
Subject: PASS Net-HTTP-Spore-0.04 v5.15.3 GNU/Linux
Date: 2011-10-04T17:30:29Z

This distribution has been tested as part of the CPAN Testers
project, supporting the Perl programming language.  See
http://wiki.cpantesters.org/ for more information or email
questions to cpan-testers-discuss@perl.org


--
Dear Franck Cuny,

This is a computer-generated report for Net-HTTP-Spore-0.04
on perl 5.15.3, created by CPAN-Reporter-1.2002.

Thank you for uploading your work to CPAN.  Congratulations!
All tests were successful.

Sections of this report:

    * Tester comments
    * Program output
    * Prerequisites
    * Environment and other context

------------------------------
TESTER COMMENTS
------------------------------

Additional comments from tester:

this report is from an automated smoke testing program
and was not reviewed by a human for accuracy

------------------------------
PROGRAM OUTPUT
------------------------------

Output from '/usr/bin/make test':

PERL_DL_NONLAZY=1 /home/test/perl5/perlbrew/perls/perl-5.15.3-th-ld/bin/perl5.15.3 "-MExtUtils::Command::MM" "-e" "test_harness(0, 'blib/lib', 'blib/arch')" t/*.t t/spore-method/*.t t/spore-middleware/*.t t/spore-request/*.t t/spore-response/*.t t/spore-role/*.t t/spore/*.t
t/release-eol.t ...................... skipped: these tests are for release candidate testing
t/release-no-tabs.t .................. skipped: these tests are for release candidate testing
t/release-pod-coverage.t ............. skipped: these tests are for release candidate testing
t/release-pod-syntax.t ............... skipped: these tests are for release candidate testing
Providing an optimized subroutine ref for type constraints is deprecated. Use the inlining feature (inline_as) instead. at /home/test/.cpan/build/Net-HTTP-Spore-0.04-Pfq2ff/blib/lib/Net/HTTP/Spore/Meta/Method.pm line 13
	Net::HTTP::Spore::Meta::Method::BEGIN() called at /home/test/perl5/perlbrew/perls/perl-5.15.3-th-ld/lib/site_perl/5.15.3/MooseX/Types/URI.pm line 0
	eval {...} called at /home/test/perl5/perlbrew/perls/perl-5.15.3-th-ld/lib/site_perl/5.15.3/MooseX/Types/URI.pm line 0
	require Net/HTTP/Spore/Meta/Method.pm called at t/spore-method/base.t line 5
	main::BEGIN() called at /home/test/perl5/perlbrew/perls/perl-5.15.3-th-ld/lib/site_perl/5.15.3/MooseX/Types/URI.pm line 0
	eval {...} called at /home/test/perl5/perlbrew/perls/perl-5.15.3-th-ld/lib/site_perl/5.15.3/MooseX/Types/URI.pm line 0
t/spore-method/base.t ................ ok
Providing an optimized subroutine ref for type constraints is deprecated. Use the inlining feature (inline_as) instead. at /home/test/.cpan/build/Net-HTTP-Spore-0.04-Pfq2ff/blib/lib/Net/HTTP/Spore/Meta/Method.pm line 13
	Net::HTTP::Spore::Meta::Method::BEGIN() called at /home/test/perl5/perlbrew/perls/perl-5.15.3-th-ld/lib/site_perl/5.15.3/MooseX/Types/URI.pm line 0
	eval {...} called at /home/test/perl5/perlbrew/perls/perl-5.15.3-th-ld/lib/site_perl/5.15.3/MooseX/Types/URI.pm line 0
	require Net/HTTP/Spore/Meta/Method.pm called at /home/test/.cpan/build/Net-HTTP-Spore-0.04-Pfq2ff/blib/lib/Net/HTTP/Spore/Meta/Method/Spore.pm line 11
	Net::HTTP::Spore::Meta::Method::Spore::BEGIN() called at /home/test/perl5/perlbrew/perls/perl-5.15.3-th-ld/lib/site_perl/5.15.3/MooseX/Types/URI.pm line 0
	eval {...} called at /home/test/perl5/perlbrew/perls/perl-5.15.3-th-ld/lib/site_perl/5.15.3/MooseX/Types/URI.pm line 0
	require Net/HTTP/Spore/Meta/Method/Spore.pm called at /home/test/perl5/perlbrew/perls/perl-5.15.3-th-ld/lib/site_perl/5.15.3/Class/Load.pm line 217
	Class::Load::__ANON__() called at /home/test/perl5/perlbrew/perls/perl-5.15.3-th-ld/lib/site_perl/5.15.3/Try/Tiny.pm line 71
	eval {...} called at /home/test/perl5/perlbrew/perls/perl-5.15.3-th-ld/lib/site_perl/5.15.3/Try/Tiny.pm line 67
	Try::Tiny::try('CODE(0x1c84438)', 'Try::Tiny::Catch=REF(0x1c5b368)') called at /home/test/perl5/perlbrew/perls/perl-5.15.3-th-ld/lib/site_perl/5.15.3/Class/Load.pm line 224
	Class::Load::try_load_class('Net::HTTP::Spore::Meta::Method::Spore', undef) called at /home/test/perl5/perlbrew/perls/perl-5.15.3-th-ld/lib/site_perl/5.15.3/Class/Load.pm line 62
	Class::Load::load_class('Net::HTTP::Spore::Meta::Method::Spore', undef) called at /home/test/perl5/perlbrew/perls/perl-5.15.3-th-ld/lib/site_perl/5.15.3/x86_64-linux-thread-multi-ld/Moose/Util.pm line 132
	Moose::Util::_apply_all_roles('Moose::Meta::Role=HASH(0x1c6e438)', undef, 'Net::HTTP::Spore::Meta::Method::Spore') called at /home/test/perl5/perlbrew/perls/perl-5.15.3-th-ld/lib/site_perl/5.15.3/x86_64-linux-thread-multi-ld/Moose/Util.pm line 99
	Moose::Util::apply_all_roles('Moose::Meta::Role=HASH(0x1c6e438)', 'Net::HTTP::Spore::Meta::Method::Spore') called at /home/test/perl5/perlbrew/perls/perl-5.15.3-th-ld/lib/site_perl/5.15.3/x86_64-linux-thread-multi-ld/Moose/Role.pm line 29
	Moose::Role::with('Moose::Meta::Role=HASH(0x1c6e438)', 'Net::HTTP::Spore::Meta::Method::Spore') called at /home/test/perl5/perlbrew/perls/perl-5.15.3-th-ld/lib/site_perl/5.15.3/x86_64-linux-thread-multi-ld/Moose/Exporter.pm line 370
	Moose::Role::with('Net::HTTP::Spore::Meta::Method::Spore') called at /home/test/.cpan/build/Net-HTTP-Spore-0.04-Pfq2ff/blib/lib/Net/HTTP/Spore/Meta/Class.pm line 10
	require Net/HTTP/Spore/Meta/Class.pm called at /home/test/perl5/perlbrew/perls/perl-5.15.3-th-ld/lib/site_perl/5.15.3/Class/Load.pm line 217
	Class::Load::__ANON__() called at /home/test/perl5/perlbrew/perls/perl-5.15.3-th-ld/lib/site_perl/5.15.3/Try/Tiny.pm line 71
	eval {...} called at /home/test/perl5/perlbrew/perls/perl-5.15.3-th-ld/lib/site_perl/5.15.3/Try/Tiny.pm line 67
	Try::Tiny::try('CODE(0x1c5aa08)', 'Try::Tiny::Catch=REF(0x1b48f48)') called at /home/test/perl5/perlbrew/perls/perl-5.15.3-th-ld/lib/site_perl/5.15.3/Class/Load.pm line 224
	Class::Load::try_load_class('Net::HTTP::Spore::Meta::Class', undef) called at /home/test/perl5/perlbrew/perls/perl-5.15.3-th-ld/lib/site_perl/5.15.3/Class/Load.pm line 62
	Class::Load::load_class('Net::HTTP::Spore::Meta::Class', undef) called at /home/test/perl5/perlbrew/perls/perl-5.15.3-th-ld/lib/site_perl/5.15.3/x86_64-linux-thread-multi-ld/Moose/Util.pm line 132
	Moose::Util::_apply_all_roles('Moose::Meta::Class=HASH(0x1c5af18)', undef, 'Net::HTTP::Spore::Meta::Class') called at /home/test/perl5/perlbrew/perls/perl-5.15.3-th-ld/lib/site_perl/5.15.3/x86_64-linux-thread-multi-ld/Moose/Util.pm line 99
	Moose::Util::apply_all_roles('Moose::Meta::Class=HASH(0x1c5af18)', 'Net::HTTP::Spore::Meta::Class') called at /home/test/perl5/perlbrew/perls/perl-5.15.3-th-ld/lib/site_perl/5.15.3/x86_64-linux-thread-multi-ld/Moose/Meta/Class.pm line 104
	Moose::Meta::Class::create('Moose::Meta::Class', 'Moose::Meta::Class::__ANON__::SERIAL::1', 'roles', 'ARRAY(0x1b953f0)', 'weaken', '', 'superclasses', 'ARRAY(0x1c5aa50)') called at /home/test/perl5/perlbrew/perls/perl-5.15.3-th-ld/lib/site_perl/5.15.3/x86_64-linux-thread-multi-ld/Class/MOP/Package.pm line 120
	Class::MOP::Package::create_anon('Moose::Meta::Class', 'superclasses', 'ARRAY(0x1c5aa50)', 'roles', 'ARRAY(0x1b953f0)', 'cache', 1) called at /home/test/perl5/perlbrew/perls/perl-5.15.3-th-ld/lib/site_perl/5.15.3/x86_64-linux-thread-multi-ld/Class/MOP/Class.pm line 474
	Class::MOP::Class::create_anon_class('Moose::Meta::Class', 'superclasses', 'ARRAY(0x1c5aa50)', 'roles', 'ARRAY(0x1b953f0)', 'cache', 1) called at /home/test/perl5/perlbrew/perls/perl-5.15.3-th-ld/lib/site_perl/5.15.3/x86_64-linux-thread-multi-ld/Moose/Util/MetaRole.pm line 134
	Moose::Util::MetaRole::_make_new_class('Moose::Meta::Class', 'ARRAY(0x1b953f0)') called at /home/test/perl5/perlbrew/perls/perl-5.15.3-th-ld/lib/site_perl/5.15.3/x86_64-linux-thread-multi-ld/Moose/Util/MetaRole.pm line 79
	Moose::Util::MetaRole::_make_new_metaclass('Moose::Meta::Class=HASH(0x1c56fa0)', 'HASH(0x1b95318)', 'class') called at /home/test/perl5/perlbrew/perls/perl-5.15.3-th-ld/lib/site_perl/5.15.3/x86_64-linux-thread-multi-ld/Moose/Util/MetaRole.pm line 28
	Moose::Util::MetaRole::apply_metaroles('for', 'Net::HTTP::Spore::Core', 'class_metaroles', 'HASH(0x1b95318)') called at /home/test/.cpan/build/Net-HTTP-Spore-0.04-Pfq2ff/blib/lib/Net/HTTP/Spore/Meta.pm line 28
	Net::HTTP::Spore::Meta::init_meta('Net::HTTP::Spore::Meta', 'for_class', 'MooseX::Types::URI', 'metaclass', undef, 'meta_name', 'meta') called at /home/test/perl5/perlbrew/perls/perl-5.15.3-th-ld/lib/site_perl/5.15.3/x86_64-linux-thread-multi-ld/Moose/Exporter.pm line 435
	Moose::Exporter::__ANON__('Net::HTTP::Spore::Meta') called at /home/test/.cpan/build/Net-HTTP-Spore-0.04-Pfq2ff/blib/lib/Net/HTTP/Spore/Core.pm line 6
	Net::HTTP::Spore::Core::BEGIN() called at /home/test/perl5/perlbrew/perls/perl-5.15.3-th-ld/lib/site_perl/5.15.3/MooseX/Types/URI.pm line 0
	eval {...} called at /home/test/perl5/perlbrew/perls/perl-5.15.3-th-ld/lib/site_perl/5.15.3/MooseX/Types/URI.pm line 0
	require Net/HTTP/Spore/Core.pm called at /home/test/.cpan/build/Net-HTTP-Spore-0.04-Pfq2ff/blib/lib/Net/HTTP/Spore.pm line 13
	Net::HTTP::Spore::BEGIN() called at /home/test/perl5/perlbrew/perls/perl-5.15.3-th-ld/lib/site_perl/5.15.3/MooseX/Types/URI.pm line 0
	eval {...} called at /home/test/perl5/perlbrew/perls/perl-5.15.3-th-ld/lib/site_perl/5.15.3/MooseX/Types/URI.pm line 0
	require Net/HTTP/Spore.pm called at t/spore-method/payload.t line 8
	main::BEGIN() called at /home/test/perl5/perlbrew/perls/perl-5.15.3-th-ld/lib/site_perl/5.15.3/MooseX/Types/URI.pm line 0
	eval {...} called at /home/test/perl5/perlbrew/perls/perl-5.15.3-th-ld/lib/site_perl/5.15.3/MooseX/Types/URI.pm line 0
t/spore-method/payload.t ............. ok
Providing an optimized subroutine ref for type constraints is deprecated. Use the inlining feature (inline_as) instead. at /home/test/.cpan/build/Net-HTTP-Spore-0.04-Pfq2ff/blib/lib/Net/HTTP/Spore/Meta/Method.pm line 13
	Net::HTTP::Spore::Meta::Method::BEGIN() called at /home/test/perl5/perlbrew/perls/perl-5.15.3-th-ld/lib/site_perl/5.15.3/MooseX/Types/URI.pm line 0
	eval {...} called at /home/test/perl5/perlbrew/perls/perl-5.15.3-th-ld/lib/site_perl/5.15.3/MooseX/Types/URI.pm line 0
	require Net/HTTP/Spore/Meta/Method.pm called at /home/test/.cpan/build/Net-HTTP-Spore-0.04-Pfq2ff/blib/lib/Net/HTTP/Spore/Meta/Method/Spore.pm line 11
	Net::HTTP::Spore::Meta::Method::Spore::BEGIN() called at /home/test/perl5/perlbrew/perls/perl-5.15.3-th-ld/lib/site_perl/5.15.3/MooseX/Types/URI.pm line 0
	eval {...} called at /home/test/perl5/perlbrew/perls/perl-5.15.3-th-ld/lib/site_perl/5.15.3/MooseX/Types/URI.pm line 0
	require Net/HTTP/Spore/Meta/Method/Spore.pm called at /home/test/perl5/perlbrew/perls/perl-5.15.3-th-ld/lib/site_perl/5.15.3/Class/Load.pm line 217
	Class::Load::__ANON__() called at /home/test/perl5/perlbrew/perls/perl-5.15.3-th-ld/lib/site_perl/5.15.3/Try/Tiny.pm line 71
	eval {...} called at /home/test/perl5/perlbrew/perls/perl-5.15.3-th-ld/lib/site_perl/5.15.3/Try/Tiny.pm line 67
	Try::Tiny::try('CODE(0x1a45a80)', 'Try::Tiny::Catch=REF(0x19f83c8)') called at /home/test/perl5/perlbrew/perls/perl-5.15.3-th-ld/lib/site_perl/5.15.3/Class/Load.pm line 224
	Class::Load::try_load_class('Net::HTTP::Spore::Meta::Method::Spore', undef) called at /home/test/perl5/perlbrew/perls/perl-5.15.3-th-ld/lib/site_perl/5.15.3/Class/Load.pm line 62
	Class::Load::load_class('Net::HTTP::Spore::Meta::Method::Spore', undef) called at /home/test/perl5/perlbrew/perls/perl-5.15.3-th-ld/lib/site_perl/5.15.3/x86_64-linux-thread-multi-ld/Moose/Util.pm line 132
	Moose::Util::_apply_all_roles('Moose::Meta::Role=HASH(0x19fe780)', undef, 'Net::HTTP::Spore::Meta::Method::Spore') called at /home/test/perl5/perlbrew/perls/perl-5.15.3-th-ld/lib/site_perl/5.15.3/x86_64-linux-thread-multi-ld/Moose/Util.pm line 99
	Moose::Util::apply_all_roles('Moose::Meta::Role=HASH(0x19fe780)', 'Net::HTTP::Spore::Meta::Method::Spore') called at /home/test/perl5/perlbrew/perls/perl-5.15.3-th-ld/lib/site_perl/5.15.3/x86_64-linux-thread-multi-ld/Moose/Role.pm line 29
	Moose::Role::with('Moose::Meta::Role=HASH(0x19fe780)', 'Net::HTTP::Spore::Meta::Method::Spore') called at /home/test/perl5/perlbrew/perls/perl-5.15.3-th-ld/lib/site_perl/5.15.3/x86_64-linux-thread-multi-ld/Moose/Exporter.pm line 370
	Moose::Role::with('Net::HTTP::Spore::Meta::Method::Spore') called at /home/test/.cpan/build/Net-HTTP-Spore-0.04-Pfq2ff/blib/lib/Net/HTTP/Spore/Meta/Class.pm line 10
	require Net/HTTP/Spore/Meta/Class.pm called at /home/test/perl5/perlbrew/perls/perl-5.15.3-th-ld/lib/site_perl/5.15.3/Class/Load.pm line 217
	Class::Load::__ANON__() called at /home/test/perl5/perlbrew/perls/perl-5.15.3-th-ld/lib/site_perl/5.15.3/Try/Tiny.pm line 71
	eval {...} called at /home/test/perl5/perlbrew/perls/perl-5.15.3-th-ld/lib/site_perl/5.15.3/Try/Tiny.pm line 67
	Try::Tiny::try('CODE(0x19ddfb8)', 'Try::Tiny::Catch=REF(0x18704c0)') called at /home/test/perl5/perlbrew/perls/perl-5.15.3-th-ld/lib/site_perl/5.15.3/Class/Load.pm line 224
	Class::Load::try_load_class('Net::HTTP::Spore::Meta::Class', undef) called at /home/test/perl5/perlbrew/perls/perl-5.15.3-th-ld/lib/site_perl/5.15.3/Class/Load.pm line 62
	Class::Load::load_class('Net::HTTP::Spore::Meta::Class', undef) called at /home/test/perl5/perlbrew/perls/perl-5.15.3-th-ld/lib/site_perl/5.15.3/x86_64-linux-thread-multi-ld/Moose/Util.pm line 132
	Moose::Util::_apply_all_roles('Moose::Meta::Class=HASH(0x19f7f90)', undef, 'Net::HTTP::Spore::Meta::Class') called at /home/test/perl5/perlbrew/perls/perl-5.15.3-th-ld/lib/site_perl/5.15.3/x86_64-linux-thread-multi-ld/Moose/Util.pm line 99
	Moose::Util::apply_all_roles('Moose::Meta::Class=HASH(0x19f7f90)', 'Net::HTTP::Spore::Meta::Class') called at /home/test/perl5/perlbrew/perls/perl-5.15.3-th-ld/lib/site_perl/5.15.3/x86_64-linux-thread-multi-ld/Moose/Meta/Class.pm line 104
	Moose::Meta::Class::create('Moose::Meta::Class', 'Moose::Meta::Class::__ANON__::SERIAL::1', 'roles', 'ARRAY(0x18c07c0)', 'weaken', '', 'superclasses', 'ARRAY(0x19de000)') called at /home/test/perl5/perlbrew/perls/perl-5.15.3-th-ld/lib/site_perl/5.15.3/x86_64-linux-thread-multi-ld/Class/MOP/Package.pm line 120
	Class::MOP::Package::create_anon('Moose::Meta::Class', 'superclasses', 'ARRAY(0x19de000)', 'roles', 'ARRAY(0x18c07c0)', 'cache', 1) called at /home/test/perl5/perlbrew/perls/perl-5.15.3-th-ld/lib/site_perl/5.15.3/x86_64-linux-thread-multi-ld/Class/MOP/Class.pm line 474
	Class::MOP::Class::create_anon_class('Moose::Meta::Class', 'superclasses', 'ARRAY(0x19de000)', 'roles', 'ARRAY(0x18c07c0)', 'cache', 1) called at /home/test/perl5/perlbrew/perls/perl-5.15.3-th-ld/lib/site_perl/5.15.3/x86_64-linux-thread-multi-ld/Moose/Util/MetaRole.pm line 134
	Moose::Util::MetaRole::_make_new_class('Moose::Meta::Class', 'ARRAY(0x18c07c0)') called at /home/test/perl5/perlbrew/perls/perl-5.15.3-th-ld/lib/site_perl/5.15.3/x86_64-linux-thread-multi-ld/Moose/Util/MetaRole.pm line 79
	Moose::Util::MetaRole::_make_new_metaclass('Moose::Meta::Class=HASH(0x19dd700)', 'HASH(0x1888510)', 'class') called at /home/test/perl5/perlbrew/perls/perl-5.15.3-th-ld/lib/site_perl/5.15.3/x86_64-linux-thread-multi-ld/Moose/Util/MetaRole.pm line 28
	Moose::Util::MetaRole::apply_metaroles('for', 'Net::HTTP::Spore::Core', 'class_metaroles', 'HASH(0x1888510)') called at /home/test/.cpan/build/Net-HTTP-Spore-0.04-Pfq2ff/blib/lib/Net/HTTP/Spore/Meta.pm line 28
	Net::HTTP::Spore::Meta::init_meta('Net::HTTP::Spore::Meta', 'for_class', 'MooseX::Types::URI', 'metaclass', undef, 'meta_name', 'meta') called at /home/test/perl5/perlbrew/perls/perl-5.15.3-th-ld/lib/site_perl/5.15.3/x86_64-linux-thread-multi-ld/Moose/Exporter.pm line 435
	Moose::Exporter::__ANON__('Net::HTTP::Spore::Meta') called at /home/test/.cpan/build/Net-HTTP-Spore-0.04-Pfq2ff/blib/lib/Net/HTTP/Spore/Core.pm line 6
	Net::HTTP::Spore::Core::BEGIN() called at /home/test/perl5/perlbrew/perls/perl-5.15.3-th-ld/lib/site_perl/5.15.3/MooseX/Types/URI.pm line 0
	eval {...} called at /home/test/perl5/perlbrew/perls/perl-5.15.3-th-ld/lib/site_perl/5.15.3/MooseX/Types/URI.pm line 0
	require Net/HTTP/Spore/Core.pm called at /home/test/.cpan/build/Net-HTTP-Spore-0.04-Pfq2ff/blib/lib/Net/HTTP/Spore.pm line 13
	Net::HTTP::Spore::BEGIN() called at /home/test/perl5/perlbrew/perls/perl-5.15.3-th-ld/lib/site_perl/5.15.3/MooseX/Types/URI.pm line 0
	eval {...} called at /home/test/perl5/perlbrew/perls/perl-5.15.3-th-ld/lib/site_perl/5.15.3/MooseX/Types/URI.pm line 0
	require Net/HTTP/Spore.pm called at t/spore-middleware/auth-basic.t line 8
	main::BEGIN() called at /home/test/perl5/perlbrew/perls/perl-5.15.3-th-ld/lib/site_perl/5.15.3/MooseX/Types/URI.pm line 0
	eval {...} called at /home/test/perl5/perlbrew/perls/perl-5.15.3-th-ld/lib/site_perl/5.15.3/MooseX/Types/URI.pm line 0
t/spore-middleware/auth-basic.t ...... ok
Providing an optimized subroutine ref for type constraints is deprecated. Use the inlining feature (inline_as) instead. at /home/test/.cpan/build/Net-HTTP-Spore-0.04-Pfq2ff/blib/lib/Net/HTTP/Spore/Meta/Method.pm line 13
	Net::HTTP::Spore::Meta::Method::BEGIN() called at /home/test/perl5/perlbrew/perls/perl-5.15.3-th-ld/lib/site_perl/5.15.3/MooseX/Types/URI.pm line 0
	eval {...} called at /home/test/perl5/perlbrew/perls/perl-5.15.3-th-ld/lib/site_perl/5.15.3/MooseX/Types/URI.pm line 0
	require Net/HTTP/Spore/Meta/Method.pm called at /home/test/.cpan/build/Net-HTTP-Spore-0.04-Pfq2ff/blib/lib/Net/HTTP/Spore/Meta/Method/Spore.pm line 11
	Net::HTTP::Spore::Meta::Method::Spore::BEGIN() called at /home/test/perl5/perlbrew/perls/perl-5.15.3-th-ld/lib/site_perl/5.15.3/MooseX/Types/URI.pm line 0
	eval {...} called at /home/test/perl5/perlbrew/perls/perl-5.15.3-th-ld/lib/site_perl/5.15.3/MooseX/Types/URI.pm line 0
	require Net/HTTP/Spore/Meta/Method/Spore.pm called at /home/test/perl5/perlbrew/perls/perl-5.15.3-th-ld/lib/site_perl/5.15.3/Class/Load.pm line 217
	Class::Load::__ANON__() called at /home/test/perl5/perlbrew/perls/perl-5.15.3-th-ld/lib/site_perl/5.15.3/Try/Tiny.pm line 71
	eval {...} called at /home/test/perl5/perlbrew/perls/perl-5.15.3-th-ld/lib/site_perl/5.15.3/Try/Tiny.pm line 67
	Try::Tiny::try('CODE(0x2f5b3d8)', 'Try::Tiny::Catch=REF(0x2f0e0c0)') called at /home/test/perl5/perlbrew/perls/perl-5.15.3-th-ld/lib/site_perl/5.15.3/Class/Load.pm line 224
	Class::Load::try_load_class('Net::HTTP::Spore::Meta::Method::Spore', undef) called at /home/test/perl5/perlbrew/perls/perl-5.15.3-th-ld/lib/site_perl/5.15.3/Class/Load.pm line 62
	Class::Load::load_class('Net::HTTP::Spore::Meta::Method::Spore', undef) called at /home/test/perl5/perlbrew/perls/perl-5.15.3-th-ld/lib/site_perl/5.15.3/x86_64-linux-thread-multi-ld/Moose/Util.pm line 132
	Moose::Util::_apply_all_roles('Moose::Meta::Role=HASH(0x2f19130)', undef, 'Net::HTTP::Spore::Meta::Method::Spore') called at /home/test/perl5/perlbrew/perls/perl-5.15.3-th-ld/lib/site_perl/5.15.3/x86_64-linux-thread-multi-ld/Moose/Util.pm line 99
	Moose::Util::apply_all_roles('Moose::Meta::Role=HASH(0x2f19130)', 'Net::HTTP::Spore::Meta::Method::Spore') called at /home/test/perl5/perlbrew/perls/perl-5.15.3-th-ld/lib/site_perl/5.15.3/x86_64-linux-thread-multi-ld/Moose/Role.pm line 29
	Moose::Role::with('Moose::Meta::Role=HASH(0x2f19130)', 'Net::HTTP::Spore::Meta::Method::Spore') called at /home/test/perl5/perlbrew/perls/perl-5.15.3-th-ld/lib/site_perl/5.15.3/x86_64-linux-thread-multi-ld/Moose/Exporter.pm line 370
	Moose::Role::with('Net::HTTP::Spore::Meta::Method::Spore') called at /home/test/.cpan/build/Net-HTTP-Spore-0.04-Pfq2ff/blib/lib/Net/HTTP/Spore/Meta/Class.pm line 10
	require Net/HTTP/Spore/Meta/Class.pm called at /home/test/perl5/perlbrew/perls/perl-5.15.3-th-ld/lib/site_perl/5.15.3/Class/Load.pm line 217
	Class::Load::__ANON__() called at /home/test/perl5/perlbrew/perls/perl-5.15.3-th-ld/lib/site_perl/5.15.3/Try/Tiny.pm line 71
	eval {...} called at /home/test/perl5/perlbrew/perls/perl-5.15.3-th-ld/lib/site_perl/5.15.3/Try/Tiny.pm line 67
	Try::Tiny::try('CODE(0x2f0d778)', 'Try::Tiny::Catch=REF(0x2d86c60)') called at /home/test/perl5/perlbrew/perls/perl-5.15.3-th-ld/lib/site_perl/5.15.3/Class/Load.pm line 224
	Class::Load::try_load_class('Net::HTTP::Spore::Meta::Class', undef) called at /home/test/perl5/perlbrew/perls/perl-5.15.3-th-ld/lib/site_perl/5.15.3/Class/Load.pm line 62
	Class::Load::load_class('Net::HTTP::Spore::Meta::Class', undef) called at /home/test/perl5/perlbrew/perls/perl-5.15.3-th-ld/lib/site_perl/5.15.3/x86_64-linux-thread-multi-ld/Moose/Util.pm line 132
	Moose::Util::_apply_all_roles('Moose::Meta::Class=HASH(0x2f0dc88)', undef, 'Net::HTTP::Spore::Meta::Class') called at /home/test/perl5/perlbrew/perls/perl-5.15.3-th-ld/lib/site_perl/5.15.3/x86_64-linux-thread-multi-ld/Moose/Util.pm line 99
	Moose::Util::apply_all_roles('Moose::Meta::Class=HASH(0x2f0dc88)', 'Net::HTTP::Spore::Meta::Class') called at /home/test/perl5/perlbrew/perls/perl-5.15.3-th-ld/lib/site_perl/5.15.3/x86_64-linux-thread-multi-ld/Moose/Meta/Class.pm line 104
	Moose::Meta::Class::create('Moose::Meta::Class', 'Moose::Meta::Class::__ANON__::SERIAL::1', 'roles', 'ARRAY(0x2dcf350)', 'weaken', '', 'superclasses', 'ARRAY(0x2f0d7c0)') called at /home/test/perl5/perlbrew/perls/perl-5.15.3-th-ld/lib/site_perl/5.15.3/x86_64-linux-thread-multi-ld/Class/MOP/Package.pm line 120
	Class::MOP::Package::create_anon('Moose::Meta::Class', 'superclasses', 'ARRAY(0x2f0d7c0)', 'roles', 'ARRAY(0x2dcf350)', 'cache', 1) called at /home/test/perl5/perlbrew/perls/perl-5.15.3-th-ld/lib/site_perl/5.15.3/x86_64-linux-thread-multi-ld/Class/MOP/Class.pm line 474
	Class::MOP::Class::create_anon_class('Moose::Meta::Class', 'superclasses', 'ARRAY(0x2f0d7c0)', 'roles', 'ARRAY(0x2dcf350)', 'cache', 1) called at /home/test/perl5/perlbrew/perls/perl-5.15.3-th-ld/lib/site_perl/5.15.3/x86_64-linux-thread-multi-ld/Moose/Util/MetaRole.pm line 134
	Moose::Util::MetaRole::_make_new_class('Moose::Meta::Class', 'ARRAY(0x2dcf350)') called at /home/test/perl5/perlbrew/perls/perl-5.15.3-th-ld/lib/site_perl/5.15.3/x86_64-linux-thread-multi-ld/Moose/Util/MetaRole.pm line 79
	Moose::Util::MetaRole::_make_new_metaclass('Moose::Meta::Class=HASH(0x2f051d8)', 'HASH(0x2dd5910)', 'class') called at /home/test/perl5/perlbrew/perls/perl-5.15.3-th-ld/lib/site_perl/5.15.3/x86_64-linux-thread-multi-ld/Moose/Util/MetaRole.pm line 28
	Moose::Util::MetaRole::apply_metaroles('for', 'Net::HTTP::Spore::Core', 'class_metaroles', 'HASH(0x2dd5910)') called at /home/test/.cpan/build/Net-HTTP-Spore-0.04-Pfq2ff/blib/lib/Net/HTTP/Spore/Meta.pm line 28
	Net::HTTP::Spore::Meta::init_meta('Net::HTTP::Spore::Meta', 'for_class', 'MooseX::Types::URI', 'metaclass', undef, 'meta_name', 'meta') called at /home/test/perl5/perlbrew/perls/perl-5.15.3-th-ld/lib/site_perl/5.15.3/x86_64-linux-thread-multi-ld/Moose/Exporter.pm line 435
	Moose::Exporter::__ANON__('Net::HTTP::Spore::Meta') called at /home/test/.cpan/build/Net-HTTP-Spore-0.04-Pfq2ff/blib/lib/Net/HTTP/Spore/Core.pm line 6
	Net::HTTP::Spore::Core::BEGIN() called at /home/test/perl5/perlbrew/perls/perl-5.15.3-th-ld/lib/site_perl/5.15.3/MooseX/Types/URI.pm line 0
	eval {...} called at /home/test/perl5/perlbrew/perls/perl-5.15.3-th-ld/lib/site_perl/5.15.3/MooseX/Types/URI.pm line 0
	require Net/HTTP/Spore/Core.pm called at /home/test/.cpan/build/Net-HTTP-Spore-0.04-Pfq2ff/blib/lib/Net/HTTP/Spore.pm line 13
	Net::HTTP::Spore::BEGIN() called at /home/test/perl5/perlbrew/perls/perl-5.15.3-th-ld/lib/site_perl/5.15.3/MooseX/Types/URI.pm line 0
	eval {...} called at /home/test/perl5/perlbrew/perls/perl-5.15.3-th-ld/lib/site_perl/5.15.3/MooseX/Types/URI.pm line 0
	require Net/HTTP/Spore.pm called at t/spore-middleware/auth-header.t line 6
	main::BEGIN() called at /home/test/perl5/perlbrew/perls/perl-5.15.3-th-ld/lib/site_perl/5.15.3/MooseX/Types/URI.pm line 0
	eval {...} called at /home/test/perl5/perlbrew/perls/perl-5.15.3-th-ld/lib/site_perl/5.15.3/MooseX/Types/URI.pm line 0
t/spore-middleware/auth-header.t ..... ok
Providing an optimized subroutine ref for type constraints is deprecated. Use the inlining feature (inline_as) instead. at /home/test/.cpan/build/Net-HTTP-Spore-0.04-Pfq2ff/blib/lib/Net/HTTP/Spore/Meta/Method.pm line 13
	Net::HTTP::Spore::Meta::Method::BEGIN() called at /home/test/perl5/perlbrew/perls/perl-5.15.3-th-ld/lib/site_perl/5.15.3/MooseX/Types/URI.pm line 0
	eval {...} called at /home/test/perl5/perlbrew/perls/perl-5.15.3-th-ld/lib/site_perl/5.15.3/MooseX/Types/URI.pm line 0
	require Net/HTTP/Spore/Meta/Method.pm called at /home/test/.cpan/build/Net-HTTP-Spore-0.04-Pfq2ff/blib/lib/Net/HTTP/Spore/Meta/Method/Spore.pm line 11
	Net::HTTP::Spore::Meta::Method::Spore::BEGIN() called at /home/test/perl5/perlbrew/perls/perl-5.15.3-th-ld/lib/site_perl/5.15.3/MooseX/Types/URI.pm line 0
	eval {...} called at /home/test/perl5/perlbrew/perls/perl-5.15.3-th-ld/lib/site_perl/5.15.3/MooseX/Types/URI.pm line 0
	require Net/HTTP/Spore/Meta/Method/Spore.pm called at /home/test/perl5/perlbrew/perls/perl-5.15.3-th-ld/lib/site_perl/5.15.3/Class/Load.pm line 217
	Class::Load::__ANON__() called at /home/test/perl5/perlbrew/perls/perl-5.15.3-th-ld/lib/site_perl/5.15.3/Try/Tiny.pm line 71
	eval {...} called at /home/test/perl5/perlbrew/perls/perl-5.15.3-th-ld/lib/site_perl/5.15.3/Try/Tiny.pm line 67
	Try::Tiny::try('CODE(0x2d68068)', 'Try::Tiny::Catch=REF(0x2d1cee0)') called at /home/test/perl5/perlbrew/perls/perl-5.15.3-th-ld/lib/site_perl/5.15.3/Class/Load.pm line 224
	Class::Load::try_load_class('Net::HTTP::Spore::Meta::Method::Spore', undef) called at /home/test/perl5/perlbrew/perls/perl-5.15.3-th-ld/lib/site_perl/5.15.3/Class/Load.pm line 62
	Class::Load::load_class('Net::HTTP::Spore::Meta::Method::Spore', undef) called at /home/test/perl5/perlbrew/perls/perl-5.15.3-th-ld/lib/site_perl/5.15.3/x86_64-linux-thread-multi-ld/Moose/Util.pm line 132
	Moose::Util::_apply_all_roles('Moose::Meta::Role=HASH(0x2d224b8)', undef, 'Net::HTTP::Spore::Meta::Method::Spore') called at /home/test/perl5/perlbrew/perls/perl-5.15.3-th-ld/lib/site_perl/5.15.3/x86_64-linux-thread-multi-ld/Moose/Util.pm line 99
	Moose::Util::apply_all_roles('Moose::Meta::Role=HASH(0x2d224b8)', 'Net::HTTP::Spore::Meta::Method::Spore') called at /home/test/perl5/perlbrew/perls/perl-5.15.3-th-ld/lib/site_perl/5.15.3/x86_64-linux-thread-multi-ld/Moose/Role.pm line 29
	Moose::Role::with('Moose::Meta::Role=HASH(0x2d224b8)', 'Net::HTTP::Spore::Meta::Method::Spore') called at /home/test/perl5/perlbrew/perls/perl-5.15.3-th-ld/lib/site_perl/5.15.3/x86_64-linux-thread-multi-ld/Moose/Exporter.pm line 370
	Moose::Role::with('Net::HTTP::Spore::Meta::Method::Spore') called at /home/test/.cpan/build/Net-HTTP-Spore-0.04-Pfq2ff/blib/lib/Net/HTTP/Spore/Meta/Class.pm line 10
	require Net/HTTP/Spore/Meta/Class.pm called at /home/test/perl5/perlbrew/perls/perl-5.15.3-th-ld/lib/site_perl/5.15.3/Class/Load.pm line 217
	Class::Load::__ANON__() called at /home/test/perl5/perlbrew/perls/perl-5.15.3-th-ld/lib/site_perl/5.15.3/Try/Tiny.pm line 71
	eval {...} called at /home/test/perl5/perlbrew/perls/perl-5.15.3-th-ld/lib/site_perl/5.15.3/Try/Tiny.pm line 67
	Try::Tiny::try('CODE(0x2d00f80)', 'Try::Tiny::Catch=REF(0x2b97ea0)') called at /home/test/perl5/perlbrew/perls/perl-5.15.3-th-ld/lib/site_perl/5.15.3/Class/Load.pm line 224
	Class::Load::try_load_class('Net::HTTP::Spore::Meta::Class', undef) called at /home/test/perl5/perlbrew/perls/perl-5.15.3-th-ld/lib/site_perl/5.15.3/Class/Load.pm line 62
	Class::Load::load_class('Net::HTTP::Spore::Meta::Class', undef) called at /home/test/perl5/perlbrew/perls/perl-5.15.3-th-ld/lib/site_perl/5.15.3/x86_64-linux-thread-multi-ld/Moose/Util.pm line 132
	Moose::Util::_apply_all_roles('Moose::Meta::Class=HASH(0x2d01490)', undef, 'Net::HTTP::Spore::Meta::Class') called at /home/test/perl5/perlbrew/perls/perl-5.15.3-th-ld/lib/site_perl/5.15.3/x86_64-linux-thread-multi-ld/Moose/Util.pm line 99
	Moose::Util::apply_all_roles('Moose::Meta::Class=HASH(0x2d01490)', 'Net::HTTP::Spore::Meta::Class') called at /home/test/perl5/perlbrew/perls/perl-5.15.3-th-ld/lib/site_perl/5.15.3/x86_64-linux-thread-multi-ld/Moose/Meta/Class.pm line 104
	Moose::Meta::Class::create('Moose::Meta::Class', 'Moose::Meta::Class::__ANON__::SERIAL::1', 'roles', 'ARRAY(0x2bd7e88)', 'weaken', '', 'superclasses', 'ARRAY(0x2d00fc8)') called at /home/test/perl5/perlbrew/perls/perl-5.15.3-th-ld/lib/site_perl/5.15.3/x86_64-linux-thread-multi-ld/Class/MOP/Package.pm line 120
	Class::MOP::Package::create_anon('Moose::Meta::Class', 'superclasses', 'ARRAY(0x2d00fc8)', 'roles', 'ARRAY(0x2bd7e88)', 'cache', 1) called at /home/test/perl5/perlbrew/perls/perl-5.15.3-th-ld/lib/site_perl/5.15.3/x86_64-linux-thread-multi-ld/Class/MOP/Class.pm line 474
	Class::MOP::Class::create_anon_class('Moose::Meta::Class', 'superclasses', 'ARRAY(0x2d00fc8)', 'roles', 'ARRAY(0x2bd7e88)', 'cache', 1) called at /home/test/perl5/perlbrew/perls/perl-5.15.3-th-ld/lib/site_perl/5.15.3/x86_64-linux-thread-multi-ld/Moose/Util/MetaRole.pm line 134
	Moose::Util::MetaRole::_make_new_class('Moose::Meta::Class', 'ARRAY(0x2bd7e88)') called at /home/test/perl5/perlbrew/perls/perl-5.15.3-th-ld/lib/site_perl/5.15.3/x86_64-linux-thread-multi-ld/Moose/Util/MetaRole.pm line 79
	Moose::Util::MetaRole::_make_new_metaclass('Moose::Meta::Class=HASH(0x2d006c8)', 'HASH(0x2c0d2d8)', 'class') called at /home/test/perl5/perlbrew/perls/perl-5.15.3-th-ld/lib/site_perl/5.15.3/x86_64-linux-thread-multi-ld/Moose/Util/MetaRole.pm line 28
	Moose::Util::MetaRole::apply_metaroles('for', 'Net::HTTP::Spore::Core', 'class_metaroles', 'HASH(0x2c0d2d8)') called at /home/test/.cpan/build/Net-HTTP-Spore-0.04-Pfq2ff/blib/lib/Net/HTTP/Spore/Meta.pm line 28
	Net::HTTP::Spore::Meta::init_meta('Net::HTTP::Spore::Meta', 'for_class', 'MooseX::Types::URI', 'metaclass', undef, 'meta_name', 'meta') called at /home/test/perl5/perlbrew/perls/perl-5.15.3-th-ld/lib/site_perl/5.15.3/x86_64-linux-thread-multi-ld/Moose/Exporter.pm line 435
	Moose::Exporter::__ANON__('Net::HTTP::Spore::Meta') called at /home/test/.cpan/build/Net-HTTP-Spore-0.04-Pfq2ff/blib/lib/Net/HTTP/Spore/Core.pm line 6
	Net::HTTP::Spore::Core::BEGIN() called at /home/test/perl5/perlbrew/perls/perl-5.15.3-th-ld/lib/site_perl/5.15.3/MooseX/Types/URI.pm line 0
	eval {...} called at /home/test/perl5/perlbrew/perls/perl-5.15.3-th-ld/lib/site_perl/5.15.3/MooseX/Types/URI.pm line 0
	require Net/HTTP/Spore/Core.pm called at /home/test/.cpan/build/Net-HTTP-Spore-0.04-Pfq2ff/blib/lib/Net/HTTP/Spore.pm line 13
	Net::HTTP::Spore::BEGIN() called at /home/test/perl5/perlbrew/perls/perl-5.15.3-th-ld/lib/site_perl/5.15.3/MooseX/Types/URI.pm line 0
	eval {...} called at /home/test/perl5/perlbrew/perls/perl-5.15.3-th-ld/lib/site_perl/5.15.3/MooseX/Types/URI.pm line 0
	require Net/HTTP/Spore.pm called at t/spore-middleware/auth-oauth.t line 6
	main::BEGIN() called at /home/test/perl5/perlbrew/perls/perl-5.15.3-th-ld/lib/site_perl/5.15.3/MooseX/Types/URI.pm line 0
	eval {...} called at /home/test/perl5/perlbrew/perls/perl-5.15.3-th-ld/lib/site_perl/5.15.3/MooseX/Types/URI.pm line 0
t/spore-middleware/auth-oauth.t ...... ok
Providing an optimized subroutine ref for type constraints is deprecated. Use the inlining feature (inline_as) instead. at /home/test/.cpan/build/Net-HTTP-Spore-0.04-Pfq2ff/blib/lib/Net/HTTP/Spore/Meta/Method.pm line 13
	Net::HTTP::Spore::Meta::Method::BEGIN() called at /home/test/perl5/perlbrew/perls/perl-5.15.3-th-ld/lib/site_perl/5.15.3/MooseX/Types/URI.pm line 0
	eval {...} called at /home/test/perl5/perlbrew/perls/perl-5.15.3-th-ld/lib/site_perl/5.15.3/MooseX/Types/URI.pm line 0
	require Net/HTTP/Spore/Meta/Method.pm called at /home/test/.cpan/build/Net-HTTP-Spore-0.04-Pfq2ff/blib/lib/Net/HTTP/Spore/Meta/Method/Spore.pm line 11
	Net::HTTP::Spore::Meta::Method::Spore::BEGIN() called at /home/test/perl5/perlbrew/perls/perl-5.15.3-th-ld/lib/site_perl/5.15.3/MooseX/Types/URI.pm line 0
	eval {...} called at /home/test/perl5/perlbrew/perls/perl-5.15.3-th-ld/lib/site_perl/5.15.3/MooseX/Types/URI.pm line 0
	require Net/HTTP/Spore/Meta/Method/Spore.pm called at /home/test/perl5/perlbrew/perls/perl-5.15.3-th-ld/lib/site_perl/5.15.3/Class/Load.pm line 217
	Class::Load::__ANON__() called at /home/test/perl5/perlbrew/perls/perl-5.15.3-th-ld/lib/site_perl/5.15.3/Try/Tiny.pm line 71
	eval {...} called at /home/test/perl5/perlbrew/perls/perl-5.15.3-th-ld/lib/site_perl/5.15.3/Try/Tiny.pm line 67
	Try::Tiny::try('CODE(0x3035480)', 'Try::Tiny::Catch=REF(0x3009068)') called at /home/test/perl5/perlbrew/perls/perl-5.15.3-th-ld/lib/site_perl/5.15.3/Class/Load.pm line 224
	Class::Load::try_load_class('Net::HTTP::Spore::Meta::Method::Spore', undef) called at /home/test/perl5/perlbrew/perls/perl-5.15.3-th-ld/lib/site_perl/5.15.3/Class/Load.pm line 62
	Class::Load::load_class('Net::HTTP::Spore::Meta::Method::Spore', undef) called at /home/test/perl5/perlbrew/perls/perl-5.15.3-th-ld/lib/site_perl/5.15.3/x86_64-linux-thread-multi-ld/Moose/Util.pm line 132
	Moose::Util::_apply_all_roles('Moose::Meta::Role=HASH(0x301d3d8)', undef, 'Net::HTTP::Spore::Meta::Method::Spore') called at /home/test/perl5/perlbrew/perls/perl-5.15.3-th-ld/lib/site_perl/5.15.3/x86_64-linux-thread-multi-ld/Moose/Util.pm line 99
	Moose::Util::apply_all_roles('Moose::Meta::Role=HASH(0x301d3d8)', 'Net::HTTP::Spore::Meta::Method::Spore') called at /home/test/perl5/perlbrew/perls/perl-5.15.3-th-ld/lib/site_perl/5.15.3/x86_64-linux-thread-multi-ld/Moose/Role.pm line 29
	Moose::Role::with('Moose::Meta::Role=HASH(0x301d3d8)', 'Net::HTTP::Spore::Meta::Method::Spore') called at /home/test/perl5/perlbrew/perls/perl-5.15.3-th-ld/lib/site_perl/5.15.3/x86_64-linux-thread-multi-ld/Moose/Exporter.pm line 370
	Moose::Role::with('Net::HTTP::Spore::Meta::Method::Spore') called at /home/test/.cpan/build/Net-HTTP-Spore-0.04-Pfq2ff/blib/lib/Net/HTTP/Spore/Meta/Class.pm line 10
	require Net/HTTP/Spore/Meta/Class.pm called at /home/test/perl5/perlbrew/perls/perl-5.15.3-th-ld/lib/site_perl/5.15.3/Class/Load.pm line 217
	Class::Load::__ANON__() called at /home/test/perl5/perlbrew/perls/perl-5.15.3-th-ld/lib/site_perl/5.15.3/Try/Tiny.pm line 71
	eval {...} called at /home/test/perl5/perlbrew/perls/perl-5.15.3-th-ld/lib/site_perl/5.15.3/Try/Tiny.pm line 67
	Try::Tiny::try('CODE(0x3008720)', 'Try::Tiny::Catch=REF(0x2ef23e0)') called at /home/test/perl5/perlbrew/perls/perl-5.15.3-th-ld/lib/site_perl/5.15.3/Class/Load.pm line 224
	Class::Load::try_load_class('Net::HTTP::Spore::Meta::Class', undef) called at /home/test/perl5/perlbrew/perls/perl-5.15.3-th-ld/lib/site_perl/5.15.3/Class/Load.pm line 62
	Class::Load::load_class('Net::HTTP::Spore::Meta::Class', undef) called at /home/test/perl5/perlbrew/perls/perl-5.15.3-th-ld/lib/site_perl/5.15.3/x86_64-linux-thread-multi-ld/Moose/Util.pm line 132
	Moose::Util::_apply_all_roles('Moose::Meta::Class=HASH(0x3008c30)', undef, 'Net::HTTP::Spore::Meta::Class') called at /home/test/perl5/perlbrew/perls/perl-5.15.3-th-ld/lib/site_perl/5.15.3/x86_64-linux-thread-multi-ld/Moose/Util.pm line 99
	Moose::Util::apply_all_roles('Moose::Meta::Class=HASH(0x3008c30)', 'Net::HTTP::Spore::Meta::Class') called at /home/test/perl5/perlbrew/perls/perl-5.15.3-th-ld/lib/site_perl/5.15.3/x86_64-linux-thread-multi-ld/Moose/Meta/Class.pm line 104
	Moose::Meta::Class::create('Moose::Meta::Class', 'Moose::Meta::Class::__ANON__::SERIAL::1', 'roles', 'ARRAY(0x2f0d4d0)', 'weaken', '', 'superclasses', 'ARRAY(0x3008768)') called at /home/test/perl5/perlbrew/perls/perl-5.15.3-th-ld/lib/site_perl/5.15.3/x86_64-linux-thread-multi-ld/Class/MOP/Package.pm line 120
	Class::MOP::Package::create_anon('Moose::Meta::Class', 'superclasses', 'ARRAY(0x3008768)', 'roles', 'ARRAY(0x2f0d4d0)', 'cache', 1) called at /home/test/perl5/perlbrew/perls/perl-5.15.3-th-ld/lib/site_perl/5.15.3/x86_64-linux-thread-multi-ld/Class/MOP/Class.pm line 474
	Class::MOP::Class::create_anon_class('Moose::Meta::Class', 'superclasses', 'ARRAY(0x3008768)', 'roles', 'ARRAY(0x2f0d4d0)', 'cache', 1) called at /home/test/perl5/perlbrew/perls/perl-5.15.3-th-ld/lib/site_perl/5.15.3/x86_64-linux-thread-multi-ld/Moose/Util/MetaRole.pm line 134
	Moose::Util::MetaRole::_make_new_class('Moose::Meta::Class', 'ARRAY(0x2f0d4d0)') called at /home/test/perl5/perlbrew/perls/perl-5.15.3-th-ld/lib/site_perl/5.15.3/x86_64-linux-thread-multi-ld/Moose/Util/MetaRole.pm line 79
	Moose::Util::MetaRole::_make_new_metaclass('Moose::Meta::Class=HASH(0x3006a70)', 'HASH(0x2f0d3f8)', 'class') called at /home/test/perl5/perlbrew/perls/perl-5.15.3-th-ld/lib/site_perl/5.15.3/x86_64-linux-thread-multi-ld/Moose/Util/MetaRole.pm line 28
	Moose::Util::MetaRole::apply_metaroles('for', 'Net::HTTP::Spore::Core', 'class_metaroles', 'HASH(0x2f0d3f8)') called at /home/test/.cpan/build/Net-HTTP-Spore-0.04-Pfq2ff/blib/lib/Net/HTTP/Spore/Meta.pm line 28
	Net::HTTP::Spore::Meta::init_meta('Net::HTTP::Spore::Meta', 'for_class', 'MooseX::Types::URI', 'metaclass', undef, 'meta_name', 'meta') called at /home/test/perl5/perlbrew/perls/perl-5.15.3-th-ld/lib/site_perl/5.15.3/x86_64-linux-thread-multi-ld/Moose/Exporter.pm line 435
	Moose::Exporter::__ANON__('Net::HTTP::Spore::Meta') called at /home/test/.cpan/build/Net-HTTP-Spore-0.04-Pfq2ff/blib/lib/Net/HTTP/Spore/Core.pm line 6
	Net::HTTP::Spore::Core::BEGIN() called at /home/test/perl5/perlbrew/perls/perl-5.15.3-th-ld/lib/site_perl/5.15.3/MooseX/Types/URI.pm line 0
	eval {...} called at /home/test/perl5/perlbrew/perls/perl-5.15.3-th-ld/lib/site_perl/5.15.3/MooseX/Types/URI.pm line 0
	require Net/HTTP/Spore/Core.pm called at /home/test/.cpan/build/Net-HTTP-Spore-0.04-Pfq2ff/blib/lib/Net/HTTP/Spore.pm line 13
	Net::HTTP::Spore::BEGIN() called at /home/test/perl5/perlbrew/perls/perl-5.15.3-th-ld/lib/site_perl/5.15.3/MooseX/Types/URI.pm line 0
	eval {...} called at /home/test/perl5/perlbrew/perls/perl-5.15.3-th-ld/lib/site_perl/5.15.3/MooseX/Types/URI.pm line 0
	require Net/HTTP/Spore.pm called at t/spore-middleware/format-auto.t line 9
	main::BEGIN() called at /home/test/perl5/perlbrew/perls/perl-5.15.3-th-ld/lib/site_perl/5.15.3/MooseX/Types/URI.pm line 0
	eval {...} called at /home/test/perl5/perlbrew/perls/perl-5.15.3-th-ld/lib/site_perl/5.15.3/MooseX/Types/URI.pm line 0
t/spore-middleware/format-auto.t ..... ok
Providing an optimized subroutine ref for type constraints is deprecated. Use the inlining feature (inline_as) instead. at /home/test/.cpan/build/Net-HTTP-Spore-0.04-Pfq2ff/blib/lib/Net/HTTP/Spore/Meta/Method.pm line 13
	Net::HTTP::Spore::Meta::Method::BEGIN() called at /home/test/perl5/perlbrew/perls/perl-5.15.3-th-ld/lib/site_perl/5.15.3/MooseX/Types/URI.pm line 0
	eval {...} called at /home/test/perl5/perlbrew/perls/perl-5.15.3-th-ld/lib/site_perl/5.15.3/MooseX/Types/URI.pm line 0
	require Net/HTTP/Spore/Meta/Method.pm called at /home/test/.cpan/build/Net-HTTP-Spore-0.04-Pfq2ff/blib/lib/Net/HTTP/Spore/Meta/Method/Spore.pm line 11
	Net::HTTP::Spore::Meta::Method::Spore::BEGIN() called at /home/test/perl5/perlbrew/perls/perl-5.15.3-th-ld/lib/site_perl/5.15.3/MooseX/Types/URI.pm line 0
	eval {...} called at /home/test/perl5/perlbrew/perls/perl-5.15.3-th-ld/lib/site_perl/5.15.3/MooseX/Types/URI.pm line 0
	require Net/HTTP/Spore/Meta/Method/Spore.pm called at /home/test/perl5/perlbrew/perls/perl-5.15.3-th-ld/lib/site_perl/5.15.3/Class/Load.pm line 217
	Class::Load::__ANON__() called at /home/test/perl5/perlbrew/perls/perl-5.15.3-th-ld/lib/site_perl/5.15.3/Try/Tiny.pm line 71
	eval {...} called at /home/test/perl5/perlbrew/perls/perl-5.15.3-th-ld/lib/site_perl/5.15.3/Try/Tiny.pm line 67
	Try::Tiny::try('CODE(0x233f238)', 'Try::Tiny::Catch=REF(0x2312e80)') called at /home/test/perl5/perlbrew/perls/perl-5.15.3-th-ld/lib/site_perl/5.15.3/Class/Load.pm line 224
	Class::Load::try_load_class('Net::HTTP::Spore::Meta::Method::Spore', undef) called at /home/test/perl5/perlbrew/perls/perl-5.15.3-th-ld/lib/site_perl/5.15.3/Class/Load.pm line 62
	Class::Load::load_class('Net::HTTP::Spore::Meta::Method::Spore', undef) called at /home/test/perl5/perlbrew/perls/perl-5.15.3-th-ld/lib/site_perl/5.15.3/x86_64-linux-thread-multi-ld/Moose/Util.pm line 132
	Moose::Util::_apply_all_roles('Moose::Meta::Role=HASH(0x2327190)', undef, 'Net::HTTP::Spore::Meta::Method::Spore') called at /home/test/perl5/perlbrew/perls/perl-5.15.3-th-ld/lib/site_perl/5.15.3/x86_64-linux-thread-multi-ld/Moose/Util.pm line 99
	Moose::Util::apply_all_roles('Moose::Meta::Role=HASH(0x2327190)', 'Net::HTTP::Spore::Meta::Method::Spore') called at /home/test/perl5/perlbrew/perls/perl-5.15.3-th-ld/lib/site_perl/5.15.3/x86_64-linux-thread-multi-ld/Moose/Role.pm line 29
	Moose::Role::with('Moose::Meta::Role=HASH(0x2327190)', 'Net::HTTP::Spore::Meta::Method::Spore') called at /home/test/perl5/perlbrew/perls/perl-5.15.3-th-ld/lib/site_perl/5.15.3/x86_64-linux-thread-multi-ld/Moose/Exporter.pm line 370
	Moose::Role::with('Net::HTTP::Spore::Meta::Method::Spore') called at /home/test/.cpan/build/Net-HTTP-Spore-0.04-Pfq2ff/blib/lib/Net/HTTP/Spore/Meta/Class.pm line 10
	require Net/HTTP/Spore/Meta/Class.pm called at /home/test/perl5/perlbrew/perls/perl-5.15.3-th-ld/lib/site_perl/5.15.3/Class/Load.pm line 217
	Class::Load::__ANON__() called at /home/test/perl5/perlbrew/perls/perl-5.15.3-th-ld/lib/site_perl/5.15.3/Try/Tiny.pm line 71
	eval {...} called at /home/test/perl5/perlbrew/perls/perl-5.15.3-th-ld/lib/site_perl/5.15.3/Try/Tiny.pm line 67
	Try::Tiny::try('CODE(0x2312538)', 'Try::Tiny::Catch=REF(0x21fc1d8)') called at /home/test/perl5/perlbrew/perls/perl-5.15.3-th-ld/lib/site_perl/5.15.3/Class/Load.pm line 224
	Class::Load::try_load_class('Net::HTTP::Spore::Meta::Class', undef) called at /home/test/perl5/perlbrew/perls/perl-5.15.3-th-ld/lib/site_perl/5.15.3/Class/Load.pm line 62
	Class::Load::load_class('Net::HTTP::Spore::Meta::Class', undef) called at /home/test/perl5/perlbrew/perls/perl-5.15.3-th-ld/lib/site_perl/5.15.3/x86_64-linux-thread-multi-ld/Moose/Util.pm line 132
	Moose::Util::_apply_all_roles('Moose::Meta::Class=HASH(0x2312a48)', undef, 'Net::HTTP::Spore::Meta::Class') called at /home/test/perl5/perlbrew/perls/perl-5.15.3-th-ld/lib/site_perl/5.15.3/x86_64-linux-thread-multi-ld/Moose/Util.pm line 99
	Moose::Util::apply_all_roles('Moose::Meta::Class=HASH(0x2312a48)', 'Net::HTTP::Spore::Meta::Class') called at /home/test/perl5/perlbrew/perls/perl-5.15.3-th-ld/lib/site_perl/5.15.3/x86_64-linux-thread-multi-ld/Moose/Meta/Class.pm line 104
	Moose::Meta::Class::create('Moose::Meta::Class', 'Moose::Meta::Class::__ANON__::SERIAL::1', 'roles', 'ARRAY(0x2217248)', 'weaken', '', 'superclasses', 'ARRAY(0x2312580)') called at /home/test/perl5/perlbrew/perls/perl-5.15.3-th-ld/lib/site_perl/5.15.3/x86_64-linux-thread-multi-ld/Class/MOP/Package.pm line 120
	Class::MOP::Package::create_anon('Moose::Meta::Class', 'superclasses', 'ARRAY(0x2312580)', 'roles', 'ARRAY(0x2217248)', 'cache', 1) called at /home/test/perl5/perlbrew/perls/perl-5.15.3-th-ld/lib/site_perl/5.15.3/x86_64-linux-thread-multi-ld/Class/MOP/Class.pm line 474
	Class::MOP::Class::create_anon_class('Moose::Meta::Class', 'superclasses', 'ARRAY(0x2312580)', 'roles', 'ARRAY(0x2217248)', 'cache', 1) called at /home/test/perl5/perlbrew/perls/perl-5.15.3-th-ld/lib/site_perl/5.15.3/x86_64-linux-thread-multi-ld/Moose/Util/MetaRole.pm line 134
	Moose::Util::MetaRole::_make_new_class('Moose::Meta::Class', 'ARRAY(0x2217248)') called at /home/test/perl5/perlbrew/perls/perl-5.15.3-th-ld/lib/site_perl/5.15.3/x86_64-linux-thread-multi-ld/Moose/Util/MetaRole.pm line 79
	Moose::Util::MetaRole::_make_new_metaclass('Moose::Meta::Class=HASH(0x23108e8)', 'HASH(0x2217170)', 'class') called at /home/test/perl5/perlbrew/perls/perl-5.15.3-th-ld/lib/site_perl/5.15.3/x86_64-linux-thread-multi-ld/Moose/Util/MetaRole.pm line 28
	Moose::Util::MetaRole::apply_metaroles('for', 'Net::HTTP::Spore::Core', 'class_metaroles', 'HASH(0x2217170)') called at /home/test/.cpan/build/Net-HTTP-Spore-0.04-Pfq2ff/blib/lib/Net/HTTP/Spore/Meta.pm line 28
	Net::HTTP::Spore::Meta::init_meta('Net::HTTP::Spore::Meta', 'for_class', 'MooseX::Types::URI', 'metaclass', undef, 'meta_name', 'meta') called at /home/test/perl5/perlbrew/perls/perl-5.15.3-th-ld/lib/site_perl/5.15.3/x86_64-linux-thread-multi-ld/Moose/Exporter.pm line 435
	Moose::Exporter::__ANON__('Net::HTTP::Spore::Meta') called at /home/test/.cpan/build/Net-HTTP-Spore-0.04-Pfq2ff/blib/lib/Net/HTTP/Spore/Core.pm line 6
	Net::HTTP::Spore::Core::BEGIN() called at /home/test/perl5/perlbrew/perls/perl-5.15.3-th-ld/lib/site_perl/5.15.3/MooseX/Types/URI.pm line 0
	eval {...} called at /home/test/perl5/perlbrew/perls/perl-5.15.3-th-ld/lib/site_perl/5.15.3/MooseX/Types/URI.pm line 0
	require Net/HTTP/Spore/Core.pm called at /home/test/.cpan/build/Net-HTTP-Spore-0.04-Pfq2ff/blib/lib/Net/HTTP/Spore.pm line 13
	Net::HTTP::Spore::BEGIN() called at /home/test/perl5/perlbrew/perls/perl-5.15.3-th-ld/lib/site_perl/5.15.3/MooseX/Types/URI.pm line 0
	eval {...} called at /home/test/perl5/perlbrew/perls/perl-5.15.3-th-ld/lib/site_perl/5.15.3/MooseX/Types/URI.pm line 0
	require Net/HTTP/Spore.pm called at t/spore-middleware/format-json.t line 7
	main::BEGIN() called at /home/test/perl5/perlbrew/perls/perl-5.15.3-th-ld/lib/site_perl/5.15.3/MooseX/Types/URI.pm line 0
	eval {...} called at /home/test/perl5/perlbrew/perls/perl-5.15.3-th-ld/lib/site_perl/5.15.3/MooseX/Types/URI.pm line 0
t/spore-middleware/format-json.t ..... ok
Providing an optimized subroutine ref for type constraints is deprecated. Use the inlining feature (inline_as) instead. at /home/test/.cpan/build/Net-HTTP-Spore-0.04-Pfq2ff/blib/lib/Net/HTTP/Spore/Meta/Method.pm line 13
	Net::HTTP::Spore::Meta::Method::BEGIN() called at /home/test/perl5/perlbrew/perls/perl-5.15.3-th-ld/lib/site_perl/5.15.3/MooseX/Types/URI.pm line 0
	eval {...} called at /home/test/perl5/perlbrew/perls/perl-5.15.3-th-ld/lib/site_perl/5.15.3/MooseX/Types/URI.pm line 0
	require Net/HTTP/Spore/Meta/Method.pm called at /home/test/.cpan/build/Net-HTTP-Spore-0.04-Pfq2ff/blib/lib/Net/HTTP/Spore/Meta/Method/Spore.pm line 11
	Net::HTTP::Spore::Meta::Method::Spore::BEGIN() called at /home/test/perl5/perlbrew/perls/perl-5.15.3-th-ld/lib/site_perl/5.15.3/MooseX/Types/URI.pm line 0
	eval {...} called at /home/test/perl5/perlbrew/perls/perl-5.15.3-th-ld/lib/site_perl/5.15.3/MooseX/Types/URI.pm line 0
	require Net/HTTP/Spore/Meta/Method/Spore.pm called at /home/test/perl5/perlbrew/perls/perl-5.15.3-th-ld/lib/site_perl/5.15.3/Class/Load.pm line 217
	Class::Load::__ANON__() called at /home/test/perl5/perlbrew/perls/perl-5.15.3-th-ld/lib/site_perl/5.15.3/Try/Tiny.pm line 71
	eval {...} called at /home/test/perl5/perlbrew/perls/perl-5.15.3-th-ld/lib/site_perl/5.15.3/Try/Tiny.pm line 67
	Try::Tiny::try('CODE(0x2ae4498)', 'Try::Tiny::Catch=REF(0x2a97710)') called at /home/test/perl5/perlbrew/perls/perl-5.15.3-th-ld/lib/site_perl/5.15.3/Class/Load.pm line 224
	Class::Load::try_load_class('Net::HTTP::Spore::Meta::Method::Spore', undef) called at /home/test/perl5/perlbrew/perls/perl-5.15.3-th-ld/lib/site_perl/5.15.3/Class/Load.pm line 62
	Class::Load::load_class('Net::HTTP::Spore::Meta::Method::Spore', undef) called at /home/test/perl5/perlbrew/perls/perl-5.15.3-th-ld/lib/site_perl/5.15.3/x86_64-linux-thread-multi-ld/Moose/Util.pm line 132
	Moose::Util::_apply_all_roles('Moose::Meta::Role=HASH(0x2a9da88)', undef, 'Net::HTTP::Spore::Meta::Method::Spore') called at /home/test/perl5/perlbrew/perls/perl-5.15.3-th-ld/lib/site_perl/5.15.3/x86_64-linux-thread-multi-ld/Moose/Util.pm line 99
	Moose::Util::apply_all_roles('Moose::Meta::Role=HASH(0x2a9da88)', 'Net::HTTP::Spore::Meta::Method::Spore') called at /home/test/perl5/perlbrew/perls/perl-5.15.3-th-ld/lib/site_perl/5.15.3/x86_64-linux-thread-multi-ld/Moose/Role.pm line 29
	Moose::Role::with('Moose::Meta::Role=HASH(0x2a9da88)', 'Net::HTTP::Spore::Meta::Method::Spore') called at /home/test/perl5/perlbrew/perls/perl-5.15.3-th-ld/lib/site_perl/5.15.3/x86_64-linux-thread-multi-ld/Moose/Exporter.pm line 370
	Moose::Role::with('Net::HTTP::Spore::Meta::Method::Spore') called at /home/test/.cpan/build/Net-HTTP-Spore-0.04-Pfq2ff/blib/lib/Net/HTTP/Spore/Meta/Class.pm line 10
	require Net/HTTP/Spore/Meta/Class.pm called at /home/test/perl5/perlbrew/perls/perl-5.15.3-th-ld/lib/site_perl/5.15.3/Class/Load.pm line 217
	Class::Load::__ANON__() called at /home/test/perl5/perlbrew/perls/perl-5.15.3-th-ld/lib/site_perl/5.15.3/Try/Tiny.pm line 71
	eval {...} called at /home/test/perl5/perlbrew/perls/perl-5.15.3-th-ld/lib/site_perl/5.15.3/Try/Tiny.pm line 67
	Try::Tiny::try('CODE(0x2a7c550)', 'Try::Tiny::Catch=REF(0x2910640)') called at /home/test/perl5/perlbrew/perls/perl-5.15.3-th-ld/lib/site_perl/5.15.3/Class/Load.pm line 224
	Class::Load::try_load_class('Net::HTTP::Spore::Meta::Class', undef) called at /home/test/perl5/perlbrew/perls/perl-5.15.3-th-ld/lib/site_perl/5.15.3/Class/Load.pm line 62
	Class::Load::load_class('Net::HTTP::Spore::Meta::Class', undef) called at /home/test/perl5/perlbrew/perls/perl-5.15.3-th-ld/lib/site_perl/5.15.3/x86_64-linux-thread-multi-ld/Moose/Util.pm line 132
	Moose::Util::_apply_all_roles('Moose::Meta::Class=HASH(0x2a972d8)', undef, 'Net::HTTP::Spore::Meta::Class') called at /home/test/perl5/perlbrew/perls/perl-5.15.3-th-ld/lib/site_perl/5.15.3/x86_64-linux-thread-multi-ld/Moose/Util.pm line 99
	Moose::Util::apply_all_roles('Moose::Meta::Class=HASH(0x2a972d8)', 'Net::HTTP::Spore::Meta::Class') called at /home/test/perl5/perlbrew/perls/perl-5.15.3-th-ld/lib/site_perl/5.15.3/x86_64-linux-thread-multi-ld/Moose/Meta/Class.pm line 104
	Moose::Meta::Class::create('Moose::Meta::Class', 'Moose::Meta::Class::__ANON__::SERIAL::1', 'roles', 'ARRAY(0x295b220)', 'weaken', '', 'superclasses', 'ARRAY(0x2a7c598)') called at /home/test/perl5/perlbrew/perls/perl-5.15.3-th-ld/lib/site_perl/5.15.3/x86_64-linux-thread-multi-ld/Class/MOP/Package.pm line 120
	Class::MOP::Package::create_anon('Moose::Meta::Class', 'superclasses', 'ARRAY(0x2a7c598)', 'roles', 'ARRAY(0x295b220)', 'cache', 1) called at /home/test/perl5/perlbrew/perls/perl-5.15.3-th-ld/lib/site_perl/5.15.3/x86_64-linux-thread-multi-ld/Class/MOP/Class.pm line 474
	Class::MOP::Class::create_anon_class('Moose::Meta::Class', 'superclasses', 'ARRAY(0x2a7c598)', 'roles', 'ARRAY(0x295b220)', 'cache', 1) called at /home/test/perl5/perlbrew/perls/perl-5.15.3-th-ld/lib/site_perl/5.15.3/x86_64-linux-thread-multi-ld/Moose/Util/MetaRole.pm line 134
	Moose::Util::MetaRole::_make_new_class('Moose::Meta::Class', 'ARRAY(0x295b220)') called at /home/test/perl5/perlbrew/perls/perl-5.15.3-th-ld/lib/site_perl/5.15.3/x86_64-linux-thread-multi-ld/Moose/Util/MetaRole.pm line 79
	Moose::Util::MetaRole::_make_new_metaclass('Moose::Meta::Class=HASH(0x2a7bc98)', 'HASH(0x2967890)', 'class') called at /home/test/perl5/perlbrew/perls/perl-5.15.3-th-ld/lib/site_perl/5.15.3/x86_64-linux-thread-multi-ld/Moose/Util/MetaRole.pm line 28
	Moose::Util::MetaRole::apply_metaroles('for', 'Net::HTTP::Spore::Core', 'class_metaroles', 'HASH(0x2967890)') called at /home/test/.cpan/build/Net-HTTP-Spore-0.04-Pfq2ff/blib/lib/Net/HTTP/Spore/Meta.pm line 28
	Net::HTTP::Spore::Meta::init_meta('Net::HTTP::Spore::Meta', 'for_class', 'MooseX::Types::URI', 'metaclass', undef, 'meta_name', 'meta') called at /home/test/perl5/perlbrew/perls/perl-5.15.3-th-ld/lib/site_perl/5.15.3/x86_64-linux-thread-multi-ld/Moose/Exporter.pm line 435
	Moose::Exporter::__ANON__('Net::HTTP::Spore::Meta') called at /home/test/.cpan/build/Net-HTTP-Spore-0.04-Pfq2ff/blib/lib/Net/HTTP/Spore/Core.pm line 6
	Net::HTTP::Spore::Core::BEGIN() called at /home/test/perl5/perlbrew/perls/perl-5.15.3-th-ld/lib/site_perl/5.15.3/MooseX/Types/URI.pm line 0
	eval {...} called at /home/test/perl5/perlbrew/perls/perl-5.15.3-th-ld/lib/site_perl/5.15.3/MooseX/Types/URI.pm line 0
	require Net/HTTP/Spore/Core.pm called at /home/test/.cpan/build/Net-HTTP-Spore-0.04-Pfq2ff/blib/lib/Net/HTTP/Spore.pm line 13
	Net::HTTP::Spore::BEGIN() called at /home/test/perl5/perlbrew/perls/perl-5.15.3-th-ld/lib/site_perl/5.15.3/MooseX/Types/URI.pm line 0
	eval {...} called at /home/test/perl5/perlbrew/perls/perl-5.15.3-th-ld/lib/site_perl/5.15.3/MooseX/Types/URI.pm line 0
	require Net/HTTP/Spore.pm called at t/spore-middleware/format-xml.t line 7
	main::BEGIN() called at /home/test/perl5/perlbrew/perls/perl-5.15.3-th-ld/lib/site_perl/5.15.3/MooseX/Types/URI.pm line 0
	eval {...} called at /home/test/perl5/perlbrew/perls/perl-5.15.3-th-ld/lib/site_perl/5.15.3/MooseX/Types/URI.pm line 0
t/spore-middleware/format-xml.t ...... ok
Providing an optimized subroutine ref for type constraints is deprecated. Use the inlining feature (inline_as) instead. at /home/test/.cpan/build/Net-HTTP-Spore-0.04-Pfq2ff/blib/lib/Net/HTTP/Spore/Meta/Method.pm line 13
	Net::HTTP::Spore::Meta::Method::BEGIN() called at /home/test/perl5/perlbrew/perls/perl-5.15.3-th-ld/lib/site_perl/5.15.3/MooseX/Types/URI.pm line 0
	eval {...} called at /home/test/perl5/perlbrew/perls/perl-5.15.3-th-ld/lib/site_perl/5.15.3/MooseX/Types/URI.pm line 0
	require Net/HTTP/Spore/Meta/Method.pm called at /home/test/.cpan/build/Net-HTTP-Spore-0.04-Pfq2ff/blib/lib/Net/HTTP/Spore/Meta/Method/Spore.pm line 11
	Net::HTTP::Spore::Meta::Method::Spore::BEGIN() called at /home/test/perl5/perlbrew/perls/perl-5.15.3-th-ld/lib/site_perl/5.15.3/MooseX/Types/URI.pm line 0
	eval {...} called at /home/test/perl5/perlbrew/perls/perl-5.15.3-th-ld/lib/site_perl/5.15.3/MooseX/Types/URI.pm line 0
	require Net/HTTP/Spore/Meta/Method/Spore.pm called at /home/test/perl5/perlbrew/perls/perl-5.15.3-th-ld/lib/site_perl/5.15.3/Class/Load.pm line 217
	Class::Load::__ANON__() called at /home/test/perl5/perlbrew/perls/perl-5.15.3-th-ld/lib/site_perl/5.15.3/Try/Tiny.pm line 71
	eval {...} called at /home/test/perl5/perlbrew/perls/perl-5.15.3-th-ld/lib/site_perl/5.15.3/Try/Tiny.pm line 67
	Try::Tiny::try('CODE(0x33a3db0)', 'Try::Tiny::Catch=REF(0x3357068)') called at /home/test/perl5/perlbrew/perls/perl-5.15.3-th-ld/lib/site_perl/5.15.3/Class/Load.pm line 224
	Class::Load::try_load_class('Net::HTTP::Spore::Meta::Method::Spore', undef) called at /home/test/perl5/perlbrew/perls/perl-5.15.3-th-ld/lib/site_perl/5.15.3/Class/Load.pm line 62
	Class::Load::load_class('Net::HTTP::Spore::Meta::Method::Spore', undef) called at /home/test/perl5/perlbrew/perls/perl-5.15.3-th-ld/lib/site_perl/5.15.3/x86_64-linux-thread-multi-ld/Moose/Util.pm line 132
	Moose::Util::_apply_all_roles('Moose::Meta::Role=HASH(0x335d3d0)', undef, 'Net::HTTP::Spore::Meta::Method::Spore') called at /home/test/perl5/perlbrew/perls/perl-5.15.3-th-ld/lib/site_perl/5.15.3/x86_64-linux-thread-multi-ld/Moose/Util.pm line 99
	Moose::Util::apply_all_roles('Moose::Meta::Role=HASH(0x335d3d0)', 'Net::HTTP::Spore::Meta::Method::Spore') called at /home/test/perl5/perlbrew/perls/perl-5.15.3-th-ld/lib/site_perl/5.15.3/x86_64-linux-thread-multi-ld/Moose/Role.pm line 29
	Moose::Role::with('Moose::Meta::Role=HASH(0x335d3d0)', 'Net::HTTP::Spore::Meta::Method::Spore') called at /home/test/perl5/perlbrew/perls/perl-5.15.3-th-ld/lib/site_perl/5.15.3/x86_64-linux-thread-multi-ld/Moose/Exporter.pm line 370
	Moose::Role::with('Net::HTTP::Spore::Meta::Method::Spore') called at /home/test/.cpan/build/Net-HTTP-Spore-0.04-Pfq2ff/blib/lib/Net/HTTP/Spore/Meta/Class.pm line 10
	require Net/HTTP/Spore/Meta/Class.pm called at /home/test/perl5/perlbrew/perls/perl-5.15.3-th-ld/lib/site_perl/5.15.3/Class/Load.pm line 217
	Class::Load::__ANON__() called at /home/test/perl5/perlbrew/perls/perl-5.15.3-th-ld/lib/site_perl/5.15.3/Try/Tiny.pm line 71
	eval {...} called at /home/test/perl5/perlbrew/perls/perl-5.15.3-th-ld/lib/site_perl/5.15.3/Try/Tiny.pm line 67
	Try::Tiny::try('CODE(0x333cc48)', 'Try::Tiny::Catch=REF(0x31d24f0)') called at /home/test/perl5/perlbrew/perls/perl-5.15.3-th-ld/lib/site_perl/5.15.3/Class/Load.pm line 224
	Class::Load::try_load_class('Net::HTTP::Spore::Meta::Class', undef) called at /home/test/perl5/perlbrew/perls/perl-5.15.3-th-ld/lib/site_perl/5.15.3/Class/Load.pm line 62
	Class::Load::load_class('Net::HTTP::Spore::Meta::Class', undef) called at /home/test/perl5/perlbrew/perls/perl-5.15.3-th-ld/lib/site_perl/5.15.3/x86_64-linux-thread-multi-ld/Moose/Util.pm line 132
	Moose::Util::_apply_all_roles('Moose::Meta::Class=HASH(0x3356c30)', undef, 'Net::HTTP::Spore::Meta::Class') called at /home/test/perl5/perlbrew/perls/perl-5.15.3-th-ld/lib/site_perl/5.15.3/x86_64-linux-thread-multi-ld/Moose/Util.pm line 99
	Moose::Util::apply_all_roles('Moose::Meta::Class=HASH(0x3356c30)', 'Net::HTTP::Spore::Meta::Class') called at /home/test/perl5/perlbrew/perls/perl-5.15.3-th-ld/lib/site_perl/5.15.3/x86_64-linux-thread-multi-ld/Moose/Meta/Class.pm line 104
	Moose::Meta::Class::create('Moose::Meta::Class', 'Moose::Meta::Class::__ANON__::SERIAL::1', 'roles', 'ARRAY(0x31e65b0)', 'weaken', '', 'superclasses', 'ARRAY(0x333cc90)') called at /home/test/perl5/perlbrew/perls/perl-5.15.3-th-ld/lib/site_perl/5.15.3/x86_64-linux-thread-multi-ld/Class/MOP/Package.pm line 120
	Class::MOP::Package::create_anon('Moose::Meta::Class', 'superclasses', 'ARRAY(0x333cc90)', 'roles', 'ARRAY(0x31e65b0)', 'cache', 1) called at /home/test/perl5/perlbrew/perls/perl-5.15.3-th-ld/lib/site_perl/5.15.3/x86_64-linux-thread-multi-ld/Class/MOP/Class.pm line 474
	Class::MOP::Class::create_anon_class('Moose::Meta::Class', 'superclasses', 'ARRAY(0x333cc90)', 'roles', 'ARRAY(0x31e65b0)', 'cache', 1) called at /home/test/perl5/perlbrew/perls/perl-5.15.3-th-ld/lib/site_perl/5.15.3/x86_64-linux-thread-multi-ld/Moose/Util/MetaRole.pm line 134
	Moose::Util::MetaRole::_make_new_class('Moose::Meta::Class', 'ARRAY(0x31e65b0)') called at /home/test/perl5/perlbrew/perls/perl-5.15.3-th-ld/lib/site_perl/5.15.3/x86_64-linux-thread-multi-ld/Moose/Util/MetaRole.pm line 79
	Moose::Util::MetaRole::_make_new_metaclass('Moose::Meta::Class=HASH(0x333c390)', 'HASH(0x321e630)', 'class') called at /home/test/perl5/perlbrew/perls/perl-5.15.3-th-ld/lib/site_perl/5.15.3/x86_64-linux-thread-multi-ld/Moose/Util/MetaRole.pm line 28
	Moose::Util::MetaRole::apply_metaroles('for', 'Net::HTTP::Spore::Core', 'class_metaroles', 'HASH(0x321e630)') called at /home/test/.cpan/build/Net-HTTP-Spore-0.04-Pfq2ff/blib/lib/Net/HTTP/Spore/Meta.pm line 28
	Net::HTTP::Spore::Meta::init_meta('Net::HTTP::Spore::Meta', 'for_class', 'MooseX::Types::URI', 'metaclass', undef, 'meta_name', 'meta') called at /home/test/perl5/perlbrew/perls/perl-5.15.3-th-ld/lib/site_perl/5.15.3/x86_64-linux-thread-multi-ld/Moose/Exporter.pm line 435
	Moose::Exporter::__ANON__('Net::HTTP::Spore::Meta') called at /home/test/.cpan/build/Net-HTTP-Spore-0.04-Pfq2ff/blib/lib/Net/HTTP/Spore/Core.pm line 6
	Net::HTTP::Spore::Core::BEGIN() called at /home/test/perl5/perlbrew/perls/perl-5.15.3-th-ld/lib/site_perl/5.15.3/MooseX/Types/URI.pm line 0
	eval {...} called at /home/test/perl5/perlbrew/perls/perl-5.15.3-th-ld/lib/site_perl/5.15.3/MooseX/Types/URI.pm line 0
	require Net/HTTP/Spore/Core.pm called at /home/test/.cpan/build/Net-HTTP-Spore-0.04-Pfq2ff/blib/lib/Net/HTTP/Spore.pm line 13
	Net::HTTP::Spore::BEGIN() called at /home/test/perl5/perlbrew/perls/perl-5.15.3-th-ld/lib/site_perl/5.15.3/MooseX/Types/URI.pm line 0
	eval {...} called at /home/test/perl5/perlbrew/perls/perl-5.15.3-th-ld/lib/site_perl/5.15.3/MooseX/Types/URI.pm line 0
	require Net/HTTP/Spore.pm called at t/spore-middleware/format-yaml.t line 7
	main::BEGIN() called at /home/test/perl5/perlbrew/perls/perl-5.15.3-th-ld/lib/site_perl/5.15.3/MooseX/Types/URI.pm line 0
	eval {...} called at /home/test/perl5/perlbrew/perls/perl-5.15.3-th-ld/lib/site_perl/5.15.3/MooseX/Types/URI.pm line 0
t/spore-middleware/format-yaml.t ..... ok
Providing an optimized subroutine ref for type constraints is deprecated. Use the inlining feature (inline_as) instead. at /home/test/.cpan/build/Net-HTTP-Spore-0.04-Pfq2ff/blib/lib/Net/HTTP/Spore/Meta/Method.pm line 13
	Net::HTTP::Spore::Meta::Method::BEGIN() called at /home/test/perl5/perlbrew/perls/perl-5.15.3-th-ld/lib/site_perl/5.15.3/MooseX/Types/URI.pm line 0
	eval {...} called at /home/test/perl5/perlbrew/perls/perl-5.15.3-th-ld/lib/site_perl/5.15.3/MooseX/Types/URI.pm line 0
	require Net/HTTP/Spore/Meta/Method.pm called at /home/test/.cpan/build/Net-HTTP-Spore-0.04-Pfq2ff/blib/lib/Net/HTTP/Spore/Meta/Method/Spore.pm line 11
	Net::HTTP::Spore::Meta::Method::Spore::BEGIN() called at /home/test/perl5/perlbrew/perls/perl-5.15.3-th-ld/lib/site_perl/5.15.3/MooseX/Types/URI.pm line 0
	eval {...} called at /home/test/perl5/perlbrew/perls/perl-5.15.3-th-ld/lib/site_perl/5.15.3/MooseX/Types/URI.pm line 0
	require Net/HTTP/Spore/Meta/Method/Spore.pm called at /home/test/perl5/perlbrew/perls/perl-5.15.3-th-ld/lib/site_perl/5.15.3/Class/Load.pm line 217
	Class::Load::__ANON__() called at /home/test/perl5/perlbrew/perls/perl-5.15.3-th-ld/lib/site_perl/5.15.3/Try/Tiny.pm line 71
	eval {...} called at /home/test/perl5/perlbrew/perls/perl-5.15.3-th-ld/lib/site_perl/5.15.3/Try/Tiny.pm line 67
	Try::Tiny::try('CODE(0x2ebab50)', 'Try::Tiny::Catch=REF(0x2e6ec48)') called at /home/test/perl5/perlbrew/perls/perl-5.15.3-th-ld/lib/site_perl/5.15.3/Class/Load.pm line 224
	Class::Load::try_load_class('Net::HTTP::Spore::Meta::Method::Spore', undef) called at /home/test/perl5/perlbrew/perls/perl-5.15.3-th-ld/lib/site_perl/5.15.3/Class/Load.pm line 62
	Class::Load::load_class('Net::HTTP::Spore::Meta::Method::Spore', undef) called at /home/test/perl5/perlbrew/perls/perl-5.15.3-th-ld/lib/site_perl/5.15.3/x86_64-linux-thread-multi-ld/Moose/Util.pm line 132
	Moose::Util::_apply_all_roles('Moose::Meta::Role=HASH(0x2e79cd8)', undef, 'Net::HTTP::Spore::Meta::Method::Spore') called at /home/test/perl5/perlbrew/perls/perl-5.15.3-th-ld/lib/site_perl/5.15.3/x86_64-linux-thread-multi-ld/Moose/Util.pm line 99
	Moose::Util::apply_all_roles('Moose::Meta::Role=HASH(0x2e79cd8)', 'Net::HTTP::Spore::Meta::Method::Spore') called at /home/test/perl5/perlbrew/perls/perl-5.15.3-th-ld/lib/site_perl/5.15.3/x86_64-linux-thread-multi-ld/Moose/Role.pm line 29
	Moose::Role::with('Moose::Meta::Role=HASH(0x2e79cd8)', 'Net::HTTP::Spore::Meta::Method::Spore') called at /home/test/perl5/perlbrew/perls/perl-5.15.3-th-ld/lib/site_perl/5.15.3/x86_64-linux-thread-multi-ld/Moose/Exporter.pm line 370
	Moose::Role::with('Net::HTTP::Spore::Meta::Method::Spore') called at /home/test/.cpan/build/Net-HTTP-Spore-0.04-Pfq2ff/blib/lib/Net/HTTP/Spore/Meta/Class.pm line 10
	require Net/HTTP/Spore/Meta/Class.pm called at /home/test/perl5/perlbrew/perls/perl-5.15.3-th-ld/lib/site_perl/5.15.3/Class/Load.pm line 217
	Class::Load::__ANON__() called at /home/test/perl5/perlbrew/perls/perl-5.15.3-th-ld/lib/site_perl/5.15.3/Try/Tiny.pm line 71
	eval {...} called at /home/test/perl5/perlbrew/perls/perl-5.15.3-th-ld/lib/site_perl/5.15.3/Try/Tiny.pm line 67
	Try::Tiny::try('CODE(0x2e6e300)', 'Try::Tiny::Catch=REF(0x2ce86c8)') called at /home/test/perl5/perlbrew/perls/perl-5.15.3-th-ld/lib/site_perl/5.15.3/Class/Load.pm line 224
	Class::Load::try_load_class('Net::HTTP::Spore::Meta::Class', undef) called at /home/test/perl5/perlbrew/perls/perl-5.15.3-th-ld/lib/site_perl/5.15.3/Class/Load.pm line 62
	Class::Load::load_class('Net::HTTP::Spore::Meta::Class', undef) called at /home/test/perl5/perlbrew/perls/perl-5.15.3-th-ld/lib/site_perl/5.15.3/x86_64-linux-thread-multi-ld/Moose/Util.pm line 132
	Moose::Util::_apply_all_roles('Moose::Meta::Class=HASH(0x2e6e810)', undef, 'Net::HTTP::Spore::Meta::Class') called at /home/test/perl5/perlbrew/perls/perl-5.15.3-th-ld/lib/site_perl/5.15.3/x86_64-linux-thread-multi-ld/Moose/Util.pm line 99
	Moose::Util::apply_all_roles('Moose::Meta::Class=HASH(0x2e6e810)', 'Net::HTTP::Spore::Meta::Class') called at /home/test/perl5/perlbrew/perls/perl-5.15.3-th-ld/lib/site_perl/5.15.3/x86_64-linux-thread-multi-ld/Moose/Meta/Class.pm line 104
	Moose::Meta::Class::create('Moose::Meta::Class', 'Moose::Meta::Class::__ANON__::SERIAL::1', 'roles', 'ARRAY(0x2d30f08)', 'weaken', '', 'superclasses', 'ARRAY(0x2e6e348)') called at /home/test/perl5/perlbrew/perls/perl-5.15.3-th-ld/lib/site_perl/5.15.3/x86_64-linux-thread-multi-ld/Class/MOP/Package.pm line 120
	Class::MOP::Package::create_anon('Moose::Meta::Class', 'superclasses', 'ARRAY(0x2e6e348)', 'roles', 'ARRAY(0x2d30f08)', 'cache', 1) called at /home/test/perl5/perlbrew/perls/perl-5.15.3-th-ld/lib/site_perl/5.15.3/x86_64-linux-thread-multi-ld/Class/MOP/Class.pm line 474
	Class::MOP::Class::create_anon_class('Moose::Meta::Class', 'superclasses', 'ARRAY(0x2e6e348)', 'roles', 'ARRAY(0x2d30f08)', 'cache', 1) called at /home/test/perl5/perlbrew/perls/perl-5.15.3-th-ld/lib/site_perl/5.15.3/x86_64-linux-thread-multi-ld/Moose/Util/MetaRole.pm line 134
	Moose::Util::MetaRole::_make_new_class('Moose::Meta::Class', 'ARRAY(0x2d30f08)') called at /home/test/perl5/perlbrew/perls/perl-5.15.3-th-ld/lib/site_perl/5.15.3/x86_64-linux-thread-multi-ld/Moose/Util/MetaRole.pm line 79
	Moose::Util::MetaRole::_make_new_metaclass('Moose::Meta::Class=HASH(0x2e65e30)', 'HASH(0x2d5f610)', 'class') called at /home/test/perl5/perlbrew/perls/perl-5.15.3-th-ld/lib/site_perl/5.15.3/x86_64-linux-thread-multi-ld/Moose/Util/MetaRole.pm line 28
	Moose::Util::MetaRole::apply_metaroles('for', 'Net::HTTP::Spore::Core', 'class_metaroles', 'HASH(0x2d5f610)') called at /home/test/.cpan/build/Net-HTTP-Spore-0.04-Pfq2ff/blib/lib/Net/HTTP/Spore/Meta.pm line 28
	Net::HTTP::Spore::Meta::init_meta('Net::HTTP::Spore::Meta', 'for_class', 'MooseX::Types::URI', 'metaclass', undef, 'meta_name', 'meta') called at /home/test/perl5/perlbrew/perls/perl-5.15.3-th-ld/lib/site_perl/5.15.3/x86_64-linux-thread-multi-ld/Moose/Exporter.pm line 435
	Moose::Exporter::__ANON__('Net::HTTP::Spore::Meta') called at /home/test/.cpan/build/Net-HTTP-Spore-0.04-Pfq2ff/blib/lib/Net/HTTP/Spore/Core.pm line 6
	Net::HTTP::Spore::Core::BEGIN() called at /home/test/perl5/perlbrew/perls/perl-5.15.3-th-ld/lib/site_perl/5.15.3/MooseX/Types/URI.pm line 0
	eval {...} called at /home/test/perl5/perlbrew/perls/perl-5.15.3-th-ld/lib/site_perl/5.15.3/MooseX/Types/URI.pm line 0
	require Net/HTTP/Spore/Core.pm called at /home/test/.cpan/build/Net-HTTP-Spore-0.04-Pfq2ff/blib/lib/Net/HTTP/Spore.pm line 13
	Net::HTTP::Spore::BEGIN() called at /home/test/perl5/perlbrew/perls/perl-5.15.3-th-ld/lib/site_perl/5.15.3/MooseX/Types/URI.pm line 0
	eval {...} called at /home/test/perl5/perlbrew/perls/perl-5.15.3-th-ld/lib/site_perl/5.15.3/MooseX/Types/URI.pm line 0
	require Net/HTTP/Spore.pm called at t/spore-middleware/ns.t line 4
	main::BEGIN() called at /home/test/perl5/perlbrew/perls/perl-5.15.3-th-ld/lib/site_perl/5.15.3/MooseX/Types/URI.pm line 0
	eval {...} called at /home/test/perl5/perlbrew/perls/perl-5.15.3-th-ld/lib/site_perl/5.15.3/MooseX/Types/URI.pm line 0
t/spore-middleware/ns.t .............. ok
Providing an optimized subroutine ref for type constraints is deprecated. Use the inlining feature (inline_as) instead. at /home/test/.cpan/build/Net-HTTP-Spore-0.04-Pfq2ff/blib/lib/Net/HTTP/Spore/Meta/Method.pm line 13
	Net::HTTP::Spore::Meta::Method::BEGIN() called at /home/test/perl5/perlbrew/perls/perl-5.15.3-th-ld/lib/site_perl/5.15.3/MooseX/Types/URI.pm line 0
	eval {...} called at /home/test/perl5/perlbrew/perls/perl-5.15.3-th-ld/lib/site_perl/5.15.3/MooseX/Types/URI.pm line 0
	require Net/HTTP/Spore/Meta/Method.pm called at /home/test/.cpan/build/Net-HTTP-Spore-0.04-Pfq2ff/blib/lib/Net/HTTP/Spore/Meta/Method/Spore.pm line 11
	Net::HTTP::Spore::Meta::Method::Spore::BEGIN() called at /home/test/perl5/perlbrew/perls/perl-5.15.3-th-ld/lib/site_perl/5.15.3/MooseX/Types/URI.pm line 0
	eval {...} called at /home/test/perl5/perlbrew/perls/perl-5.15.3-th-ld/lib/site_perl/5.15.3/MooseX/Types/URI.pm line 0
	require Net/HTTP/Spore/Meta/Method/Spore.pm called at /home/test/perl5/perlbrew/perls/perl-5.15.3-th-ld/lib/site_perl/5.15.3/Class/Load.pm line 217
	Class::Load::__ANON__() called at /home/test/perl5/perlbrew/perls/perl-5.15.3-th-ld/lib/site_perl/5.15.3/Try/Tiny.pm line 71
	eval {...} called at /home/test/perl5/perlbrew/perls/perl-5.15.3-th-ld/lib/site_perl/5.15.3/Try/Tiny.pm line 67
	Try::Tiny::try('CODE(0x1e82038)', 'Try::Tiny::Catch=REF(0x1e35f70)') called at /home/test/perl5/perlbrew/perls/perl-5.15.3-th-ld/lib/site_perl/5.15.3/Class/Load.pm line 224
	Class::Load::try_load_class('Net::HTTP::Spore::Meta::Method::Spore', undef) called at /home/test/perl5/perlbrew/perls/perl-5.15.3-th-ld/lib/site_perl/5.15.3/Class/Load.pm line 62
	Class::Load::load_class('Net::HTTP::Spore::Meta::Method::Spore', undef) called at /home/test/perl5/perlbrew/perls/perl-5.15.3-th-ld/lib/site_perl/5.15.3/x86_64-linux-thread-multi-ld/Moose/Util.pm line 132
	Moose::Util::_apply_all_roles('Moose::Meta::Role=HASH(0x1e41000)', undef, 'Net::HTTP::Spore::Meta::Method::Spore') called at /home/test/perl5/perlbrew/perls/perl-5.15.3-th-ld/lib/site_perl/5.15.3/x86_64-linux-thread-multi-ld/Moose/Util.pm line 99
	Moose::Util::apply_all_roles('Moose::Meta::Role=HASH(0x1e41000)', 'Net::HTTP::Spore::Meta::Method::Spore') called at /home/test/perl5/perlbrew/perls/perl-5.15.3-th-ld/lib/site_perl/5.15.3/x86_64-linux-thread-multi-ld/Moose/Role.pm line 29
	Moose::Role::with('Moose::Meta::Role=HASH(0x1e41000)', 'Net::HTTP::Spore::Meta::Method::Spore') called at /home/test/perl5/perlbrew/perls/perl-5.15.3-th-ld/lib/site_perl/5.15.3/x86_64-linux-thread-multi-ld/Moose/Exporter.pm line 370
	Moose::Role::with('Net::HTTP::Spore::Meta::Method::Spore') called at /home/test/.cpan/build/Net-HTTP-Spore-0.04-Pfq2ff/blib/lib/Net/HTTP/Spore/Meta/Class.pm line 10
	require Net/HTTP/Spore/Meta/Class.pm called at /home/test/perl5/perlbrew/perls/perl-5.15.3-th-ld/lib/site_perl/5.15.3/Class/Load.pm line 217
	Class::Load::__ANON__() called at /home/test/perl5/perlbrew/perls/perl-5.15.3-th-ld/lib/site_perl/5.15.3/Try/Tiny.pm line 71
	eval {...} called at /home/test/perl5/perlbrew/perls/perl-5.15.3-th-ld/lib/site_perl/5.15.3/Try/Tiny.pm line 67
	Try::Tiny::try('CODE(0x1e35628)', 'Try::Tiny::Catch=REF(0x1cafaf0)') called at /home/test/perl5/perlbrew/perls/perl-5.15.3-th-ld/lib/site_perl/5.15.3/Class/Load.pm line 224
	Class::Load::try_load_class('Net::HTTP::Spore::Meta::Class', undef) called at /home/test/perl5/perlbrew/perls/perl-5.15.3-th-ld/lib/site_perl/5.15.3/Class/Load.pm line 62
	Class::Load::load_class('Net::HTTP::Spore::Meta::Class', undef) called at /home/test/perl5/perlbrew/perls/perl-5.15.3-th-ld/lib/site_perl/5.15.3/x86_64-linux-thread-multi-ld/Moose/Util.pm line 132
	Moose::Util::_apply_all_roles('Moose::Meta::Class=HASH(0x1e35b38)', undef, 'Net::HTTP::Spore::Meta::Class') called at /home/test/perl5/perlbrew/perls/perl-5.15.3-th-ld/lib/site_perl/5.15.3/x86_64-linux-thread-multi-ld/Moose/Util.pm line 99
	Moose::Util::apply_all_roles('Moose::Meta::Class=HASH(0x1e35b38)', 'Net::HTTP::Spore::Meta::Class') called at /home/test/perl5/perlbrew/perls/perl-5.15.3-th-ld/lib/site_perl/5.15.3/x86_64-linux-thread-multi-ld/Moose/Meta/Class.pm line 104
	Moose::Meta::Class::create('Moose::Meta::Class', 'Moose::Meta::Class::__ANON__::SERIAL::1', 'roles', 'ARRAY(0x1cf81f0)', 'weaken', '', 'superclasses', 'ARRAY(0x1e35670)') called at /home/test/perl5/perlbrew/perls/perl-5.15.3-th-ld/lib/site_perl/5.15.3/x86_64-linux-thread-multi-ld/Class/MOP/Package.pm line 120
	Class::MOP::Package::create_anon('Moose::Meta::Class', 'superclasses', 'ARRAY(0x1e35670)', 'roles', 'ARRAY(0x1cf81f0)', 'cache', 1) called at /home/test/perl5/perlbrew/perls/perl-5.15.3-th-ld/lib/site_perl/5.15.3/x86_64-linux-thread-multi-ld/Class/MOP/Class.pm line 474
	Class::MOP::Class::create_anon_class('Moose::Meta::Class', 'superclasses', 'ARRAY(0x1e35670)', 'roles', 'ARRAY(0x1cf81f0)', 'cache', 1) called at /home/test/perl5/perlbrew/perls/perl-5.15.3-th-ld/lib/site_perl/5.15.3/x86_64-linux-thread-multi-ld/Moose/Util/MetaRole.pm line 134
	Moose::Util::MetaRole::_make_new_class('Moose::Meta::Class', 'ARRAY(0x1cf81f0)') called at /home/test/perl5/perlbrew/perls/perl-5.15.3-th-ld/lib/site_perl/5.15.3/x86_64-linux-thread-multi-ld/Moose/Util/MetaRole.pm line 79
	Moose::Util::MetaRole::_make_new_metaclass('Moose::Meta::Class=HASH(0x1e2d088)', 'HASH(0x1cfe7b0)', 'class') called at /home/test/perl5/perlbrew/perls/perl-5.15.3-th-ld/lib/site_perl/5.15.3/x86_64-linux-thread-multi-ld/Moose/Util/MetaRole.pm line 28
	Moose::Util::MetaRole::apply_metaroles('for', 'Net::HTTP::Spore::Core', 'class_metaroles', 'HASH(0x1cfe7b0)') called at /home/test/.cpan/build/Net-HTTP-Spore-0.04-Pfq2ff/blib/lib/Net/HTTP/Spore/Meta.pm line 28
	Net::HTTP::Spore::Meta::init_meta('Net::HTTP::Spore::Meta', 'for_class', 'MooseX::Types::URI', 'metaclass', undef, 'meta_name', 'meta') called at /home/test/perl5/perlbrew/perls/perl-5.15.3-th-ld/lib/site_perl/5.15.3/x86_64-linux-thread-multi-ld/Moose/Exporter.pm line 435
	Moose::Exporter::__ANON__('Net::HTTP::Spore::Meta') called at /home/test/.cpan/build/Net-HTTP-Spore-0.04-Pfq2ff/blib/lib/Net/HTTP/Spore/Core.pm line 6
	Net::HTTP::Spore::Core::BEGIN() called at /home/test/perl5/perlbrew/perls/perl-5.15.3-th-ld/lib/site_perl/5.15.3/MooseX/Types/URI.pm line 0
	eval {...} called at /home/test/perl5/perlbrew/perls/perl-5.15.3-th-ld/lib/site_perl/5.15.3/MooseX/Types/URI.pm line 0
	require Net/HTTP/Spore/Core.pm called at /home/test/.cpan/build/Net-HTTP-Spore-0.04-Pfq2ff/blib/lib/Net/HTTP/Spore.pm line 13
	Net::HTTP::Spore::BEGIN() called at /home/test/perl5/perlbrew/perls/perl-5.15.3-th-ld/lib/site_perl/5.15.3/MooseX/Types/URI.pm line 0
	eval {...} called at /home/test/perl5/perlbrew/perls/perl-5.15.3-th-ld/lib/site_perl/5.15.3/MooseX/Types/URI.pm line 0
	require Net/HTTP/Spore.pm called at t/spore-middleware/redirection.t line 8
	main::BEGIN() called at /home/test/perl5/perlbrew/perls/perl-5.15.3-th-ld/lib/site_perl/5.15.3/MooseX/Types/URI.pm line 0
	eval {...} called at /home/test/perl5/perlbrew/perls/perl-5.15.3-th-ld/lib/site_perl/5.15.3/MooseX/Types/URI.pm line 0
t/spore-middleware/redirection.t ..... ok
Providing an optimized subroutine ref for type constraints is deprecated. Use the inlining feature (inline_as) instead. at /home/test/.cpan/build/Net-HTTP-Spore-0.04-Pfq2ff/blib/lib/Net/HTTP/Spore/Meta/Method.pm line 13
	Net::HTTP::Spore::Meta::Method::BEGIN() called at /home/test/perl5/perlbrew/perls/perl-5.15.3-th-ld/lib/site_perl/5.15.3/MooseX/Types/URI.pm line 0
	eval {...} called at /home/test/perl5/perlbrew/perls/perl-5.15.3-th-ld/lib/site_perl/5.15.3/MooseX/Types/URI.pm line 0
	require Net/HTTP/Spore/Meta/Method.pm called at /home/test/.cpan/build/Net-HTTP-Spore-0.04-Pfq2ff/blib/lib/Net/HTTP/Spore/Meta/Method/Spore.pm line 11
	Net::HTTP::Spore::Meta::Method::Spore::BEGIN() called at /home/test/perl5/perlbrew/perls/perl-5.15.3-th-ld/lib/site_perl/5.15.3/MooseX/Types/URI.pm line 0
	eval {...} called at /home/test/perl5/perlbrew/perls/perl-5.15.3-th-ld/lib/site_perl/5.15.3/MooseX/Types/URI.pm line 0
	require Net/HTTP/Spore/Meta/Method/Spore.pm called at /home/test/perl5/perlbrew/perls/perl-5.15.3-th-ld/lib/site_perl/5.15.3/Class/Load.pm line 217
	Class::Load::__ANON__() called at /home/test/perl5/perlbrew/perls/perl-5.15.3-th-ld/lib/site_perl/5.15.3/Try/Tiny.pm line 71
	eval {...} called at /home/test/perl5/perlbrew/perls/perl-5.15.3-th-ld/lib/site_perl/5.15.3/Try/Tiny.pm line 67
	Try::Tiny::try('CODE(0x3540a00)', 'Try::Tiny::Catch=REF(0x34f4b88)') called at /home/test/perl5/perlbrew/perls/perl-5.15.3-th-ld/lib/site_perl/5.15.3/Class/Load.pm line 224
	Class::Load::try_load_class('Net::HTTP::Spore::Meta::Method::Spore', undef) called at /home/test/perl5/perlbrew/perls/perl-5.15.3-th-ld/lib/site_perl/5.15.3/Class/Load.pm line 62
	Class::Load::load_class('Net::HTTP::Spore::Meta::Method::Spore', undef) called at /home/test/perl5/perlbrew/perls/perl-5.15.3-th-ld/lib/site_perl/5.15.3/x86_64-linux-thread-multi-ld/Moose/Util.pm line 132
	Moose::Util::_apply_all_roles('Moose::Meta::Role=HASH(0x34ffc18)', undef, 'Net::HTTP::Spore::Meta::Method::Spore') called at /home/test/perl5/perlbrew/perls/perl-5.15.3-th-ld/lib/site_perl/5.15.3/x86_64-linux-thread-multi-ld/Moose/Util.pm line 99
	Moose::Util::apply_all_roles('Moose::Meta::Role=HASH(0x34ffc18)', 'Net::HTTP::Spore::Meta::Method::Spore') called at /home/test/perl5/perlbrew/perls/perl-5.15.3-th-ld/lib/site_perl/5.15.3/x86_64-linux-thread-multi-ld/Moose/Role.pm line 29
	Moose::Role::with('Moose::Meta::Role=HASH(0x34ffc18)', 'Net::HTTP::Spore::Meta::Method::Spore') called at /home/test/perl5/perlbrew/perls/perl-5.15.3-th-ld/lib/site_perl/5.15.3/x86_64-linux-thread-multi-ld/Moose/Exporter.pm line 370
	Moose::Role::with('Net::HTTP::Spore::Meta::Method::Spore') called at /home/test/.cpan/build/Net-HTTP-Spore-0.04-Pfq2ff/blib/lib/Net/HTTP/Spore/Meta/Class.pm line 10
	require Net/HTTP/Spore/Meta/Class.pm called at /home/test/perl5/perlbrew/perls/perl-5.15.3-th-ld/lib/site_perl/5.15.3/Class/Load.pm line 217
	Class::Load::__ANON__() called at /home/test/perl5/perlbrew/perls/perl-5.15.3-th-ld/lib/site_perl/5.15.3/Try/Tiny.pm line 71
	eval {...} called at /home/test/perl5/perlbrew/perls/perl-5.15.3-th-ld/lib/site_perl/5.15.3/Try/Tiny.pm line 67
	Try::Tiny::try('CODE(0x34f4240)', 'Try::Tiny::Catch=REF(0x336e628)') called at /home/test/perl5/perlbrew/perls/perl-5.15.3-th-ld/lib/site_perl/5.15.3/Class/Load.pm line 224
	Class::Load::try_load_class('Net::HTTP::Spore::Meta::Class', undef) called at /home/test/perl5/perlbrew/perls/perl-5.15.3-th-ld/lib/site_perl/5.15.3/Class/Load.pm line 62
	Class::Load::load_class('Net::HTTP::Spore::Meta::Class', undef) called at /home/test/perl5/perlbrew/perls/perl-5.15.3-th-ld/lib/site_perl/5.15.3/x86_64-linux-thread-multi-ld/Moose/Util.pm line 132
	Moose::Util::_apply_all_roles('Moose::Meta::Class=HASH(0x34f4750)', undef, 'Net::HTTP::Spore::Meta::Class') called at /home/test/perl5/perlbrew/perls/perl-5.15.3-th-ld/lib/site_perl/5.15.3/x86_64-linux-thread-multi-ld/Moose/Util.pm line 99
	Moose::Util::apply_all_roles('Moose::Meta::Class=HASH(0x34f4750)', 'Net::HTTP::Spore::Meta::Class') called at /home/test/perl5/perlbrew/perls/perl-5.15.3-th-ld/lib/site_perl/5.15.3/x86_64-linux-thread-multi-ld/Moose/Meta/Class.pm line 104
	Moose::Meta::Class::create('Moose::Meta::Class', 'Moose::Meta::Class::__ANON__::SERIAL::1', 'roles', 'ARRAY(0x33b6e58)', 'weaken', '', 'superclasses', 'ARRAY(0x34f4288)') called at /home/test/perl5/perlbrew/perls/perl-5.15.3-th-ld/lib/site_perl/5.15.3/x86_64-linux-thread-multi-ld/Class/MOP/Package.pm line 120
	Class::MOP::Package::create_anon('Moose::Meta::Class', 'superclasses', 'ARRAY(0x34f4288)', 'roles', 'ARRAY(0x33b6e58)', 'cache', 1) called at /home/test/perl5/perlbrew/perls/perl-5.15.3-th-ld/lib/site_perl/5.15.3/x86_64-linux-thread-multi-ld/Class/MOP/Class.pm line 474
	Class::MOP::Class::create_anon_class('Moose::Meta::Class', 'superclasses', 'ARRAY(0x34f4288)', 'roles', 'ARRAY(0x33b6e58)', 'cache', 1) called at /home/test/perl5/perlbrew/perls/perl-5.15.3-th-ld/lib/site_perl/5.15.3/x86_64-linux-thread-multi-ld/Moose/Util/MetaRole.pm line 134
	Moose::Util::MetaRole::_make_new_class('Moose::Meta::Class', 'ARRAY(0x33b6e58)') called at /home/test/perl5/perlbrew/perls/perl-5.15.3-th-ld/lib/site_perl/5.15.3/x86_64-linux-thread-multi-ld/Moose/Util/MetaRole.pm line 79
	Moose::Util::MetaRole::_make_new_metaclass('Moose::Meta::Class=HASH(0x34ebd70)', 'HASH(0x33e5520)', 'class') called at /home/test/perl5/perlbrew/perls/perl-5.15.3-th-ld/lib/site_perl/5.15.3/x86_64-linux-thread-multi-ld/Moose/Util/MetaRole.pm line 28
	Moose::Util::MetaRole::apply_metaroles('for', 'Net::HTTP::Spore::Core', 'class_metaroles', 'HASH(0x33e5520)') called at /home/test/.cpan/build/Net-HTTP-Spore-0.04-Pfq2ff/blib/lib/Net/HTTP/Spore/Meta.pm line 28
	Net::HTTP::Spore::Meta::init_meta('Net::HTTP::Spore::Meta', 'for_class', 'MooseX::Types::URI', 'metaclass', undef, 'meta_name', 'meta') called at /home/test/perl5/perlbrew/perls/perl-5.15.3-th-ld/lib/site_perl/5.15.3/x86_64-linux-thread-multi-ld/Moose/Exporter.pm line 435
	Moose::Exporter::__ANON__('Net::HTTP::Spore::Meta') called at /home/test/.cpan/build/Net-HTTP-Spore-0.04-Pfq2ff/blib/lib/Net/HTTP/Spore/Core.pm line 6
	Net::HTTP::Spore::Core::BEGIN() called at /home/test/perl5/perlbrew/perls/perl-5.15.3-th-ld/lib/site_perl/5.15.3/MooseX/Types/URI.pm line 0
	eval {...} called at /home/test/perl5/perlbrew/perls/perl-5.15.3-th-ld/lib/site_perl/5.15.3/MooseX/Types/URI.pm line 0
	require Net/HTTP/Spore/Core.pm called at /home/test/.cpan/build/Net-HTTP-Spore-0.04-Pfq2ff/blib/lib/Net/HTTP/Spore.pm line 13
	Net::HTTP::Spore::BEGIN() called at /home/test/perl5/perlbrew/perls/perl-5.15.3-th-ld/lib/site_perl/5.15.3/MooseX/Types/URI.pm line 0
	eval {...} called at /home/test/perl5/perlbrew/perls/perl-5.15.3-th-ld/lib/site_perl/5.15.3/MooseX/Types/URI.pm line 0
	require Net/HTTP/Spore.pm called at t/spore-middleware/runtime.t line 5
	main::BEGIN() called at /home/test/perl5/perlbrew/perls/perl-5.15.3-th-ld/lib/site_perl/5.15.3/MooseX/Types/URI.pm line 0
	eval {...} called at /home/test/perl5/perlbrew/perls/perl-5.15.3-th-ld/lib/site_perl/5.15.3/MooseX/Types/URI.pm line 0
t/spore-middleware/runtime.t ......... ok
Providing an optimized subroutine ref for type constraints is deprecated. Use the inlining feature (inline_as) instead. at /home/test/.cpan/build/Net-HTTP-Spore-0.04-Pfq2ff/blib/lib/Net/HTTP/Spore/Meta/Method.pm line 13
	Net::HTTP::Spore::Meta::Method::BEGIN() called at /home/test/perl5/perlbrew/perls/perl-5.15.3-th-ld/lib/site_perl/5.15.3/MooseX/Types/URI.pm line 0
	eval {...} called at /home/test/perl5/perlbrew/perls/perl-5.15.3-th-ld/lib/site_perl/5.15.3/MooseX/Types/URI.pm line 0
	require Net/HTTP/Spore/Meta/Method.pm called at /home/test/.cpan/build/Net-HTTP-Spore-0.04-Pfq2ff/blib/lib/Net/HTTP/Spore/Meta/Method/Spore.pm line 11
	Net::HTTP::Spore::Meta::Method::Spore::BEGIN() called at /home/test/perl5/perlbrew/perls/perl-5.15.3-th-ld/lib/site_perl/5.15.3/MooseX/Types/URI.pm line 0
	eval {...} called at /home/test/perl5/perlbrew/perls/perl-5.15.3-th-ld/lib/site_perl/5.15.3/MooseX/Types/URI.pm line 0
	require Net/HTTP/Spore/Meta/Method/Spore.pm called at /home/test/perl5/perlbrew/perls/perl-5.15.3-th-ld/lib/site_perl/5.15.3/Class/Load.pm line 217
	Class::Load::__ANON__() called at /home/test/perl5/perlbrew/perls/perl-5.15.3-th-ld/lib/site_perl/5.15.3/Try/Tiny.pm line 71
	eval {...} called at /home/test/perl5/perlbrew/perls/perl-5.15.3-th-ld/lib/site_perl/5.15.3/Try/Tiny.pm line 67
	Try::Tiny::try('CODE(0x1b69b00)', 'Try::Tiny::Catch=REF(0x1b1dc88)') called at /home/test/perl5/perlbrew/perls/perl-5.15.3-th-ld/lib/site_perl/5.15.3/Class/Load.pm line 224
	Class::Load::try_load_class('Net::HTTP::Spore::Meta::Method::Spore', undef) called at /home/test/perl5/perlbrew/perls/perl-5.15.3-th-ld/lib/site_perl/5.15.3/Class/Load.pm line 62
	Class::Load::load_class('Net::HTTP::Spore::Meta::Method::Spore', undef) called at /home/test/perl5/perlbrew/perls/perl-5.15.3-th-ld/lib/site_perl/5.15.3/x86_64-linux-thread-multi-ld/Moose/Util.pm line 132
	Moose::Util::_apply_all_roles('Moose::Meta::Role=HASH(0x1b28d18)', undef, 'Net::HTTP::Spore::Meta::Method::Spore') called at /home/test/perl5/perlbrew/perls/perl-5.15.3-th-ld/lib/site_perl/5.15.3/x86_64-linux-thread-multi-ld/Moose/Util.pm line 99
	Moose::Util::apply_all_roles('Moose::Meta::Role=HASH(0x1b28d18)', 'Net::HTTP::Spore::Meta::Method::Spore') called at /home/test/perl5/perlbrew/perls/perl-5.15.3-th-ld/lib/site_perl/5.15.3/x86_64-linux-thread-multi-ld/Moose/Role.pm line 29
	Moose::Role::with('Moose::Meta::Role=HASH(0x1b28d18)', 'Net::HTTP::Spore::Meta::Method::Spore') called at /home/test/perl5/perlbrew/perls/perl-5.15.3-th-ld/lib/site_perl/5.15.3/x86_64-linux-thread-multi-ld/Moose/Exporter.pm line 370
	Moose::Role::with('Net::HTTP::Spore::Meta::Method::Spore') called at /home/test/.cpan/build/Net-HTTP-Spore-0.04-Pfq2ff/blib/lib/Net/HTTP/Spore/Meta/Class.pm line 10
	require Net/HTTP/Spore/Meta/Class.pm called at /home/test/perl5/perlbrew/perls/perl-5.15.3-th-ld/lib/site_perl/5.15.3/Class/Load.pm line 217
	Class::Load::__ANON__() called at /home/test/perl5/perlbrew/perls/perl-5.15.3-th-ld/lib/site_perl/5.15.3/Try/Tiny.pm line 71
	eval {...} called at /home/test/perl5/perlbrew/perls/perl-5.15.3-th-ld/lib/site_perl/5.15.3/Try/Tiny.pm line 67
	Try::Tiny::try('CODE(0x1b1d340)', 'Try::Tiny::Catch=REF(0x1997668)') called at /home/test/perl5/perlbrew/perls/perl-5.15.3-th-ld/lib/site_perl/5.15.3/Class/Load.pm line 224
	Class::Load::try_load_class('Net::HTTP::Spore::Meta::Class', undef) called at /home/test/perl5/perlbrew/perls/perl-5.15.3-th-ld/lib/site_perl/5.15.3/Class/Load.pm line 62
	Class::Load::load_class('Net::HTTP::Spore::Meta::Class', undef) called at /home/test/perl5/perlbrew/perls/perl-5.15.3-th-ld/lib/site_perl/5.15.3/x86_64-linux-thread-multi-ld/Moose/Util.pm line 132
	Moose::Util::_apply_all_roles('Moose::Meta::Class=HASH(0x1b1d850)', undef, 'Net::HTTP::Spore::Meta::Class') called at /home/test/perl5/perlbrew/perls/perl-5.15.3-th-ld/lib/site_perl/5.15.3/x86_64-linux-thread-multi-ld/Moose/Util.pm line 99
	Moose::Util::apply_all_roles('Moose::Meta::Class=HASH(0x1b1d850)', 'Net::HTTP::Spore::Meta::Class') called at /home/test/perl5/perlbrew/perls/perl-5.15.3-th-ld/lib/site_perl/5.15.3/x86_64-linux-thread-multi-ld/Moose/Meta/Class.pm line 104
	Moose::Meta::Class::create('Moose::Meta::Class', 'Moose::Meta::Class::__ANON__::SERIAL::1', 'roles', 'ARRAY(0x19dfef8)', 'weaken', '', 'superclasses', 'ARRAY(0x1b1d388)') called at /home/test/perl5/perlbrew/perls/perl-5.15.3-th-ld/lib/site_perl/5.15.3/x86_64-linux-thread-multi-ld/Class/MOP/Package.pm line 120
	Class::MOP::Package::create_anon('Moose::Meta::Class', 'superclasses', 'ARRAY(0x1b1d388)', 'roles', 'ARRAY(0x19dfef8)', 'cache', 1) called at /home/test/perl5/perlbrew/perls/perl-5.15.3-th-ld/lib/site_perl/5.15.3/x86_64-linux-thread-multi-ld/Class/MOP/Class.pm line 474
	Class::MOP::Class::create_anon_class('Moose::Meta::Class', 'superclasses', 'ARRAY(0x1b1d388)', 'roles', 'ARRAY(0x19dfef8)', 'cache', 1) called at /home/test/perl5/perlbrew/perls/perl-5.15.3-th-ld/lib/site_perl/5.15.3/x86_64-linux-thread-multi-ld/Moose/Util/MetaRole.pm line 134
	Moose::Util::MetaRole::_make_new_class('Moose::Meta::Class', 'ARRAY(0x19dfef8)') called at /home/test/perl5/perlbrew/perls/perl-5.15.3-th-ld/lib/site_perl/5.15.3/x86_64-linux-thread-multi-ld/Moose/Util/MetaRole.pm line 79
	Moose::Util::MetaRole::_make_new_metaclass('Moose::Meta::Class=HASH(0x1b14e70)', 'HASH(0x1a0e600)', 'class') called at /home/test/perl5/perlbrew/perls/perl-5.15.3-th-ld/lib/site_perl/5.15.3/x86_64-linux-thread-multi-ld/Moose/Util/MetaRole.pm line 28
	Moose::Util::MetaRole::apply_metaroles('for', 'Net::HTTP::Spore::Core', 'class_metaroles', 'HASH(0x1a0e600)') called at /home/test/.cpan/build/Net-HTTP-Spore-0.04-Pfq2ff/blib/lib/Net/HTTP/Spore/Meta.pm line 28
	Net::HTTP::Spore::Meta::init_meta('Net::HTTP::Spore::Meta', 'for_class', 'MooseX::Types::URI', 'metaclass', undef, 'meta_name', 'meta') called at /home/test/perl5/perlbrew/perls/perl-5.15.3-th-ld/lib/site_perl/5.15.3/x86_64-linux-thread-multi-ld/Moose/Exporter.pm line 435
	Moose::Exporter::__ANON__('Net::HTTP::Spore::Meta') called at /home/test/.cpan/build/Net-HTTP-Spore-0.04-Pfq2ff/blib/lib/Net/HTTP/Spore/Core.pm line 6
	Net::HTTP::Spore::Core::BEGIN() called at /home/test/perl5/perlbrew/perls/perl-5.15.3-th-ld/lib/site_perl/5.15.3/MooseX/Types/URI.pm line 0
	eval {...} called at /home/test/perl5/perlbrew/perls/perl-5.15.3-th-ld/lib/site_perl/5.15.3/MooseX/Types/URI.pm line 0
	require Net/HTTP/Spore/Core.pm called at /home/test/.cpan/build/Net-HTTP-Spore-0.04-Pfq2ff/blib/lib/Net/HTTP/Spore.pm line 13
	Net::HTTP::Spore::BEGIN() called at /home/test/perl5/perlbrew/perls/perl-5.15.3-th-ld/lib/site_perl/5.15.3/MooseX/Types/URI.pm line 0
	eval {...} called at /home/test/perl5/perlbrew/perls/perl-5.15.3-th-ld/lib/site_perl/5.15.3/MooseX/Types/URI.pm line 0
	require Net/HTTP/Spore.pm called at t/spore-middleware/useragent.t line 5
	main::BEGIN() called at /home/test/perl5/perlbrew/perls/perl-5.15.3-th-ld/lib/site_perl/5.15.3/MooseX/Types/URI.pm line 0
	eval {...} called at /home/test/perl5/perlbrew/perls/perl-5.15.3-th-ld/lib/site_perl/5.15.3/MooseX/Types/URI.pm line 0
t/spore-middleware/useragent.t ....... ok
Providing an optimized subroutine ref for type constraints is deprecated. Use the inlining feature (inline_as) instead. at /home/test/.cpan/build/Net-HTTP-Spore-0.04-Pfq2ff/blib/lib/Net/HTTP/Spore/Meta/Method.pm line 13
	Net::HTTP::Spore::Meta::Method::BEGIN() called at /home/test/perl5/perlbrew/perls/perl-5.15.3-th-ld/lib/site_perl/5.15.3/MooseX/Types/URI.pm line 0
	eval {...} called at /home/test/perl5/perlbrew/perls/perl-5.15.3-th-ld/lib/site_perl/5.15.3/MooseX/Types/URI.pm line 0
	require Net/HTTP/Spore/Meta/Method.pm called at /home/test/.cpan/build/Net-HTTP-Spore-0.04-Pfq2ff/blib/lib/Net/HTTP/Spore/Meta/Method/Spore.pm line 11
	Net::HTTP::Spore::Meta::Method::Spore::BEGIN() called at /home/test/perl5/perlbrew/perls/perl-5.15.3-th-ld/lib/site_perl/5.15.3/MooseX/Types/URI.pm line 0
	eval {...} called at /home/test/perl5/perlbrew/perls/perl-5.15.3-th-ld/lib/site_perl/5.15.3/MooseX/Types/URI.pm line 0
	require Net/HTTP/Spore/Meta/Method/Spore.pm called at /home/test/perl5/perlbrew/perls/perl-5.15.3-th-ld/lib/site_perl/5.15.3/Class/Load.pm line 217
	Class::Load::__ANON__() called at /home/test/perl5/perlbrew/perls/perl-5.15.3-th-ld/lib/site_perl/5.15.3/Try/Tiny.pm line 71
	eval {...} called at /home/test/perl5/perlbrew/perls/perl-5.15.3-th-ld/lib/site_perl/5.15.3/Try/Tiny.pm line 67
	Try::Tiny::try('CODE(0x1ef69e0)', 'Try::Tiny::Catch=REF(0x1eaab88)') called at /home/test/perl5/perlbrew/perls/perl-5.15.3-th-ld/lib/site_perl/5.15.3/Class/Load.pm line 224
	Class::Load::try_load_class('Net::HTTP::Spore::Meta::Method::Spore', undef) called at /home/test/perl5/perlbrew/perls/perl-5.15.3-th-ld/lib/site_perl/5.15.3/Class/Load.pm line 62
	Class::Load::load_class('Net::HTTP::Spore::Meta::Method::Spore', undef) called at /home/test/perl5/perlbrew/perls/perl-5.15.3-th-ld/lib/site_perl/5.15.3/x86_64-linux-thread-multi-ld/Moose/Util.pm line 132
	Moose::Util::_apply_all_roles('Moose::Meta::Role=HASH(0x1eb5c18)', undef, 'Net::HTTP::Spore::Meta::Method::Spore') called at /home/test/perl5/perlbrew/perls/perl-5.15.3-th-ld/lib/site_perl/5.15.3/x86_64-linux-thread-multi-ld/Moose/Util.pm line 99
	Moose::Util::apply_all_roles('Moose::Meta::Role=HASH(0x1eb5c18)', 'Net::HTTP::Spore::Meta::Method::Spore') called at /home/test/perl5/perlbrew/perls/perl-5.15.3-th-ld/lib/site_perl/5.15.3/x86_64-linux-thread-multi-ld/Moose/Role.pm line 29
	Moose::Role::with('Moose::Meta::Role=HASH(0x1eb5c18)', 'Net::HTTP::Spore::Meta::Method::Spore') called at /home/test/perl5/perlbrew/perls/perl-5.15.3-th-ld/lib/site_perl/5.15.3/x86_64-linux-thread-multi-ld/Moose/Exporter.pm line 370
	Moose::Role::with('Net::HTTP::Spore::Meta::Method::Spore') called at /home/test/.cpan/build/Net-HTTP-Spore-0.04-Pfq2ff/blib/lib/Net/HTTP/Spore/Meta/Class.pm line 10
	require Net/HTTP/Spore/Meta/Class.pm called at /home/test/perl5/perlbrew/perls/perl-5.15.3-th-ld/lib/site_perl/5.15.3/Class/Load.pm line 217
	Class::Load::__ANON__() called at /home/test/perl5/perlbrew/perls/perl-5.15.3-th-ld/lib/site_perl/5.15.3/Try/Tiny.pm line 71
	eval {...} called at /home/test/perl5/perlbrew/perls/perl-5.15.3-th-ld/lib/site_perl/5.15.3/Try/Tiny.pm line 67
	Try::Tiny::try('CODE(0x1eaa240)', 'Try::Tiny::Catch=REF(0x1d24628)') called at /home/test/perl5/perlbrew/perls/perl-5.15.3-th-ld/lib/site_perl/5.15.3/Class/Load.pm line 224
	Class::Load::try_load_class('Net::HTTP::Spore::Meta::Class', undef) called at /home/test/perl5/perlbrew/perls/perl-5.15.3-th-ld/lib/site_perl/5.15.3/Class/Load.pm line 62
	Class::Load::load_class('Net::HTTP::Spore::Meta::Class', undef) called at /home/test/perl5/perlbrew/perls/perl-5.15.3-th-ld/lib/site_perl/5.15.3/x86_64-linux-thread-multi-ld/Moose/Util.pm line 132
	Moose::Util::_apply_all_roles('Moose::Meta::Class=HASH(0x1eaa750)', undef, 'Net::HTTP::Spore::Meta::Class') called at /home/test/perl5/perlbrew/perls/perl-5.15.3-th-ld/lib/site_perl/5.15.3/x86_64-linux-thread-multi-ld/Moose/Util.pm line 99
	Moose::Util::apply_all_roles('Moose::Meta::Class=HASH(0x1eaa750)', 'Net::HTTP::Spore::Meta::Class') called at /home/test/perl5/perlbrew/perls/perl-5.15.3-th-ld/lib/site_perl/5.15.3/x86_64-linux-thread-multi-ld/Moose/Meta/Class.pm line 104
	Moose::Meta::Class::create('Moose::Meta::Class', 'Moose::Meta::Class::__ANON__::SERIAL::1', 'roles', 'ARRAY(0x1d6ce58)', 'weaken', '', 'superclasses', 'ARRAY(0x1eaa288)') called at /home/test/perl5/perlbrew/perls/perl-5.15.3-th-ld/lib/site_perl/5.15.3/x86_64-linux-thread-multi-ld/Class/MOP/Package.pm line 120
	Class::MOP::Package::create_anon('Moose::Meta::Class', 'superclasses', 'ARRAY(0x1eaa288)', 'roles', 'ARRAY(0x1d6ce58)', 'cache', 1) called at /home/test/perl5/perlbrew/perls/perl-5.15.3-th-ld/lib/site_perl/5.15.3/x86_64-linux-thread-multi-ld/Class/MOP/Class.pm line 474
	Class::MOP::Class::create_anon_class('Moose::Meta::Class', 'superclasses', 'ARRAY(0x1eaa288)', 'roles', 'ARRAY(0x1d6ce58)', 'cache', 1) called at /home/test/perl5/perlbrew/perls/perl-5.15.3-th-ld/lib/site_perl/5.15.3/x86_64-linux-thread-multi-ld/Moose/Util/MetaRole.pm line 134
	Moose::Util::MetaRole::_make_new_class('Moose::Meta::Class', 'ARRAY(0x1d6ce58)') called at /home/test/perl5/perlbrew/perls/perl-5.15.3-th-ld/lib/site_perl/5.15.3/x86_64-linux-thread-multi-ld/Moose/Util/MetaRole.pm line 79
	Moose::Util::MetaRole::_make_new_metaclass('Moose::Meta::Class=HASH(0x1ea1d70)', 'HASH(0x1d9b520)', 'class') called at /home/test/perl5/perlbrew/perls/perl-5.15.3-th-ld/lib/site_perl/5.15.3/x86_64-linux-thread-multi-ld/Moose/Util/MetaRole.pm line 28
	Moose::Util::MetaRole::apply_metaroles('for', 'Net::HTTP::Spore::Core', 'class_metaroles', 'HASH(0x1d9b520)') called at /home/test/.cpan/build/Net-HTTP-Spore-0.04-Pfq2ff/blib/lib/Net/HTTP/Spore/Meta.pm line 28
	Net::HTTP::Spore::Meta::init_meta('Net::HTTP::Spore::Meta', 'for_class', 'MooseX::Types::URI', 'metaclass', undef, 'meta_name', 'meta') called at /home/test/perl5/perlbrew/perls/perl-5.15.3-th-ld/lib/site_perl/5.15.3/x86_64-linux-thread-multi-ld/Moose/Exporter.pm line 435
	Moose::Exporter::__ANON__('Net::HTTP::Spore::Meta') called at /home/test/.cpan/build/Net-HTTP-Spore-0.04-Pfq2ff/blib/lib/Net/HTTP/Spore/Core.pm line 6
	Net::HTTP::Spore::Core::BEGIN() called at /home/test/perl5/perlbrew/perls/perl-5.15.3-th-ld/lib/site_perl/5.15.3/MooseX/Types/URI.pm line 0
	eval {...} called at /home/test/perl5/perlbrew/perls/perl-5.15.3-th-ld/lib/site_perl/5.15.3/MooseX/Types/URI.pm line 0
	require Net/HTTP/Spore/Core.pm called at /home/test/.cpan/build/Net-HTTP-Spore-0.04-Pfq2ff/blib/lib/Net/HTTP/Spore.pm line 13
	Net::HTTP::Spore::BEGIN() called at /home/test/perl5/perlbrew/perls/perl-5.15.3-th-ld/lib/site_perl/5.15.3/MooseX/Types/URI.pm line 0
	eval {...} called at /home/test/perl5/perlbrew/perls/perl-5.15.3-th-ld/lib/site_perl/5.15.3/MooseX/Types/URI.pm line 0
	require Net/HTTP/Spore.pm called at t/spore-middleware/x-do-not-track.t line 5
	main::BEGIN() called at /home/test/perl5/perlbrew/perls/perl-5.15.3-th-ld/lib/site_perl/5.15.3/MooseX/Types/URI.pm line 0
	eval {...} called at /home/test/perl5/perlbrew/perls/perl-5.15.3-th-ld/lib/site_perl/5.15.3/MooseX/Types/URI.pm line 0
t/spore-middleware/x-do-not-track.t .. ok
t/spore-request/base.t ............... ok
Providing an optimized subroutine ref for type constraints is deprecated. Use the inlining feature (inline_as) instead. at /home/test/.cpan/build/Net-HTTP-Spore-0.04-Pfq2ff/blib/lib/Net/HTTP/Spore/Meta/Method.pm line 13
	Net::HTTP::Spore::Meta::Method::BEGIN() called at /home/test/perl5/perlbrew/perls/perl-5.15.3-th-ld/lib/site_perl/5.15.3/MooseX/Types/URI.pm line 0
	eval {...} called at /home/test/perl5/perlbrew/perls/perl-5.15.3-th-ld/lib/site_perl/5.15.3/MooseX/Types/URI.pm line 0
	require Net/HTTP/Spore/Meta/Method.pm called at /home/test/.cpan/build/Net-HTTP-Spore-0.04-Pfq2ff/blib/lib/Net/HTTP/Spore/Meta/Method/Spore.pm line 11
	Net::HTTP::Spore::Meta::Method::Spore::BEGIN() called at /home/test/perl5/perlbrew/perls/perl-5.15.3-th-ld/lib/site_perl/5.15.3/MooseX/Types/URI.pm line 0
	eval {...} called at /home/test/perl5/perlbrew/perls/perl-5.15.3-th-ld/lib/site_perl/5.15.3/MooseX/Types/URI.pm line 0
	require Net/HTTP/Spore/Meta/Method/Spore.pm called at /home/test/perl5/perlbrew/perls/perl-5.15.3-th-ld/lib/site_perl/5.15.3/Class/Load.pm line 217
	Class::Load::__ANON__() called at /home/test/perl5/perlbrew/perls/perl-5.15.3-th-ld/lib/site_perl/5.15.3/Try/Tiny.pm line 71
	eval {...} called at /home/test/perl5/perlbrew/perls/perl-5.15.3-th-ld/lib/site_perl/5.15.3/Try/Tiny.pm line 67
	Try::Tiny::try('CODE(0x2cb6e38)', 'Try::Tiny::Catch=REF(0x2c69c30)') called at /home/test/perl5/perlbrew/perls/perl-5.15.3-th-ld/lib/site_perl/5.15.3/Class/Load.pm line 224
	Class::Load::try_load_class('Net::HTTP::Spore::Meta::Method::Spore', undef) called at /home/test/perl5/perlbrew/perls/perl-5.15.3-th-ld/lib/site_perl/5.15.3/Class/Load.pm line 62
	Class::Load::load_class('Net::HTTP::Spore::Meta::Method::Spore', undef) called at /home/test/perl5/perlbrew/perls/perl-5.15.3-th-ld/lib/site_perl/5.15.3/x86_64-linux-thread-multi-ld/Moose/Util.pm line 132
	Moose::Util::_apply_all_roles('Moose::Meta::Role=HASH(0x2c74ca0)', undef, 'Net::HTTP::Spore::Meta::Method::Spore') called at /home/test/perl5/perlbrew/perls/perl-5.15.3-th-ld/lib/site_perl/5.15.3/x86_64-linux-thread-multi-ld/Moose/Util.pm line 99
	Moose::Util::apply_all_roles('Moose::Meta::Role=HASH(0x2c74ca0)', 'Net::HTTP::Spore::Meta::Method::Spore') called at /home/test/perl5/perlbrew/perls/perl-5.15.3-th-ld/lib/site_perl/5.15.3/x86_64-linux-thread-multi-ld/Moose/Role.pm line 29
	Moose::Role::with('Moose::Meta::Role=HASH(0x2c74ca0)', 'Net::HTTP::Spore::Meta::Method::Spore') called at /home/test/perl5/perlbrew/perls/perl-5.15.3-th-ld/lib/site_perl/5.15.3/x86_64-linux-thread-multi-ld/Moose/Exporter.pm line 370
	Moose::Role::with('Net::HTTP::Spore::Meta::Method::Spore') called at /home/test/.cpan/build/Net-HTTP-Spore-0.04-Pfq2ff/blib/lib/Net/HTTP/Spore/Meta/Class.pm line 10
	require Net/HTTP/Spore/Meta/Class.pm called at /home/test/perl5/perlbrew/perls/perl-5.15.3-th-ld/lib/site_perl/5.15.3/Class/Load.pm line 217
	Class::Load::__ANON__() called at /home/test/perl5/perlbrew/perls/perl-5.15.3-th-ld/lib/site_perl/5.15.3/Try/Tiny.pm line 71
	eval {...} called at /home/test/perl5/perlbrew/perls/perl-5.15.3-th-ld/lib/site_perl/5.15.3/Try/Tiny.pm line 67
	Try::Tiny::try('CODE(0x2c692e8)', 'Try::Tiny::Catch=REF(0x2adfb50)') called at /home/test/perl5/perlbrew/perls/perl-5.15.3-th-ld/lib/site_perl/5.15.3/Class/Load.pm line 224
	Class::Load::try_load_class('Net::HTTP::Spore::Meta::Class', undef) called at /home/test/perl5/perlbrew/perls/perl-5.15.3-th-ld/lib/site_perl/5.15.3/Class/Load.pm line 62
	Class::Load::load_class('Net::HTTP::Spore::Meta::Class', undef) called at /home/test/perl5/perlbrew/perls/perl-5.15.3-th-ld/lib/site_perl/5.15.3/x86_64-linux-thread-multi-ld/Moose/Util.pm line 132
	Moose::Util::_apply_all_roles('Moose::Meta::Class=HASH(0x2c697f8)', undef, 'Net::HTTP::Spore::Meta::Class') called at /home/test/perl5/perlbrew/perls/perl-5.15.3-th-ld/lib/site_perl/5.15.3/x86_64-linux-thread-multi-ld/Moose/Util.pm line 99
	Moose::Util::apply_all_roles('Moose::Meta::Class=HASH(0x2c697f8)', 'Net::HTTP::Spore::Meta::Class') called at /home/test/perl5/perlbrew/perls/perl-5.15.3-th-ld/lib/site_perl/5.15.3/x86_64-linux-thread-multi-ld/Moose/Meta/Class.pm line 104
	Moose::Meta::Class::create('Moose::Meta::Class', 'Moose::Meta::Class::__ANON__::SERIAL::1', 'roles', 'ARRAY(0x2b2ae30)', 'weaken', '', 'superclasses', 'ARRAY(0x2c69330)') called at /home/test/perl5/perlbrew/perls/perl-5.15.3-th-ld/lib/site_perl/5.15.3/x86_64-linux-thread-multi-ld/Class/MOP/Package.pm line 120
	Class::MOP::Package::create_anon('Moose::Meta::Class', 'superclasses', 'ARRAY(0x2c69330)', 'roles', 'ARRAY(0x2b2ae30)', 'cache', 1) called at /home/test/perl5/perlbrew/perls/perl-5.15.3-th-ld/lib/site_perl/5.15.3/x86_64-linux-thread-multi-ld/Class/MOP/Class.pm line 474
	Class::MOP::Class::create_anon_class('Moose::Meta::Class', 'superclasses', 'ARRAY(0x2c69330)', 'roles', 'ARRAY(0x2b2ae30)', 'cache', 1) called at /home/test/perl5/perlbrew/perls/perl-5.15.3-th-ld/lib/site_perl/5.15.3/x86_64-linux-thread-multi-ld/Moose/Util/MetaRole.pm line 134
	Moose::Util::MetaRole::_make_new_class('Moose::Meta::Class', 'ARRAY(0x2b2ae30)') called at /home/test/perl5/perlbrew/perls/perl-5.15.3-th-ld/lib/site_perl/5.15.3/x86_64-linux-thread-multi-ld/Moose/Util/MetaRole.pm line 79
	Moose::Util::MetaRole::_make_new_metaclass('Moose::Meta::Class=HASH(0x2c60d48)', 'HASH(0x2b313f0)', 'class') called at /home/test/perl5/perlbrew/perls/perl-5.15.3-th-ld/lib/site_perl/5.15.3/x86_64-linux-thread-multi-ld/Moose/Util/MetaRole.pm line 28
	Moose::Util::MetaRole::apply_metaroles('for', 'Net::HTTP::Spore::Core', 'class_metaroles', 'HASH(0x2b313f0)') called at /home/test/.cpan/build/Net-HTTP-Spore-0.04-Pfq2ff/blib/lib/Net/HTTP/Spore/Meta.pm line 28
	Net::HTTP::Spore::Meta::init_meta('Net::HTTP::Spore::Meta', 'for_class', 'MooseX::Types::URI', 'metaclass', undef, 'meta_name', 'meta') called at /home/test/perl5/perlbrew/perls/perl-5.15.3-th-ld/lib/site_perl/5.15.3/x86_64-linux-thread-multi-ld/Moose/Exporter.pm line 435
	Moose::Exporter::__ANON__('Net::HTTP::Spore::Meta') called at /home/test/.cpan/build/Net-HTTP-Spore-0.04-Pfq2ff/blib/lib/Net/HTTP/Spore/Core.pm line 6
	Net::HTTP::Spore::Core::BEGIN() called at /home/test/perl5/perlbrew/perls/perl-5.15.3-th-ld/lib/site_perl/5.15.3/MooseX/Types/URI.pm line 0
	eval {...} called at /home/test/perl5/perlbrew/perls/perl-5.15.3-th-ld/lib/site_perl/5.15.3/MooseX/Types/URI.pm line 0
	require Net/HTTP/Spore/Core.pm called at /home/test/.cpan/build/Net-HTTP-Spore-0.04-Pfq2ff/blib/lib/Net/HTTP/Spore.pm line 13
	Net::HTTP::Spore::BEGIN() called at /home/test/perl5/perlbrew/perls/perl-5.15.3-th-ld/lib/site_perl/5.15.3/MooseX/Types/URI.pm line 0
	eval {...} called at /home/test/perl5/perlbrew/perls/perl-5.15.3-th-ld/lib/site_perl/5.15.3/MooseX/Types/URI.pm line 0
	require Net/HTTP/Spore.pm called at t/spore-request/exception.t line 6
	main::BEGIN() called at /home/test/perl5/perlbrew/perls/perl-5.15.3-th-ld/lib/site_perl/5.15.3/MooseX/Types/URI.pm line 0
	eval {...} called at /home/test/perl5/perlbrew/perls/perl-5.15.3-th-ld/lib/site_perl/5.15.3/MooseX/Types/URI.pm line 0
t/spore-request/exception.t .......... ok
t/spore-request/finalize.t ........... ok
Providing an optimized subroutine ref for type constraints is deprecated. Use the inlining feature (inline_as) instead. at /home/test/.cpan/build/Net-HTTP-Spore-0.04-Pfq2ff/blib/lib/Net/HTTP/Spore/Meta/Method.pm line 13
	Net::HTTP::Spore::Meta::Method::BEGIN() called at /home/test/perl5/perlbrew/perls/perl-5.15.3-th-ld/lib/site_perl/5.15.3/MooseX/Types/URI.pm line 0
	eval {...} called at /home/test/perl5/perlbrew/perls/perl-5.15.3-th-ld/lib/site_perl/5.15.3/MooseX/Types/URI.pm line 0
	require Net/HTTP/Spore/Meta/Method.pm called at /home/test/.cpan/build/Net-HTTP-Spore-0.04-Pfq2ff/blib/lib/Net/HTTP/Spore/Meta/Method/Spore.pm line 11
	Net::HTTP::Spore::Meta::Method::Spore::BEGIN() called at /home/test/perl5/perlbrew/perls/perl-5.15.3-th-ld/lib/site_perl/5.15.3/MooseX/Types/URI.pm line 0
	eval {...} called at /home/test/perl5/perlbrew/perls/perl-5.15.3-th-ld/lib/site_perl/5.15.3/MooseX/Types/URI.pm line 0
	require Net/HTTP/Spore/Meta/Method/Spore.pm called at /home/test/perl5/perlbrew/perls/perl-5.15.3-th-ld/lib/site_perl/5.15.3/Class/Load.pm line 217
	Class::Load::__ANON__() called at /home/test/perl5/perlbrew/perls/perl-5.15.3-th-ld/lib/site_perl/5.15.3/Try/Tiny.pm line 71
	eval {...} called at /home/test/perl5/perlbrew/perls/perl-5.15.3-th-ld/lib/site_perl/5.15.3/Try/Tiny.pm line 67
	Try::Tiny::try('CODE(0x2910be0)', 'Try::Tiny::Catch=REF(0x28c4cf8)') called at /home/test/perl5/perlbrew/perls/perl-5.15.3-th-ld/lib/site_perl/5.15.3/Class/Load.pm line 224
	Class::Load::try_load_class('Net::HTTP::Spore::Meta::Method::Spore', undef) called at /home/test/perl5/perlbrew/perls/perl-5.15.3-th-ld/lib/site_perl/5.15.3/Class/Load.pm line 62
	Class::Load::load_class('Net::HTTP::Spore::Meta::Method::Spore', undef) called at /home/test/perl5/perlbrew/perls/perl-5.15.3-th-ld/lib/site_perl/5.15.3/x86_64-linux-thread-multi-ld/Moose/Util.pm line 132
	Moose::Util::_apply_all_roles('Moose::Meta::Role=HASH(0x28cfd88)', undef, 'Net::HTTP::Spore::Meta::Method::Spore') called at /home/test/perl5/perlbrew/perls/perl-5.15.3-th-ld/lib/site_perl/5.15.3/x86_64-linux-thread-multi-ld/Moose/Util.pm line 99
	Moose::Util::apply_all_roles('Moose::Meta::Role=HASH(0x28cfd88)', 'Net::HTTP::Spore::Meta::Method::Spore') called at /home/test/perl5/perlbrew/perls/perl-5.15.3-th-ld/lib/site_perl/5.15.3/x86_64-linux-thread-multi-ld/Moose/Role.pm line 29
	Moose::Role::with('Moose::Meta::Role=HASH(0x28cfd88)', 'Net::HTTP::Spore::Meta::Method::Spore') called at /home/test/perl5/perlbrew/perls/perl-5.15.3-th-ld/lib/site_perl/5.15.3/x86_64-linux-thread-multi-ld/Moose/Exporter.pm line 370
	Moose::Role::with('Net::HTTP::Spore::Meta::Method::Spore') called at /home/test/.cpan/build/Net-HTTP-Spore-0.04-Pfq2ff/blib/lib/Net/HTTP/Spore/Meta/Class.pm line 10
	require Net/HTTP/Spore/Meta/Class.pm called at /home/test/perl5/perlbrew/perls/perl-5.15.3-th-ld/lib/site_perl/5.15.3/Class/Load.pm line 217
	Class::Load::__ANON__() called at /home/test/perl5/perlbrew/perls/perl-5.15.3-th-ld/lib/site_perl/5.15.3/Try/Tiny.pm line 71
	eval {...} called at /home/test/perl5/perlbrew/perls/perl-5.15.3-th-ld/lib/site_perl/5.15.3/Try/Tiny.pm line 67
	Try::Tiny::try('CODE(0x28c43b0)', 'Try::Tiny::Catch=REF(0x273e738)') called at /home/test/perl5/perlbrew/perls/perl-5.15.3-th-ld/lib/site_perl/5.15.3/Class/Load.pm line 224
	Class::Load::try_load_class('Net::HTTP::Spore::Meta::Class', undef) called at /home/test/perl5/perlbrew/perls/perl-5.15.3-th-ld/lib/site_perl/5.15.3/Class/Load.pm line 62
	Class::Load::load_class('Net::HTTP::Spore::Meta::Class', undef) called at /home/test/perl5/perlbrew/perls/perl-5.15.3-th-ld/lib/site_perl/5.15.3/x86_64-linux-thread-multi-ld/Moose/Util.pm line 132
	Moose::Util::_apply_all_roles('Moose::Meta::Class=HASH(0x28c48c0)', undef, 'Net::HTTP::Spore::Meta::Class') called at /home/test/perl5/perlbrew/perls/perl-5.15.3-th-ld/lib/site_perl/5.15.3/x86_64-linux-thread-multi-ld/Moose/Util.pm line 99
	Moose::Util::apply_all_roles('Moose::Meta::Class=HASH(0x28c48c0)', 'Net::HTTP::Spore::Meta::Class') called at /home/test/perl5/perlbrew/perls/perl-5.15.3-th-ld/lib/site_perl/5.15.3/x86_64-linux-thread-multi-ld/Moose/Meta/Class.pm line 104
	Moose::Meta::Class::create('Moose::Meta::Class', 'Moose::Meta::Class::__ANON__::SERIAL::1', 'roles', 'ARRAY(0x2786f98)', 'weaken', '', 'superclasses', 'ARRAY(0x28c43f8)') called at /home/test/perl5/perlbrew/perls/perl-5.15.3-th-ld/lib/site_perl/5.15.3/x86_64-linux-thread-multi-ld/Class/MOP/Package.pm line 120
	Class::MOP::Package::create_anon('Moose::Meta::Class', 'superclasses', 'ARRAY(0x28c43f8)', 'roles', 'ARRAY(0x2786f98)', 'cache', 1) called at /home/test/perl5/perlbrew/perls/perl-5.15.3-th-ld/lib/site_perl/5.15.3/x86_64-linux-thread-multi-ld/Class/MOP/Class.pm line 474
	Class::MOP::Class::create_anon_class('Moose::Meta::Class', 'superclasses', 'ARRAY(0x28c43f8)', 'roles', 'ARRAY(0x2786f98)', 'cache', 1) called at /home/test/perl5/perlbrew/perls/perl-5.15.3-th-ld/lib/site_perl/5.15.3/x86_64-linux-thread-multi-ld/Moose/Util/MetaRole.pm line 134
	Moose::Util::MetaRole::_make_new_class('Moose::Meta::Class', 'ARRAY(0x2786f98)') called at /home/test/perl5/perlbrew/perls/perl-5.15.3-th-ld/lib/site_perl/5.15.3/x86_64-linux-thread-multi-ld/Moose/Util/MetaRole.pm line 79
	Moose::Util::MetaRole::_make_new_metaclass('Moose::Meta::Class=HASH(0x28bbee0)', 'HASH(0x27b56b0)', 'class') called at /home/test/perl5/perlbrew/perls/perl-5.15.3-th-ld/lib/site_perl/5.15.3/x86_64-linux-thread-multi-ld/Moose/Util/MetaRole.pm line 28
	Moose::Util::MetaRole::apply_metaroles('for', 'Net::HTTP::Spore::Core', 'class_metaroles', 'HASH(0x27b56b0)') called at /home/test/.cpan/build/Net-HTTP-Spore-0.04-Pfq2ff/blib/lib/Net/HTTP/Spore/Meta.pm line 28
	Net::HTTP::Spore::Meta::init_meta('Net::HTTP::Spore::Meta', 'for_class', 'MooseX::Types::URI', 'metaclass', undef, 'meta_name', 'meta') called at /home/test/perl5/perlbrew/perls/perl-5.15.3-th-ld/lib/site_perl/5.15.3/x86_64-linux-thread-multi-ld/Moose/Exporter.pm line 435
	Moose::Exporter::__ANON__('Net::HTTP::Spore::Meta') called at /home/test/.cpan/build/Net-HTTP-Spore-0.04-Pfq2ff/blib/lib/Net/HTTP/Spore/Core.pm line 6
	Net::HTTP::Spore::Core::BEGIN() called at /home/test/perl5/perlbrew/perls/perl-5.15.3-th-ld/lib/site_perl/5.15.3/MooseX/Types/URI.pm line 0
	eval {...} called at /home/test/perl5/perlbrew/perls/perl-5.15.3-th-ld/lib/site_perl/5.15.3/MooseX/Types/URI.pm line 0
	require Net/HTTP/Spore/Core.pm called at /home/test/.cpan/build/Net-HTTP-Spore-0.04-Pfq2ff/blib/lib/Net/HTTP/Spore.pm line 13
	Net::HTTP::Spore::BEGIN() called at /home/test/perl5/perlbrew/perls/perl-5.15.3-th-ld/lib/site_perl/5.15.3/MooseX/Types/URI.pm line 0
	eval {...} called at /home/test/perl5/perlbrew/perls/perl-5.15.3-th-ld/lib/site_perl/5.15.3/MooseX/Types/URI.pm line 0
	require Net/HTTP/Spore.pm called at t/spore-request/form_data.t line 5
	main::BEGIN() called at /home/test/perl5/perlbrew/perls/perl-5.15.3-th-ld/lib/site_perl/5.15.3/MooseX/Types/URI.pm line 0
	eval {...} called at /home/test/perl5/perlbrew/perls/perl-5.15.3-th-ld/lib/site_perl/5.15.3/MooseX/Types/URI.pm line 0
t/spore-request/form_data.t .......... ok
Providing an optimized subroutine ref for type constraints is deprecated. Use the inlining feature (inline_as) instead. at /home/test/.cpan/build/Net-HTTP-Spore-0.04-Pfq2ff/blib/lib/Net/HTTP/Spore/Meta/Method.pm line 13
	Net::HTTP::Spore::Meta::Method::BEGIN() called at /home/test/perl5/perlbrew/perls/perl-5.15.3-th-ld/lib/site_perl/5.15.3/MooseX/Types/URI.pm line 0
	eval {...} called at /home/test/perl5/perlbrew/perls/perl-5.15.3-th-ld/lib/site_perl/5.15.3/MooseX/Types/URI.pm line 0
	require Net/HTTP/Spore/Meta/Method.pm called at /home/test/.cpan/build/Net-HTTP-Spore-0.04-Pfq2ff/blib/lib/Net/HTTP/Spore/Meta/Method/Spore.pm line 11
	Net::HTTP::Spore::Meta::Method::Spore::BEGIN() called at /home/test/perl5/perlbrew/perls/perl-5.15.3-th-ld/lib/site_perl/5.15.3/MooseX/Types/URI.pm line 0
	eval {...} called at /home/test/perl5/perlbrew/perls/perl-5.15.3-th-ld/lib/site_perl/5.15.3/MooseX/Types/URI.pm line 0
	require Net/HTTP/Spore/Meta/Method/Spore.pm called at /home/test/perl5/perlbrew/perls/perl-5.15.3-th-ld/lib/site_perl/5.15.3/Class/Load.pm line 217
	Class::Load::__ANON__() called at /home/test/perl5/perlbrew/perls/perl-5.15.3-th-ld/lib/site_perl/5.15.3/Try/Tiny.pm line 71
	eval {...} called at /home/test/perl5/perlbrew/perls/perl-5.15.3-th-ld/lib/site_perl/5.15.3/Try/Tiny.pm line 67
	Try::Tiny::try('CODE(0x1f1f9c8)', 'Try::Tiny::Catch=REF(0x1f1f788)') called at /home/test/perl5/perlbrew/perls/perl-5.15.3-th-ld/lib/site_perl/5.15.3/Class/Load.pm line 224
	Class::Load::try_load_class('Net::HTTP::Spore::Meta::Method::Spore', undef) called at /home/test/perl5/perlbrew/perls/perl-5.15.3-th-ld/lib/site_perl/5.15.3/Class/Load.pm line 62
	Class::Load::load_class('Net::HTTP::Spore::Meta::Method::Spore', undef) called at /home/test/perl5/perlbrew/perls/perl-5.15.3-th-ld/lib/site_perl/5.15.3/x86_64-linux-thread-multi-ld/Moose/Util.pm line 132
	Moose::Util::_apply_all_roles('Moose::Meta::Role=HASH(0x1f1fcc8)', undef, 'Net::HTTP::Spore::Meta::Method::Spore') called at /home/test/perl5/perlbrew/perls/perl-5.15.3-th-ld/lib/site_perl/5.15.3/x86_64-linux-thread-multi-ld/Moose/Util.pm line 99
	Moose::Util::apply_all_roles('Moose::Meta::Role=HASH(0x1f1fcc8)', 'Net::HTTP::Spore::Meta::Method::Spore') called at /home/test/perl5/perlbrew/perls/perl-5.15.3-th-ld/lib/site_perl/5.15.3/x86_64-linux-thread-multi-ld/Moose/Role.pm line 29
	Moose::Role::with('Moose::Meta::Role=HASH(0x1f1fcc8)', 'Net::HTTP::Spore::Meta::Method::Spore') called at /home/test/perl5/perlbrew/perls/perl-5.15.3-th-ld/lib/site_perl/5.15.3/x86_64-linux-thread-multi-ld/Moose/Exporter.pm line 370
	Moose::Role::with('Net::HTTP::Spore::Meta::Method::Spore') called at /home/test/.cpan/build/Net-HTTP-Spore-0.04-Pfq2ff/blib/lib/Net/HTTP/Spore/Meta/Class.pm line 10
	require Net/HTTP/Spore/Meta/Class.pm called at /home/test/perl5/perlbrew/perls/perl-5.15.3-th-ld/lib/site_perl/5.15.3/Class/Load.pm line 217
	Class::Load::__ANON__() called at /home/test/perl5/perlbrew/perls/perl-5.15.3-th-ld/lib/site_perl/5.15.3/Try/Tiny.pm line 71
	eval {...} called at /home/test/perl5/perlbrew/perls/perl-5.15.3-th-ld/lib/site_perl/5.15.3/Try/Tiny.pm line 67
	Try::Tiny::try('CODE(0x1f036b0)', 'Try::Tiny::Catch=REF(0x1da15a0)') called at /home/test/perl5/perlbrew/perls/perl-5.15.3-th-ld/lib/site_perl/5.15.3/Class/Load.pm line 224
	Class::Load::try_load_class('Net::HTTP::Spore::Meta::Class', undef) called at /home/test/perl5/perlbrew/perls/perl-5.15.3-th-ld/lib/site_perl/5.15.3/Class/Load.pm line 62
	Class::Load::load_class('Net::HTTP::Spore::Meta::Class', undef) called at /home/test/perl5/perlbrew/perls/perl-5.15.3-th-ld/lib/site_perl/5.15.3/x86_64-linux-thread-multi-ld/Moose/Util.pm line 132
	Moose::Util::_apply_all_roles('Moose::Meta::Class=HASH(0x1f1f3f8)', undef, 'Net::HTTP::Spore::Meta::Class') called at /home/test/perl5/perlbrew/perls/perl-5.15.3-th-ld/lib/site_perl/5.15.3/x86_64-linux-thread-multi-ld/Moose/Util.pm line 99
	Moose::Util::apply_all_roles('Moose::Meta::Class=HASH(0x1f1f3f8)', 'Net::HTTP::Spore::Meta::Class') called at /home/test/perl5/perlbrew/perls/perl-5.15.3-th-ld/lib/site_perl/5.15.3/x86_64-linux-thread-multi-ld/Moose/Meta/Class.pm line 104
	Moose::Meta::Class::create('Moose::Meta::Class', 'Moose::Meta::Class::__ANON__::SERIAL::4', 'roles', 'ARRAY(0x1dda9f0)', 'weaken', '', 'superclasses', 'ARRAY(0x1f03728)') called at /home/test/perl5/perlbrew/perls/perl-5.15.3-th-ld/lib/site_perl/5.15.3/x86_64-linux-thread-multi-ld/Class/MOP/Package.pm line 120
	Class::MOP::Package::create_anon('Moose::Meta::Class', 'superclasses', 'ARRAY(0x1f03728)', 'roles', 'ARRAY(0x1dda9f0)', 'cache', 1) called at /home/test/perl5/perlbrew/perls/perl-5.15.3-th-ld/lib/site_perl/5.15.3/x86_64-linux-thread-multi-ld/Class/MOP/Class.pm line 474
	Class::MOP::Class::create_anon_class('Moose::Meta::Class', 'superclasses', 'ARRAY(0x1f03728)', 'roles', 'ARRAY(0x1dda9f0)', 'cache', 1) called at /home/test/perl5/perlbrew/perls/perl-5.15.3-th-ld/lib/site_perl/5.15.3/x86_64-linux-thread-multi-ld/Moose/Util/MetaRole.pm line 134
	Moose::Util::MetaRole::_make_new_class('Moose::Meta::Class', 'ARRAY(0x1dda9f0)') called at /home/test/perl5/perlbrew/perls/perl-5.15.3-th-ld/lib/site_perl/5.15.3/x86_64-linux-thread-multi-ld/Moose/Util/MetaRole.pm line 79
	Moose::Util::MetaRole::_make_new_metaclass('Moose::Meta::Class=HASH(0x1f02e28)', 'HASH(0x1e10718)', 'class') called at /home/test/perl5/perlbrew/perls/perl-5.15.3-th-ld/lib/site_perl/5.15.3/x86_64-linux-thread-multi-ld/Moose/Util/MetaRole.pm line 28
	Moose::Util::MetaRole::apply_metaroles('for', 'Net::HTTP::Spore::Core', 'class_metaroles', 'HASH(0x1e10718)') called at /home/test/.cpan/build/Net-HTTP-Spore-0.04-Pfq2ff/blib/lib/Net/HTTP/Spore/Meta.pm line 28
	Net::HTTP::Spore::Meta::init_meta('Net::HTTP::Spore::Meta', 'for_class', 'MooseX::Types::URI', 'metaclass', undef, 'meta_name', 'meta') called at /home/test/perl5/perlbrew/perls/perl-5.15.3-th-ld/lib/site_perl/5.15.3/x86_64-linux-thread-multi-ld/Moose/Exporter.pm line 435
	Moose::Exporter::__ANON__('Net::HTTP::Spore::Meta') called at /home/test/.cpan/build/Net-HTTP-Spore-0.04-Pfq2ff/blib/lib/Net/HTTP/Spore/Core.pm line 6
	Net::HTTP::Spore::Core::BEGIN() called at /home/test/perl5/perlbrew/perls/perl-5.15.3-th-ld/lib/site_perl/5.15.3/MooseX/Types/URI.pm line 0
	eval {...} called at /home/test/perl5/perlbrew/perls/perl-5.15.3-th-ld/lib/site_perl/5.15.3/MooseX/Types/URI.pm line 0
	require Net/HTTP/Spore/Core.pm called at /home/test/.cpan/build/Net-HTTP-Spore-0.04-Pfq2ff/blib/lib/Net/HTTP/Spore.pm line 13
	Net::HTTP::Spore::BEGIN() called at /home/test/perl5/perlbrew/perls/perl-5.15.3-th-ld/lib/site_perl/5.15.3/MooseX/Types/URI.pm line 0
	eval {...} called at /home/test/perl5/perlbrew/perls/perl-5.15.3-th-ld/lib/site_perl/5.15.3/MooseX/Types/URI.pm line 0
	require Net/HTTP/Spore.pm called at t/spore-request/headers.t line 6
	main::BEGIN() called at /home/test/perl5/perlbrew/perls/perl-5.15.3-th-ld/lib/site_perl/5.15.3/MooseX/Types/URI.pm line 0
	eval {...} called at /home/test/perl5/perlbrew/perls/perl-5.15.3-th-ld/lib/site_perl/5.15.3/MooseX/Types/URI.pm line 0
t/spore-request/headers.t ............ ok
t/spore-request/new.t ................ ok
t/spore-request/request_uri.t ........ ok
t/spore-request/script_name.t ........ ok
t/spore-request/uri.t ................ ok
t/spore-response/body.t .............. ok
Providing an optimized subroutine ref for type constraints is deprecated. Use the inlining feature (inline_as) instead. at /home/test/.cpan/build/Net-HTTP-Spore-0.04-Pfq2ff/blib/lib/Net/HTTP/Spore/Meta/Method.pm line 13
	Net::HTTP::Spore::Meta::Method::BEGIN() called at /home/test/perl5/perlbrew/perls/perl-5.15.3-th-ld/lib/site_perl/5.15.3/MooseX/Types/URI.pm line 0
	eval {...} called at /home/test/perl5/perlbrew/perls/perl-5.15.3-th-ld/lib/site_perl/5.15.3/MooseX/Types/URI.pm line 0
	require Net/HTTP/Spore/Meta/Method.pm called at /home/test/.cpan/build/Net-HTTP-Spore-0.04-Pfq2ff/blib/lib/Net/HTTP/Spore/Meta/Method/Spore.pm line 11
	Net::HTTP::Spore::Meta::Method::Spore::BEGIN() called at /home/test/perl5/perlbrew/perls/perl-5.15.3-th-ld/lib/site_perl/5.15.3/MooseX/Types/URI.pm line 0
	eval {...} called at /home/test/perl5/perlbrew/perls/perl-5.15.3-th-ld/lib/site_perl/5.15.3/MooseX/Types/URI.pm line 0
	require Net/HTTP/Spore/Meta/Method/Spore.pm called at /home/test/perl5/perlbrew/perls/perl-5.15.3-th-ld/lib/site_perl/5.15.3/Class/Load.pm line 217
	Class::Load::__ANON__() called at /home/test/perl5/perlbrew/perls/perl-5.15.3-th-ld/lib/site_perl/5.15.3/Try/Tiny.pm line 71
	eval {...} called at /home/test/perl5/perlbrew/perls/perl-5.15.3-th-ld/lib/site_perl/5.15.3/Try/Tiny.pm line 67
	Try::Tiny::try('CODE(0x34c0bf0)', 'Try::Tiny::Catch=REF(0x3474d48)') called at /home/test/perl5/perlbrew/perls/perl-5.15.3-th-ld/lib/site_perl/5.15.3/Class/Load.pm line 224
	Class::Load::try_load_class('Net::HTTP::Spore::Meta::Method::Spore', undef) called at /home/test/perl5/perlbrew/perls/perl-5.15.3-th-ld/lib/site_perl/5.15.3/Class/Load.pm line 62
	Class::Load::load_class('Net::HTTP::Spore::Meta::Method::Spore', undef) called at /home/test/perl5/perlbrew/perls/perl-5.15.3-th-ld/lib/site_perl/5.15.3/x86_64-linux-thread-multi-ld/Moose/Util.pm line 132
	Moose::Util::_apply_all_roles('Moose::Meta::Role=HASH(0x347fdd8)', undef, 'Net::HTTP::Spore::Meta::Method::Spore') called at /home/test/perl5/perlbrew/perls/perl-5.15.3-th-ld/lib/site_perl/5.15.3/x86_64-linux-thread-multi-ld/Moose/Util.pm line 99
	Moose::Util::apply_all_roles('Moose::Meta::Role=HASH(0x347fdd8)', 'Net::HTTP::Spore::Meta::Method::Spore') called at /home/test/perl5/perlbrew/perls/perl-5.15.3-th-ld/lib/site_perl/5.15.3/x86_64-linux-thread-multi-ld/Moose/Role.pm line 29
	Moose::Role::with('Moose::Meta::Role=HASH(0x347fdd8)', 'Net::HTTP::Spore::Meta::Method::Spore') called at /home/test/perl5/perlbrew/perls/perl-5.15.3-th-ld/lib/site_perl/5.15.3/x86_64-linux-thread-multi-ld/Moose/Exporter.pm line 370
	Moose::Role::with('Net::HTTP::Spore::Meta::Method::Spore') called at /home/test/.cpan/build/Net-HTTP-Spore-0.04-Pfq2ff/blib/lib/Net/HTTP/Spore/Meta/Class.pm line 10
	require Net/HTTP/Spore/Meta/Class.pm called at /home/test/perl5/perlbrew/perls/perl-5.15.3-th-ld/lib/site_perl/5.15.3/Class/Load.pm line 217
	Class::Load::__ANON__() called at /home/test/perl5/perlbrew/perls/perl-5.15.3-th-ld/lib/site_perl/5.15.3/Try/Tiny.pm line 71
	eval {...} called at /home/test/perl5/perlbrew/perls/perl-5.15.3-th-ld/lib/site_perl/5.15.3/Try/Tiny.pm line 67
	Try::Tiny::try('CODE(0x3474400)', 'Try::Tiny::Catch=REF(0x32ee828)') called at /home/test/perl5/perlbrew/perls/perl-5.15.3-th-ld/lib/site_perl/5.15.3/Class/Load.pm line 224
	Class::Load::try_load_class('Net::HTTP::Spore::Meta::Class', undef) called at /home/test/perl5/perlbrew/perls/perl-5.15.3-th-ld/lib/site_perl/5.15.3/Class/Load.pm line 62
	Class::Load::load_class('Net::HTTP::Spore::Meta::Class', undef) called at /home/test/perl5/perlbrew/perls/perl-5.15.3-th-ld/lib/site_perl/5.15.3/x86_64-linux-thread-multi-ld/Moose/Util.pm line 132
	Moose::Util::_apply_all_roles('Moose::Meta::Class=HASH(0x3474910)', undef, 'Net::HTTP::Spore::Meta::Class') called at /home/test/perl5/perlbrew/perls/perl-5.15.3-th-ld/lib/site_perl/5.15.3/x86_64-linux-thread-multi-ld/Moose/Util.pm line 99
	Moose::Util::apply_all_roles('Moose::Meta::Class=HASH(0x3474910)', 'Net::HTTP::Spore::Meta::Class') called at /home/test/perl5/perlbrew/perls/perl-5.15.3-th-ld/lib/site_perl/5.15.3/x86_64-linux-thread-multi-ld/Moose/Meta/Class.pm line 104
	Moose::Meta::Class::create('Moose::Meta::Class', 'Moose::Meta::Class::__ANON__::SERIAL::1', 'roles', 'ARRAY(0x3337008)', 'weaken', '', 'superclasses', 'ARRAY(0x3474448)') called at /home/test/perl5/perlbrew/perls/perl-5.15.3-th-ld/lib/site_perl/5.15.3/x86_64-linux-thread-multi-ld/Class/MOP/Package.pm line 120
	Class::MOP::Package::create_anon('Moose::Meta::Class', 'superclasses', 'ARRAY(0x3474448)', 'roles', 'ARRAY(0x3337008)', 'cache', 1) called at /home/test/perl5/perlbrew/perls/perl-5.15.3-th-ld/lib/site_perl/5.15.3/x86_64-linux-thread-multi-ld/Class/MOP/Class.pm line 474
	Class::MOP::Class::create_anon_class('Moose::Meta::Class', 'superclasses', 'ARRAY(0x3474448)', 'roles', 'ARRAY(0x3337008)', 'cache', 1) called at /home/test/perl5/perlbrew/perls/perl-5.15.3-th-ld/lib/site_perl/5.15.3/x86_64-linux-thread-multi-ld/Moose/Util/MetaRole.pm line 134
	Moose::Util::MetaRole::_make_new_class('Moose::Meta::Class', 'ARRAY(0x3337008)') called at /home/test/perl5/perlbrew/perls/perl-5.15.3-th-ld/lib/site_perl/5.15.3/x86_64-linux-thread-multi-ld/Moose/Util/MetaRole.pm line 79
	Moose::Util::MetaRole::_make_new_metaclass('Moose::Meta::Class=HASH(0x346bf30)', 'HASH(0x3365700)', 'class') called at /home/test/perl5/perlbrew/perls/perl-5.15.3-th-ld/lib/site_perl/5.15.3/x86_64-linux-thread-multi-ld/Moose/Util/MetaRole.pm line 28
	Moose::Util::MetaRole::apply_metaroles('for', 'Net::HTTP::Spore::Core', 'class_metaroles', 'HASH(0x3365700)') called at /home/test/.cpan/build/Net-HTTP-Spore-0.04-Pfq2ff/blib/lib/Net/HTTP/Spore/Meta.pm line 28
	Net::HTTP::Spore::Meta::init_meta('Net::HTTP::Spore::Meta', 'for_class', 'MooseX::Types::URI', 'metaclass', undef, 'meta_name', 'meta') called at /home/test/perl5/perlbrew/perls/perl-5.15.3-th-ld/lib/site_perl/5.15.3/x86_64-linux-thread-multi-ld/Moose/Exporter.pm line 435
	Moose::Exporter::__ANON__('Net::HTTP::Spore::Meta') called at /home/test/.cpan/build/Net-HTTP-Spore-0.04-Pfq2ff/blib/lib/Net/HTTP/Spore/Core.pm line 6
	Net::HTTP::Spore::Core::BEGIN() called at /home/test/perl5/perlbrew/perls/perl-5.15.3-th-ld/lib/site_perl/5.15.3/MooseX/Types/URI.pm line 0
	eval {...} called at /home/test/perl5/perlbrew/perls/perl-5.15.3-th-ld/lib/site_perl/5.15.3/MooseX/Types/URI.pm line 0
	require Net/HTTP/Spore/Core.pm called at /home/test/.cpan/build/Net-HTTP-Spore-0.04-Pfq2ff/blib/lib/Net/HTTP/Spore.pm line 13
	Net::HTTP::Spore::BEGIN() called at /home/test/perl5/perlbrew/perls/perl-5.15.3-th-ld/lib/site_perl/5.15.3/MooseX/Types/URI.pm line 0
	eval {...} called at /home/test/perl5/perlbrew/perls/perl-5.15.3-th-ld/lib/site_perl/5.15.3/MooseX/Types/URI.pm line 0
	require Net/HTTP/Spore.pm called at t/spore-response/debug.t line 4
	main::BEGIN() called at /home/test/perl5/perlbrew/perls/perl-5.15.3-th-ld/lib/site_perl/5.15.3/MooseX/Types/URI.pm line 0
	eval {...} called at /home/test/perl5/perlbrew/perls/perl-5.15.3-th-ld/lib/site_perl/5.15.3/MooseX/Types/URI.pm line 0
t/spore-response/debug.t ............. ok
t/spore-response/headers.t ........... ok
t/spore-response/new.t ............... ok
t/spore-response/response.t .......... ok
t/spore-response/timeout.t ........... ok
Providing an optimized subroutine ref for type constraints is deprecated. Use the inlining feature (inline_as) instead. at /home/test/.cpan/build/Net-HTTP-Spore-0.04-Pfq2ff/blib/lib/Net/HTTP/Spore/Meta/Method.pm line 13
	Net::HTTP::Spore::Meta::Method::BEGIN() called at /home/test/perl5/perlbrew/perls/perl-5.15.3-th-ld/lib/site_perl/5.15.3/MooseX/Types/URI.pm line 0
	eval {...} called at /home/test/perl5/perlbrew/perls/perl-5.15.3-th-ld/lib/site_perl/5.15.3/MooseX/Types/URI.pm line 0
	require Net/HTTP/Spore/Meta/Method.pm called at /home/test/.cpan/build/Net-HTTP-Spore-0.04-Pfq2ff/blib/lib/Net/HTTP/Spore/Meta/Method/Spore.pm line 11
	Net::HTTP::Spore::Meta::Method::Spore::BEGIN() called at /home/test/perl5/perlbrew/perls/perl-5.15.3-th-ld/lib/site_perl/5.15.3/MooseX/Types/URI.pm line 0
	eval {...} called at /home/test/perl5/perlbrew/perls/perl-5.15.3-th-ld/lib/site_perl/5.15.3/MooseX/Types/URI.pm line 0
	require Net/HTTP/Spore/Meta/Method/Spore.pm called at /home/test/perl5/perlbrew/perls/perl-5.15.3-th-ld/lib/site_perl/5.15.3/Class/Load.pm line 217
	Class::Load::__ANON__() called at /home/test/perl5/perlbrew/perls/perl-5.15.3-th-ld/lib/site_perl/5.15.3/Try/Tiny.pm line 71
	eval {...} called at /home/test/perl5/perlbrew/perls/perl-5.15.3-th-ld/lib/site_perl/5.15.3/Try/Tiny.pm line 67
	Try::Tiny::try('CODE(0x3231518)', 'Try::Tiny::Catch=REF(0x3220768)') called at /home/test/perl5/perlbrew/perls/perl-5.15.3-th-ld/lib/site_perl/5.15.3/Class/Load.pm line 224
	Class::Load::try_load_class('Net::HTTP::Spore::Meta::Method::Spore', undef) called at /home/test/perl5/perlbrew/perls/perl-5.15.3-th-ld/lib/site_perl/5.15.3/Class/Load.pm line 62
	Class::Load::load_class('Net::HTTP::Spore::Meta::Method::Spore', undef) called at /home/test/perl5/perlbrew/perls/perl-5.15.3-th-ld/lib/site_perl/5.15.3/x86_64-linux-thread-multi-ld/Moose/Util.pm line 132
	Moose::Util::_apply_all_roles('Moose::Meta::Role=HASH(0x3225760)', undef, 'Net::HTTP::Spore::Meta::Method::Spore') called at /home/test/perl5/perlbrew/perls/perl-5.15.3-th-ld/lib/site_perl/5.15.3/x86_64-linux-thread-multi-ld/Moose/Util.pm line 99
	Moose::Util::apply_all_roles('Moose::Meta::Role=HASH(0x3225760)', 'Net::HTTP::Spore::Meta::Method::Spore') called at /home/test/perl5/perlbrew/perls/perl-5.15.3-th-ld/lib/site_perl/5.15.3/x86_64-linux-thread-multi-ld/Moose/Role.pm line 29
	Moose::Role::with('Moose::Meta::Role=HASH(0x3225760)', 'Net::HTTP::Spore::Meta::Method::Spore') called at /home/test/perl5/perlbrew/perls/perl-5.15.3-th-ld/lib/site_perl/5.15.3/x86_64-linux-thread-multi-ld/Moose/Exporter.pm line 370
	Moose::Role::with('Net::HTTP::Spore::Meta::Method::Spore') called at /home/test/.cpan/build/Net-HTTP-Spore-0.04-Pfq2ff/blib/lib/Net/HTTP/Spore/Meta/Class.pm line 10
	require Net/HTTP/Spore/Meta/Class.pm called at /home/test/perl5/perlbrew/perls/perl-5.15.3-th-ld/lib/site_perl/5.15.3/Class/Load.pm line 217
	Class::Load::__ANON__() called at /home/test/perl5/perlbrew/perls/perl-5.15.3-th-ld/lib/site_perl/5.15.3/Try/Tiny.pm line 71
	eval {...} called at /home/test/perl5/perlbrew/perls/perl-5.15.3-th-ld/lib/site_perl/5.15.3/Try/Tiny.pm line 67
	Try::Tiny::try('CODE(0x321fe20)', 'Try::Tiny::Catch=REF(0x3077540)') called at /home/test/perl5/perlbrew/perls/perl-5.15.3-th-ld/lib/site_perl/5.15.3/Class/Load.pm line 224
	Class::Load::try_load_class('Net::HTTP::Spore::Meta::Class', undef) called at /home/test/perl5/perlbrew/perls/perl-5.15.3-th-ld/lib/site_perl/5.15.3/Class/Load.pm line 62
	Class::Load::load_class('Net::HTTP::Spore::Meta::Class', undef) called at /home/test/perl5/perlbrew/perls/perl-5.15.3-th-ld/lib/site_perl/5.15.3/x86_64-linux-thread-multi-ld/Moose/Util.pm line 132
	Moose::Util::_apply_all_roles('Moose::Meta::Class=HASH(0x3220330)', undef, 'Net::HTTP::Spore::Meta::Class') called at /home/test/perl5/perlbrew/perls/perl-5.15.3-th-ld/lib/site_perl/5.15.3/x86_64-linux-thread-multi-ld/Moose/Util.pm line 99
	Moose::Util::apply_all_roles('Moose::Meta::Class=HASH(0x3220330)', 'Net::HTTP::Spore::Meta::Class') called at /home/test/perl5/perlbrew/perls/perl-5.15.3-th-ld/lib/site_perl/5.15.3/x86_64-linux-thread-multi-ld/Moose/Meta/Class.pm line 104
	Moose::Meta::Class::create('Moose::Meta::Class', 'Moose::Meta::Class::__ANON__::SERIAL::1', 'roles', 'ARRAY(0x3155938)', 'weaken', '', 'superclasses', 'ARRAY(0x321fe68)') called at /home/test/perl5/perlbrew/perls/perl-5.15.3-th-ld/lib/site_perl/5.15.3/x86_64-linux-thread-multi-ld/Class/MOP/Package.pm line 120
	Class::MOP::Package::create_anon('Moose::Meta::Class', 'superclasses', 'ARRAY(0x321fe68)', 'roles', 'ARRAY(0x3155938)', 'cache', 1) called at /home/test/perl5/perlbrew/perls/perl-5.15.3-th-ld/lib/site_perl/5.15.3/x86_64-linux-thread-multi-ld/Class/MOP/Class.pm line 474
	Class::MOP::Class::create_anon_class('Moose::Meta::Class', 'superclasses', 'ARRAY(0x321fe68)', 'roles', 'ARRAY(0x3155938)', 'cache', 1) called at /home/test/perl5/perlbrew/perls/perl-5.15.3-th-ld/lib/site_perl/5.15.3/x86_64-linux-thread-multi-ld/Moose/Util/MetaRole.pm line 134
	Moose::Util::MetaRole::_make_new_class('Moose::Meta::Class', 'ARRAY(0x3155938)') called at /home/test/perl5/perlbrew/perls/perl-5.15.3-th-ld/lib/site_perl/5.15.3/x86_64-linux-thread-multi-ld/Moose/Util/MetaRole.pm line 79
	Moose::Util::MetaRole::_make_new_metaclass('Moose::Meta::Class=HASH(0x321c410)', 'HASH(0x3155860)', 'class') called at /home/test/perl5/perlbrew/perls/perl-5.15.3-th-ld/lib/site_perl/5.15.3/x86_64-linux-thread-multi-ld/Moose/Util/MetaRole.pm line 28
	Moose::Util::MetaRole::apply_metaroles('for', 'Net::HTTP::Spore::Core', 'class_metaroles', 'HASH(0x3155860)') called at /home/test/.cpan/build/Net-HTTP-Spore-0.04-Pfq2ff/blib/lib/Net/HTTP/Spore/Meta.pm line 28
	Net::HTTP::Spore::Meta::init_meta('Net::HTTP::Spore::Meta', 'for_class', 'MooseX::Types::URI', 'metaclass', undef, 'meta_name', 'meta') called at /home/test/perl5/perlbrew/perls/perl-5.15.3-th-ld/lib/site_perl/5.15.3/x86_64-linux-thread-multi-ld/Moose/Exporter.pm line 435
	Moose::Exporter::__ANON__('Net::HTTP::Spore::Meta') called at /home/test/.cpan/build/Net-HTTP-Spore-0.04-Pfq2ff/blib/lib/Net/HTTP/Spore/Core.pm line 6
	Net::HTTP::Spore::Core::BEGIN() called at /home/test/perl5/perlbrew/perls/perl-5.15.3-th-ld/lib/site_perl/5.15.3/MooseX/Types/URI.pm line 0
	eval {...} called at /home/test/perl5/perlbrew/perls/perl-5.15.3-th-ld/lib/site_perl/5.15.3/MooseX/Types/URI.pm line 0
	require Net/HTTP/Spore/Core.pm called at /home/test/.cpan/build/Net-HTTP-Spore-0.04-Pfq2ff/blib/lib/Net/HTTP/Spore.pm line 13
	Net::HTTP::Spore::BEGIN() called at /home/test/perl5/perlbrew/perls/perl-5.15.3-th-ld/lib/site_perl/5.15.3/MooseX/Types/URI.pm line 0
	eval {...} called at /home/test/perl5/perlbrew/perls/perl-5.15.3-th-ld/lib/site_perl/5.15.3/MooseX/Types/URI.pm line 0
	require Net/HTTP/Spore.pm called at /home/test/.cpan/build/Net-HTTP-Spore-0.04-Pfq2ff/blib/lib/Net/HTTP/Spore/Role.pm line 9
	Net::HTTP::Spore::Role::BEGIN() called at /home/test/perl5/perlbrew/perls/perl-5.15.3-th-ld/lib/site_perl/5.15.3/MooseX/Types/URI.pm line 0
	eval {...} called at /home/test/perl5/perlbrew/perls/perl-5.15.3-th-ld/lib/site_perl/5.15.3/MooseX/Types/URI.pm line 0
	require Net/HTTP/Spore/Role.pm called at /home/test/perl5/perlbrew/perls/perl-5.15.3-th-ld/lib/site_perl/5.15.3/Class/Load.pm line 217
	Class::Load::__ANON__() called at /home/test/perl5/perlbrew/perls/perl-5.15.3-th-ld/lib/site_perl/5.15.3/Try/Tiny.pm line 71
	eval {...} called at /home/test/perl5/perlbrew/perls/perl-5.15.3-th-ld/lib/site_perl/5.15.3/Try/Tiny.pm line 67
	Try::Tiny::try('CODE(0x2e516d0)', 'Try::Tiny::Catch=REF(0x2fd3f20)') called at /home/test/perl5/perlbrew/perls/perl-5.15.3-th-ld/lib/site_perl/5.15.3/Class/Load.pm line 224
	Class::Load::try_load_class('Net::HTTP::Spore::Role', 'HASH(0x2fdcb48)') called at /home/test/perl5/perlbrew/perls/perl-5.15.3-th-ld/lib/site_perl/5.15.3/Class/Load.pm line 62
	Class::Load::load_class('Net::HTTP::Spore::Role', 'HASH(0x2fdcb48)') called at /home/test/perl5/perlbrew/perls/perl-5.15.3-th-ld/lib/site_perl/5.15.3/x86_64-linux-thread-multi-ld/Moose/Util.pm line 132
	Moose::Util::_apply_all_roles('Moose::Meta::Class=HASH(0x2e63c00)', undef, 'Net::HTTP::Spore::Role', 'HASH(0x2fdcb48)') called at /home/test/perl5/perlbrew/perls/perl-5.15.3-th-ld/lib/site_perl/5.15.3/x86_64-linux-thread-multi-ld/Moose/Util.pm line 99
	Moose::Util::apply_all_roles('Moose::Meta::Class=HASH(0x2e63c00)', 'Net::HTTP::Spore::Role', 'HASH(0x2fdcb48)') called at /home/test/perl5/perlbrew/perls/perl-5.15.3-th-ld/lib/site_perl/5.15.3/x86_64-linux-thread-multi-ld/Moose.pm line 67
	Moose::with('Moose::Meta::Class=HASH(0x2e63c00)', 'Net::HTTP::Spore::Role', 'HASH(0x2fdcb48)') called at /home/test/perl5/perlbrew/perls/perl-5.15.3-th-ld/lib/site_perl/5.15.3/x86_64-linux-thread-multi-ld/Moose/Exporter.pm line 370
	Moose::with('Net::HTTP::Spore::Role', 'HASH(0x2fdcb48)') called at t/spore-role/basic.t line 21
t/spore-role/basic.t ................. ok
Providing an optimized subroutine ref for type constraints is deprecated. Use the inlining feature (inline_as) instead. at /home/test/.cpan/build/Net-HTTP-Spore-0.04-Pfq2ff/blib/lib/Net/HTTP/Spore/Meta/Method.pm line 13
	Net::HTTP::Spore::Meta::Method::BEGIN() called at /home/test/perl5/perlbrew/perls/perl-5.15.3-th-ld/lib/site_perl/5.15.3/MooseX/Types/URI.pm line 0
	eval {...} called at /home/test/perl5/perlbrew/perls/perl-5.15.3-th-ld/lib/site_perl/5.15.3/MooseX/Types/URI.pm line 0
	require Net/HTTP/Spore/Meta/Method.pm called at /home/test/.cpan/build/Net-HTTP-Spore-0.04-Pfq2ff/blib/lib/Net/HTTP/Spore/Meta/Method/Spore.pm line 11
	Net::HTTP::Spore::Meta::Method::Spore::BEGIN() called at /home/test/perl5/perlbrew/perls/perl-5.15.3-th-ld/lib/site_perl/5.15.3/MooseX/Types/URI.pm line 0
	eval {...} called at /home/test/perl5/perlbrew/perls/perl-5.15.3-th-ld/lib/site_perl/5.15.3/MooseX/Types/URI.pm line 0
	require Net/HTTP/Spore/Meta/Method/Spore.pm called at /home/test/perl5/perlbrew/perls/perl-5.15.3-th-ld/lib/site_perl/5.15.3/Class/Load.pm line 217
	Class::Load::__ANON__() called at /home/test/perl5/perlbrew/perls/perl-5.15.3-th-ld/lib/site_perl/5.15.3/Try/Tiny.pm line 71
	eval {...} called at /home/test/perl5/perlbrew/perls/perl-5.15.3-th-ld/lib/site_perl/5.15.3/Try/Tiny.pm line 67
	Try::Tiny::try('CODE(0x204ebe8)', 'Try::Tiny::Catch=REF(0x2026000)') called at /home/test/perl5/perlbrew/perls/perl-5.15.3-th-ld/lib/site_perl/5.15.3/Class/Load.pm line 224
	Class::Load::try_load_class('Net::HTTP::Spore::Meta::Method::Spore', undef) called at /home/test/perl5/perlbrew/perls/perl-5.15.3-th-ld/lib/site_perl/5.15.3/Class/Load.pm line 62
	Class::Load::load_class('Net::HTTP::Spore::Meta::Method::Spore', undef) called at /home/test/perl5/perlbrew/perls/perl-5.15.3-th-ld/lib/site_perl/5.15.3/x86_64-linux-thread-multi-ld/Moose/Util.pm line 132
	Moose::Util::_apply_all_roles('Moose::Meta::Role=HASH(0x2036668)', undef, 'Net::HTTP::Spore::Meta::Method::Spore') called at /home/test/perl5/perlbrew/perls/perl-5.15.3-th-ld/lib/site_perl/5.15.3/x86_64-linux-thread-multi-ld/Moose/Util.pm line 99
	Moose::Util::apply_all_roles('Moose::Meta::Role=HASH(0x2036668)', 'Net::HTTP::Spore::Meta::Method::Spore') called at /home/test/perl5/perlbrew/perls/perl-5.15.3-th-ld/lib/site_perl/5.15.3/x86_64-linux-thread-multi-ld/Moose/Role.pm line 29
	Moose::Role::with('Moose::Meta::Role=HASH(0x2036668)', 'Net::HTTP::Spore::Meta::Method::Spore') called at /home/test/perl5/perlbrew/perls/perl-5.15.3-th-ld/lib/site_perl/5.15.3/x86_64-linux-thread-multi-ld/Moose/Exporter.pm line 370
	Moose::Role::with('Net::HTTP::Spore::Meta::Method::Spore') called at /home/test/.cpan/build/Net-HTTP-Spore-0.04-Pfq2ff/blib/lib/Net/HTTP/Spore/Meta/Class.pm line 10
	require Net/HTTP/Spore/Meta/Class.pm called at /home/test/perl5/perlbrew/perls/perl-5.15.3-th-ld/lib/site_perl/5.15.3/Class/Load.pm line 217
	Class::Load::__ANON__() called at /home/test/perl5/perlbrew/perls/perl-5.15.3-th-ld/lib/site_perl/5.15.3/Try/Tiny.pm line 71
	eval {...} called at /home/test/perl5/perlbrew/perls/perl-5.15.3-th-ld/lib/site_perl/5.15.3/Try/Tiny.pm line 67
	Try::Tiny::try('CODE(0x2021de8)', 'Try::Tiny::Catch=REF(0x1ffc250)') called at /home/test/perl5/perlbrew/perls/perl-5.15.3-th-ld/lib/site_perl/5.15.3/Class/Load.pm line 224
	Class::Load::try_load_class('Net::HTTP::Spore::Meta::Class', undef) called at /home/test/perl5/perlbrew/perls/perl-5.15.3-th-ld/lib/site_perl/5.15.3/Class/Load.pm line 62
	Class::Load::load_class('Net::HTTP::Spore::Meta::Class', undef) called at /home/test/perl5/perlbrew/perls/perl-5.15.3-th-ld/lib/site_perl/5.15.3/x86_64-linux-thread-multi-ld/Moose/Util.pm line 132
	Moose::Util::_apply_all_roles('Moose::Meta::Class=HASH(0x2025bb0)', undef, 'Net::HTTP::Spore::Meta::Class') called at /home/test/perl5/perlbrew/perls/perl-5.15.3-th-ld/lib/site_perl/5.15.3/x86_64-linux-thread-multi-ld/Moose/Util.pm line 99
	Moose::Util::apply_all_roles('Moose::Meta::Class=HASH(0x2025bb0)', 'Net::HTTP::Spore::Meta::Class') called at /home/test/perl5/perlbrew/perls/perl-5.15.3-th-ld/lib/site_perl/5.15.3/x86_64-linux-thread-multi-ld/Moose/Meta/Class.pm line 104
	Moose::Meta::Class::create('Moose::Meta::Class', 'Moose::Meta::Class::__ANON__::SERIAL::1', 'roles', 'ARRAY(0x2005970)', 'weaken', '', 'superclasses', 'ARRAY(0x2021e30)') called at /home/test/perl5/perlbrew/perls/perl-5.15.3-th-ld/lib/site_perl/5.15.3/x86_64-linux-thread-multi-ld/Class/MOP/Package.pm line 120
	Class::MOP::Package::create_anon('Moose::Meta::Class', 'superclasses', 'ARRAY(0x2021e30)', 'roles', 'ARRAY(0x2005970)', 'cache', 1) called at /home/test/perl5/perlbrew/perls/perl-5.15.3-th-ld/lib/site_perl/5.15.3/x86_64-linux-thread-multi-ld/Class/MOP/Class.pm line 474
	Class::MOP::Class::create_anon_class('Moose::Meta::Class', 'superclasses', 'ARRAY(0x2021e30)', 'roles', 'ARRAY(0x2005970)', 'cache', 1) called at /home/test/perl5/perlbrew/perls/perl-5.15.3-th-ld/lib/site_perl/5.15.3/x86_64-linux-thread-multi-ld/Moose/Util/MetaRole.pm line 134
	Moose::Util::MetaRole::_make_new_class('Moose::Meta::Class', 'ARRAY(0x2005970)') called at /home/test/perl5/perlbrew/perls/perl-5.15.3-th-ld/lib/site_perl/5.15.3/x86_64-linux-thread-multi-ld/Moose/Util/MetaRole.pm line 79
	Moose::Util::MetaRole::_make_new_metaclass('Moose::Meta::Class=HASH(0x2021518)', 'HASH(0x2005ad8)', 'class') called at /home/test/perl5/perlbrew/perls/perl-5.15.3-th-ld/lib/site_perl/5.15.3/x86_64-linux-thread-multi-ld/Moose/Util/MetaRole.pm line 28
	Moose::Util::MetaRole::apply_metaroles('for', 'Net::HTTP::Spore::Core', 'class_metaroles', 'HASH(0x2005ad8)') called at /home/test/.cpan/build/Net-HTTP-Spore-0.04-Pfq2ff/blib/lib/Net/HTTP/Spore/Meta.pm line 28
	Net::HTTP::Spore::Meta::init_meta('Net::HTTP::Spore::Meta', 'for_class', 'MooseX::Types::URI', 'metaclass', undef, 'meta_name', 'meta') called at /home/test/perl5/perlbrew/perls/perl-5.15.3-th-ld/lib/site_perl/5.15.3/x86_64-linux-thread-multi-ld/Moose/Exporter.pm line 435
	Moose::Exporter::__ANON__('Net::HTTP::Spore::Meta') called at /home/test/.cpan/build/Net-HTTP-Spore-0.04-Pfq2ff/blib/lib/Net/HTTP/Spore/Core.pm line 6
	Net::HTTP::Spore::Core::BEGIN() called at /home/test/perl5/perlbrew/perls/perl-5.15.3-th-ld/lib/site_perl/5.15.3/MooseX/Types/URI.pm line 0
	eval {...} called at /home/test/perl5/perlbrew/perls/perl-5.15.3-th-ld/lib/site_perl/5.15.3/MooseX/Types/URI.pm line 0
	require Net/HTTP/Spore/Core.pm called at /home/test/.cpan/build/Net-HTTP-Spore-0.04-Pfq2ff/blib/lib/Net/HTTP/Spore.pm line 13
	Net::HTTP::Spore::BEGIN() called at /home/test/perl5/perlbrew/perls/perl-5.15.3-th-ld/lib/site_perl/5.15.3/MooseX/Types/URI.pm line 0
	eval {...} called at /home/test/perl5/perlbrew/perls/perl-5.15.3-th-ld/lib/site_perl/5.15.3/MooseX/Types/URI.pm line 0
	require Net/HTTP/Spore.pm called at t/spore/01_new_from_string.t line 10
	main::BEGIN() called at /home/test/perl5/perlbrew/perls/perl-5.15.3-th-ld/lib/site_perl/5.15.3/MooseX/Types/URI.pm line 0
	eval {...} called at /home/test/perl5/perlbrew/perls/perl-5.15.3-th-ld/lib/site_perl/5.15.3/MooseX/Types/URI.pm line 0
t/spore/01_new_from_string.t ......... ok
Providing an optimized subroutine ref for type constraints is deprecated. Use the inlining feature (inline_as) instead. at /home/test/.cpan/build/Net-HTTP-Spore-0.04-Pfq2ff/blib/lib/Net/HTTP/Spore/Meta/Method.pm line 13
	Net::HTTP::Spore::Meta::Method::BEGIN() called at /home/test/perl5/perlbrew/perls/perl-5.15.3-th-ld/lib/site_perl/5.15.3/MooseX/Types/URI.pm line 0
	eval {...} called at /home/test/perl5/perlbrew/perls/perl-5.15.3-th-ld/lib/site_perl/5.15.3/MooseX/Types/URI.pm line 0
	require Net/HTTP/Spore/Meta/Method.pm called at /home/test/.cpan/build/Net-HTTP-Spore-0.04-Pfq2ff/blib/lib/Net/HTTP/Spore/Meta/Method/Spore.pm line 11
	Net::HTTP::Spore::Meta::Method::Spore::BEGIN() called at /home/test/perl5/perlbrew/perls/perl-5.15.3-th-ld/lib/site_perl/5.15.3/MooseX/Types/URI.pm line 0
	eval {...} called at /home/test/perl5/perlbrew/perls/perl-5.15.3-th-ld/lib/site_perl/5.15.3/MooseX/Types/URI.pm line 0
	require Net/HTTP/Spore/Meta/Method/Spore.pm called at /home/test/perl5/perlbrew/perls/perl-5.15.3-th-ld/lib/site_perl/5.15.3/Class/Load.pm line 217
	Class::Load::__ANON__() called at /home/test/perl5/perlbrew/perls/perl-5.15.3-th-ld/lib/site_perl/5.15.3/Try/Tiny.pm line 71
	eval {...} called at /home/test/perl5/perlbrew/perls/perl-5.15.3-th-ld/lib/site_perl/5.15.3/Try/Tiny.pm line 67
	Try::Tiny::try('CODE(0x28a09c0)', 'Try::Tiny::Catch=REF(0x28573c8)') called at /home/test/perl5/perlbrew/perls/perl-5.15.3-th-ld/lib/site_perl/5.15.3/Class/Load.pm line 224
	Class::Load::try_load_class('Net::HTTP::Spore::Meta::Method::Spore', undef) called at /home/test/perl5/perlbrew/perls/perl-5.15.3-th-ld/lib/site_perl/5.15.3/Class/Load.pm line 62
	Class::Load::load_class('Net::HTTP::Spore::Meta::Method::Spore', undef) called at /home/test/perl5/perlbrew/perls/perl-5.15.3-th-ld/lib/site_perl/5.15.3/x86_64-linux-thread-multi-ld/Moose/Util.pm line 132
	Moose::Util::_apply_all_roles('Moose::Meta::Role=HASH(0x285d710)', undef, 'Net::HTTP::Spore::Meta::Method::Spore') called at /home/test/perl5/perlbrew/perls/perl-5.15.3-th-ld/lib/site_perl/5.15.3/x86_64-linux-thread-multi-ld/Moose/Util.pm line 99
	Moose::Util::apply_all_roles('Moose::Meta::Role=HASH(0x285d710)', 'Net::HTTP::Spore::Meta::Method::Spore') called at /home/test/perl5/perlbrew/perls/perl-5.15.3-th-ld/lib/site_perl/5.15.3/x86_64-linux-thread-multi-ld/Moose/Role.pm line 29
	Moose::Role::with('Moose::Meta::Role=HASH(0x285d710)', 'Net::HTTP::Spore::Meta::Method::Spore') called at /home/test/perl5/perlbrew/perls/perl-5.15.3-th-ld/lib/site_perl/5.15.3/x86_64-linux-thread-multi-ld/Moose/Exporter.pm line 370
	Moose::Role::with('Net::HTTP::Spore::Meta::Method::Spore') called at /home/test/.cpan/build/Net-HTTP-Spore-0.04-Pfq2ff/blib/lib/Net/HTTP/Spore/Meta/Class.pm line 10
	require Net/HTTP/Spore/Meta/Class.pm called at /home/test/perl5/perlbrew/perls/perl-5.15.3-th-ld/lib/site_perl/5.15.3/Class/Load.pm line 217
	Class::Load::__ANON__() called at /home/test/perl5/perlbrew/perls/perl-5.15.3-th-ld/lib/site_perl/5.15.3/Try/Tiny.pm line 71
	eval {...} called at /home/test/perl5/perlbrew/perls/perl-5.15.3-th-ld/lib/site_perl/5.15.3/Try/Tiny.pm line 67
	Try::Tiny::try('CODE(0x283b450)', 'Try::Tiny::Catch=REF(0x27c1260)') called at /home/test/perl5/perlbrew/perls/perl-5.15.3-th-ld/lib/site_perl/5.15.3/Class/Load.pm line 224
	Class::Load::try_load_class('Net::HTTP::Spore::Meta::Class', undef) called at /home/test/perl5/perlbrew/perls/perl-5.15.3-th-ld/lib/site_perl/5.15.3/Class/Load.pm line 62
	Class::Load::load_class('Net::HTTP::Spore::Meta::Class', undef) called at /home/test/perl5/perlbrew/perls/perl-5.15.3-th-ld/lib/site_perl/5.15.3/x86_64-linux-thread-multi-ld/Moose/Util.pm line 132
	Moose::Util::_apply_all_roles('Moose::Meta::Class=HASH(0x283b960)', undef, 'Net::HTTP::Spore::Meta::Class') called at /home/test/perl5/perlbrew/perls/perl-5.15.3-th-ld/lib/site_perl/5.15.3/x86_64-linux-thread-multi-ld/Moose/Util.pm line 99
	Moose::Util::apply_all_roles('Moose::Meta::Class=HASH(0x283b960)', 'Net::HTTP::Spore::Meta::Class') called at /home/test/perl5/perlbrew/perls/perl-5.15.3-th-ld/lib/site_perl/5.15.3/x86_64-linux-thread-multi-ld/Moose/Meta/Class.pm line 104
	Moose::Meta::Class::create('Moose::Meta::Class', 'Moose::Meta::Class::__ANON__::SERIAL::1', 'roles', 'ARRAY(0x27c8220)', 'weaken', '', 'superclasses', 'ARRAY(0x283b498)') called at /home/test/perl5/perlbrew/perls/perl-5.15.3-th-ld/lib/site_perl/5.15.3/x86_64-linux-thread-multi-ld/Class/MOP/Package.pm line 120
	Class::MOP::Package::create_anon('Moose::Meta::Class', 'superclasses', 'ARRAY(0x283b498)', 'roles', 'ARRAY(0x27c8220)', 'cache', 1) called at /home/test/perl5/perlbrew/perls/perl-5.15.3-th-ld/lib/site_perl/5.15.3/x86_64-linux-thread-multi-ld/Class/MOP/Class.pm line 474
	Class::MOP::Class::create_anon_class('Moose::Meta::Class', 'superclasses', 'ARRAY(0x283b498)', 'roles', 'ARRAY(0x27c8220)', 'cache', 1) called at /home/test/perl5/perlbrew/perls/perl-5.15.3-th-ld/lib/site_perl/5.15.3/x86_64-linux-thread-multi-ld/Moose/Util/MetaRole.pm line 134
	Moose::Util::MetaRole::_make_new_class('Moose::Meta::Class', 'ARRAY(0x27c8220)') called at /home/test/perl5/perlbrew/perls/perl-5.15.3-th-ld/lib/site_perl/5.15.3/x86_64-linux-thread-multi-ld/Moose/Util/MetaRole.pm line 79
	Moose::Util::MetaRole::_make_new_metaclass('Moose::Meta::Class=HASH(0x2849748)', 'HASH(0x265edc8)', 'class') called at /home/test/perl5/perlbrew/perls/perl-5.15.3-th-ld/lib/site_perl/5.15.3/x86_64-linux-thread-multi-ld/Moose/Util/MetaRole.pm line 28
	Moose::Util::MetaRole::apply_metaroles('for', 'Net::HTTP::Spore::Core', 'class_metaroles', 'HASH(0x265edc8)') called at /home/test/.cpan/build/Net-HTTP-Spore-0.04-Pfq2ff/blib/lib/Net/HTTP/Spore/Meta.pm line 28
	Net::HTTP::Spore::Meta::init_meta('Net::HTTP::Spore::Meta', 'for_class', 'MooseX::Types::URI', 'metaclass', undef, 'meta_name', 'meta') called at /home/test/perl5/perlbrew/perls/perl-5.15.3-th-ld/lib/site_perl/5.15.3/x86_64-linux-thread-multi-ld/Moose/Exporter.pm line 435
	Moose::Exporter::__ANON__('Net::HTTP::Spore::Meta') called at /home/test/.cpan/build/Net-HTTP-Spore-0.04-Pfq2ff/blib/lib/Net/HTTP/Spore/Core.pm line 6
	Net::HTTP::Spore::Core::BEGIN() called at /home/test/perl5/perlbrew/perls/perl-5.15.3-th-ld/lib/site_perl/5.15.3/MooseX/Types/URI.pm line 0
	eval {...} called at /home/test/perl5/perlbrew/perls/perl-5.15.3-th-ld/lib/site_perl/5.15.3/MooseX/Types/URI.pm line 0
	require Net/HTTP/Spore/Core.pm called at /home/test/.cpan/build/Net-HTTP-Spore-0.04-Pfq2ff/blib/lib/Net/HTTP/Spore.pm line 13
	Net::HTTP::Spore::BEGIN() called at /home/test/perl5/perlbrew/perls/perl-5.15.3-th-ld/lib/site_perl/5.15.3/MooseX/Types/URI.pm line 0
	eval {...} called at /home/test/perl5/perlbrew/perls/perl-5.15.3-th-ld/lib/site_perl/5.15.3/MooseX/Types/URI.pm line 0
	require Net/HTTP/Spore.pm called at t/spore/02_enable.t line 9
	main::BEGIN() called at /home/test/perl5/perlbrew/perls/perl-5.15.3-th-ld/lib/site_perl/5.15.3/MooseX/Types/URI.pm line 0
	eval {...} called at /home/test/perl5/perlbrew/perls/perl-5.15.3-th-ld/lib/site_perl/5.15.3/MooseX/Types/URI.pm line 0
t/spore/02_enable.t .................. ok
All tests successful.
Files=36, Tests=173, 24 wallclock secs ( 0.10 usr  0.10 sys + 19.01 cusr  1.63 csys = 20.84 CPU)
Result: PASS

------------------------------
PREREQUISITES
------------------------------

Prerequisite modules loaded:

requires:

    Module                       Need Have   
    ---------------------------- ---- -------
    Carp                         0    1.23   
    Digest::SHA                  0    5.62   
    HTTP::Headers                0    6.00   
    HTTP::Request                0    6.00   
    IO::All                      0    0.43   
    IO::File                     0    1.15   
    JSON                         0    2.53   
    LWP::UserAgent               0    6.02   
    MIME::Base64                 0    3.13   
    Moose                        0    2.0300 
    Moose::Exporter              0    2.0300 
  ! Moose::Meta::Method          0    broken 
    Moose::Role                  0    2.0300 
    Moose::Util::MetaRole        0    2.0300 
  ! Moose::Util::TypeConstraints 0    broken 
  ! MooseX::Role::Parameterized  0    broken 
    MooseX::Types::Moose         0    0.30   
  ! MooseX::Types::URI           0    broken 
    overload                     0    1.15   
    Scalar::Util                 0    1.23   
    Time::HiRes                  0    1.9724 
    Try::Tiny                    0    0.11   
    URI                          0    1.59   
    URI::Escape                  0    3.31   
    XML::Simple                  0    2.18   
    YAML                         0    0.77   

build_requires:

    Module                       Need Have   
    ---------------------------- ---- -------
    File::Temp                   0    0.22   
    Test::Exception              0    0.31   
    Test::More                   0    0.98   

configure_requires:

    Module                       Need Have   
    ---------------------------- ---- -------
    ExtUtils::MakeMaker          6.30 6.61_01


------------------------------
ENVIRONMENT AND OTHER CONTEXT
------------------------------

Environment variables:

    AUTOMATED_TESTING = 1
    LANG = C
    LC_ALL = C
    PATH = /home/test/perl5/perlbrew/bin:/home/test/perl5/perlbrew/perls/perl-5.15.3-th-ld/bin:/home/test/bin:~/bin:/usr/bin:/bin
    PATH_WITHOUT_PERLBREW = /home/test/bin:~/bin:/usr/bin:/bin
    PERL5LIB = 
    PERL5OPT = 
    PERL5_CPANPLUS_IS_RUNNING = 12049
    PERL5_CPAN_IS_RUNNING = 12049
    PERL5_CPAN_IS_RUNNING_IN_RECURSION = 12572,12049
    PERLBREW_HOME = /home/test/.perlbrew
    PERLBREW_PATH = /home/test/perl5/perlbrew/bin:/home/test/perl5/perlbrew/perls/perl-5.15.3-th-ld/bin
    PERLBREW_PERL = perl-5.15.3-th-ld
    PERLBREW_ROOT = /home/test/perl5/perlbrew
    PERLBREW_VERSION = 0.29
    PERL_CPANM_OPT = --prompt --mirror file:///mirrors/cpan/
    PERL_CR_SMOKER_CURRENT = JIRA-Client-REST-0.04
    PERL_EXTUTILS_AUTOINSTALL = --defaultdeps
    PERL_MM_USE_DEFAULT = 1
    SHELL = /bin/bash
    TERM = linux

Perl special variables (and OS-specific diagnostics, for MSWin32):

    $^X = /home/test/perl5/perlbrew/perls/perl-5.15.3-th-ld/bin/perl5.15.3
    $UID/$EUID = 1001 / 1001
    $GID = 1001 1001
    $EGID = 1001 1001

Perl module toolchain versions installed:

    Module              Have    
    ------------------- --------
    CPAN                1.9800  
    CPAN::Meta          2.112621
    Cwd                 3.37    
    ExtUtils::CBuilder  0.280204
    ExtUtils::Command   1.17    
    ExtUtils::Install   1.57    
    ExtUtils::MakeMaker 6.61_01 
    ExtUtils::Manifest  1.60    
    ExtUtils::ParseXS   3.04_04 
    File::Spec          3.34    
    JSON                2.53    
    JSON::PP            2.27200 
    Module::Build       0.39_01 
    Module::Signature   n/a     
    Parse::CPAN::Meta   1.4401  
    Test::Harness       3.23    
    Test::More          0.98    
    YAML                0.77    
    YAML::Syck          n/a     
    version             0.94    


--

Summary of my perl5 (revision 5 version 15 subversion 3) configuration:
   
  Platform:
    osname=linux, osvers=2.6.35-28-generic, archname=x86_64-linux-thread-multi-ld
    uname='linux zippy 2.6.35-28-generic #50-ubuntu smp fri mar 18 18:42:20 utc 2011 x86_64 gnulinux '
    config_args='-de -Dprefix=/home/test/perl5/perlbrew/perls/perl-5.15.3-th-ld -Dusethreads -Duselongdouble -Dusedevel'
    hint=recommended, useposix=true, d_sigaction=define
    useithreads=define, usemultiplicity=define
    useperlio=define, d_sfio=undef, uselargefiles=define, usesocks=undef
    use64bitint=define, use64bitall=define, uselongdouble=define
    usemymalloc=n, bincompat5005=undef
  Compiler:
    cc='cc', ccflags ='-D_REENTRANT -D_GNU_SOURCE -fno-strict-aliasing -pipe -fstack-protector -I/usr/local/include -D_LARGEFILE_SOURCE -D_FILE_OFFSET_BITS=64',
    optimize='-O2',
    cppflags='-D_REENTRANT -D_GNU_SOURCE -fno-strict-aliasing -pipe -fstack-protector -I/usr/local/include'
    ccversion='', gccversion='4.4.5', gccosandvers=''
    intsize=4, longsize=8, ptrsize=8, doublesize=8, byteorder=12345678
    d_longlong=define, longlongsize=8, d_longdbl=define, longdblsize=16
    ivtype='long', ivsize=8, nvtype='long double', nvsize=16, Off_t='off_t', lseeksize=8
    alignbytes=16, prototype=define
  Linker and Libraries:
    ld='cc', ldflags =' -fstack-protector -L/usr/local/lib'
    libpth=/usr/local/lib /lib/../lib /usr/lib/../lib /lib /usr/lib /usr/lib/x86_64-linux-gnu /lib64 /usr/lib64
    libs=-lnsl -ldl -lm -lcrypt -lutil -lpthread -lc
    perllibs=-lnsl -ldl -lm -lcrypt -lutil -lpthread -lc
    libc=/lib/libc-2.12.1.so, so=so, useshrplib=false, libperl=libperl.a
    gnulibc_version='2.12.1'
  Dynamic Linking:
    dlsrc=dl_dlopen.xs, dlext=so, d_dlsymun=undef, ccdlflags='-Wl,-E'
    cccdlflags='-fPIC', lddlflags='-shared -O2 -L/usr/local/lib -fstack-protector'


Characteristics of this binary (from libperl): 
  Compile-time options: HAS_TIMES MULTIPLICITY PERLIO_LAYERS
                        PERL_DONT_CREATE_GVSV PERL_IMPLICIT_CONTEXT
                        PERL_MALLOC_WRAP PERL_PRESERVE_IVUV PERL_USE_DEVEL
                        USE_64_BIT_ALL USE_64_BIT_INT USE_ITHREADS
                        USE_LARGE_FILES USE_LOCALE USE_LOCALE_COLLATE
                        USE_LOCALE_CTYPE USE_LOCALE_NUMERIC USE_LONG_DOUBLE
                        USE_PERLIO USE_PERL_ATOF USE_REENTRANT_API
  Built under linux
  Compiled at Oct  3 2011 15:50:14
  %ENV:
    PERL5LIB=""
    PERL5OPT=""
    PERL5_CPANPLUS_IS_RUNNING="12049"
    PERL5_CPAN_IS_RUNNING="12049"
    PERL5_CPAN_IS_RUNNING_IN_RECURSION="12572,12049"
    PERLBREW_HOME="/home/test/.perlbrew"
    PERLBREW_PATH="/home/test/perl5/perlbrew/bin:/home/test/perl5/perlbrew/perls/perl-5.15.3-th-ld/bin"
    PERLBREW_PERL="perl-5.15.3-th-ld"
    PERLBREW_ROOT="/home/test/perl5/perlbrew"
    PERLBREW_VERSION="0.29"
    PERL_CPANM_OPT="--prompt --mirror file:///mirrors/cpan/"
    PERL_CR_SMOKER_CURRENT="JIRA-Client-REST-0.04"
    PERL_EXTUTILS_AUTOINSTALL="--defaultdeps"
    PERL_MM_USE_DEFAULT="1"
  @INC:
    /home/test/perl5/perlbrew/perls/perl-5.15.3-th-ld/lib/site_perl/5.15.3/x86_64-linux-thread-multi-ld
    /home/test/perl5/perlbrew/perls/perl-5.15.3-th-ld/lib/site_perl/5.15.3
    /home/test/perl5/perlbrew/perls/perl-5.15.3-th-ld/lib/5.15.3/x86_64-linux-thread-multi-ld
    /home/test/perl5/perlbrew/perls/perl-5.15.3-th-ld/lib/5.15.3
    .