Back
From: metabase:user:31d414ea-2aae-11df-837a-5e0a49663a4f
Subject: PASS WebService-GData-0.0406 v5.8.8 IRIX
Date: 2011-05-09T00:37:44Z
This distribution has been tested as part of the CPAN Testers
project, supporting the Perl programming language. See
http://wiki.cpantesters.org/ for more information or email
questions to cpan-testers-discuss@perl.org
--
Dear shirirules,
This is a computer-generated report for WebService-GData-0.0406
on perl 5.8.8, created by CPAN-Reporter-1.1711.
Thank you for uploading your work to CPAN. Congratulations!
All tests were successful.
Sections of this report:
* Tester comments
* Program output
* Prerequisites
* Environment and other context
------------------------------
TESTER COMMENTS
------------------------------
Additional comments from tester:
this report is from an automated smoke testing program
and was not reviewed by a human for accuracy
------------------------------
PROGRAM OUTPUT
------------------------------
Output from '/sbin/make test':
PERL_DL_NONLAZY=1 /usr/people/drc/cpantesting/perl-5.8.8/bin/perl "-MExtUtils::Command::MM" "-e" "test_harness(0, 'inc', 'blib/lib', 'blib/arch')" t/*.t
t/00-WebService-GData-load.t ................................. ok
t/01-WebService-GData-instance.t ............................. ok
t/02-WebService-GData-install_in_package.t ................... ok
t/03-WebService-GData-Constants-load.t ....................... ok
t/04-WebService-GData-Constants-noimport.t ................... ok
t/05-WebService-GData-Constants-import-service.t ............. ok
t/06-WebService-GData-Constants-import-format.t .............. ok
t/07-WebService-GData-Constants-import-general.t ............. ok
t/08-WebService-GData-Constants-import-namespaces.t .......... ok
t/09-WebService-GData-Error-Entry-load.t ..................... ok
t/10-WebService-GData-Error-Entry-instance.t ................. ok
t/11-WebService-GData-Error-Entry-parsexml.t ................. ok
t/12-WebService-GData-Error-Entry-createxml.t ................ ok
t/13-WebService-GData-Error-load.t ........................... ok
t/14-WebService-GData-Error-instance.t ....................... ok
t/15-WebService-GData-Error-parsexml.t ....................... ok
t/16-WebService-GData-Query-load.t ........................... ok
t/17-WebService-GData-Query-instance.t ....................... ok
t/18-WebService-GData-YouTube-Query-load.t ................... ok
t/19-WebService-GData-YouTube-Query-instance.t ............... ok
t/20-WebService-GData-Base-load.t ............................ ok
t/21-WebService-GData-Base-instance.t ........................ ok
t/22-WebService-GData-Base-mockrequest.t ..................... ok
t/23-WebService-GData-ClientLogin-load.t ..................... ok
t/24-WebService-GData-ClientLogin-mockrequest.t .............. ok
t/25-WebService-GData-ClientLogin-fail.t ..................... ok
t/26-WebService-GData-ClientLogin-requestservice.t ........... skipped: Crypt::SSLeay must be installed to test ClientLogin live...
t/27-WebService-GData-Node-load.t ............................ ok
t/28-WebService-GData-Node-Link-load.t ....................... ok
t/29-WebService-GData-Node-Link-instance.t ................... ok
t/30-WebService-GData-Node-Category-load.t ................... ok
t/31-WebService-GData-Node-Category-instance.t ............... ok
t/32-WebService-GData-Node-Content-load.t .................... ok
t/33-WebService-GData-Node-Content-instance.t ................ ok
t/34-WebService-GData-Node-Media-Content-instance.t .......... ok
t/35-WebService-GData-Node-GeoRSS-GML-instance.t ............. ok
t/36-WebService-GData-Node-AuthorEntity-load.t ............... ok
t/37-WebService-GData-Node-AuthorEntity-instance.t ........... ok
t/38-WebService-GData-Node-PointEntity-load.t ................ ok
t/39-WebService-GData-Node-PointEntity-instance.t ............ ok
t/40-WebService-GData-Collection-load.t ...................... ok
t/41-WebService-GData-Collection-instance.t .................. ok
t/42-WebService-GData-Node-Atom-FeedEntity-instance.t ........ ok
t/43-WebService-GData-Node-Atom-FeedEntity-emptyinstance.t ... ok
t/44-WebService-GData-Feed-load.t ............................ ok
t/45-WebService-GData-Feed-instance.t ........................ ok
t/46-WebService-GData-Feed-instance.t ........................ ok
t/47-WebService-GData-Feed-Entry-load.t ...................... ok
t/48-WebService-GData-Feed-Entry-instance.t .................. ok
t/49-WebService-GData-YouTube-Constants-load.t ............... ok
t/50-WebService-GData-YouTube-Constants-noimport.t ........... ok
t/51-WebService-GData-YouTube-Constants-imported.t ........... ok
t/52-WebService-GData-YouTube-load.t ......................... ok
t/53-WebService-GData-YouTube-Node-AccessControl-instance.t .. ok
t/54-WebService-GData-YouTube-Node-AboutMe-instance.t ........ ok
t/55-WebService-GData-YouTube-Feed-Video-load.t .............. ok
t/56-WebService-GData-YouTube-Feed-Video-instance.t .......... ok
t/57-WebService-Gdata-Youtube-StagingServer.t ................ ok
t/58-WebService-GData-YouTube-Feed-UserProfile-instance.t .... ok
t/59-WebService-GData-YouTube-Feed-Complaint-instance.t ...... ok
All tests successful.
Files=60, Tests=336, 13 wallclock secs ( 0.94 usr 0.35 sys + 8.79 cusr 1.94 csys = 12.02 CPU)
Result: PASS
------------------------------
PREREQUISITES
------------------------------
Prerequisite modules loaded:
requires:
Module Need Have
------------------- ---- -----
ExtUtils::MakeMaker 6.42 6.56
JSON 2 2.21
LWP 0 5.836
Test::Mock::LWP 0.05 0.05
Test::More 0 0.98
configure_requires:
Module Need Have
------------------- ---- -----
ExtUtils::MakeMaker 6.42 6.56
------------------------------
ENVIRONMENT AND OTHER CONTEXT
------------------------------
Environment variables:
AUTOMATED_TESTING = 1
LC_ALL = en
PATH = /usr/people/drc/bin:/usr/people/drc/cpantesting/bin:/sbin:/usr/sbin:/usr/nekoware/sbin:/usr/nekoware/bin:/usr/bsd:/usr/bin:/etc:/usr/sysadm/privbin:/usr/etc:/usr/bin/X11:/usr/gfx:/usr/nekoware/mysql4/bin:/usr/nekoware/qt4/bin:/usr/nekoware/kde/bin:/usr/nekoware/php5/bin
PERL5LIB =
PERL5OPT =
PERL5_CPANPLUS_IS_RUNNING = 56887800
PERL5_CPAN_IS_RUNNING = 56887800
PERLVER = 5.8.8
SHELL = /usr/nekoware/bin/bash
TERM = vt100
Perl special variables (and OS-specific diagnostics, for MSWin32):
$^X = /usr/people/drc/cpantesting/perl-5.8.8/bin/perl
$UID/$EUID = 25020 / 25020
$GID = 20 20
$EGID = 20 20
Perl module toolchain versions installed:
Module Have
------------------- ------
CPAN 1.9402
Cwd 3.31
ExtUtils::CBuilder 0.2703
ExtUtils::Command 1.16
ExtUtils::Install 1.52
ExtUtils::MakeMaker 6.56
ExtUtils::Manifest 1.56
ExtUtils::ParseXS 2.2206
File::Spec 3.31
Module::Build 0.3800
Module::Signature n/a
Test::Harness 3.21
Test::More 0.98
YAML 0.70
YAML::Syck 1.17
version 0.88
--
Summary of my perl5 (revision 5 version 8 subversion 8) configuration:
Platform:
osname=irix, osvers=6.5, archname=IP35-irix-64int
uname='irix64 o3k 6.5 07202013 ip35 '
config_args='-de -Dprefix=/usr/people/drc/cpantesting/perl-5.8.8 -Duse64bitint'
hint=recommended, useposix=true, d_sigaction=define
usethreads=undef use5005threads=undef useithreads=undef usemultiplicity=undef
useperlio=define d_sfio=undef uselargefiles=define usesocks=undef
use64bitint=define use64bitall=undef uselongdouble=undef
usemymalloc=n, bincompat5005=undef
Compiler:
cc='cc -n32', ccflags ='-D_BSD_TYPES -D_BSD_TIME -woff 1184,1552 -I/usr/local/include -DLANGUAGE_C',
optimize='-O3 -OPT:Olimit=0:space=ON',
cppflags='-D_BSD_TYPES -D_BSD_TIME -woff 1184,1552 -I/usr/local/include -DLANGUAGE_C'
ccversion='MIPSpro Compilers: Version 7.4.4m', gccversion='', gccosandvers=''
intsize=4, longsize=4, ptrsize=4, doublesize=8, byteorder=87654321
d_longlong=define, longlongsize=8, d_longdbl=define, longdblsize=16
ivtype='long long', ivsize=8, nvtype='double', nvsize=8, Off_t='off_t', lseeksize=8
alignbytes=8, prototype=define
Linker and Libraries:
ld='cc -n32', ldflags =' -Wl,-woff,84 -L/usr/local/lib'
libpth=/usr/local/lib /usr/lib32 /lib32 /lib /usr/lib
libs=-ldb -lm -lc
perllibs=-lm -lc
libc=/usr/lib32/libc.so, so=so, useshrplib=false, libperl=libperl.a
gnulibc_version=''
Dynamic Linking:
dlsrc=dl_dlopen.xs, dlext=so, d_dlsymun=undef, ccdlflags=' '
cccdlflags=' ', lddlflags='-n32 -shared -L/usr/local/lib'
Characteristics of this binary (from libperl):
Compile-time options: USE_64_BIT_INT USE_LARGE_FILES USE_PERLIO
Built under irix
Compiled at Jun 5 2008 18:52:27
%ENV:
PERL5LIB=""
PERL5OPT=""
PERL5_CPANPLUS_IS_RUNNING="56887800"
PERL5_CPAN_IS_RUNNING="56887800"
PERLVER="5.8.8"
@INC:
/usr/people/drc/cpantesting/perl-5.8.8/lib/5.8.8/IP35-irix-64int
/usr/people/drc/cpantesting/perl-5.8.8/lib/5.8.8
/usr/people/drc/cpantesting/perl-5.8.8/lib/site_perl/5.8.8/IP35-irix-64int
/usr/people/drc/cpantesting/perl-5.8.8/lib/site_perl/5.8.8
/usr/people/drc/cpantesting/perl-5.8.8/lib/site_perl
.