Text-Xslate vv3.5.9 Perl 5 v5.38.0 RC1 darwin-2level

Status
Pass
From
John SJ Anderson
Dist
Text-Xslate vv3.5.9
Platform
Perl 5 v5.38.0 RC1 darwin-2level
Date
2023-06-19 01:06:42
ID
8d38b22e-0e3d-11ee-b420-ddd9e07276f5
This distribution has been tested as part of the CPAN Testers
project, supporting the Perl programming language.  See
http://wiki.cpantesters.org/ for more information or email
questions to cpan-testers-discuss@perl.org


--
Dear SKAJI,

This is a computer-generated report for Text-Xslate-v3.5.9
on perl 5.38.0, created by App::cpanminus::reporter 0.20 (1.7046).

Thank you for uploading your work to CPAN.  Congratulations!
All tests were successful.

Sections of this report:

    * Tester comments
    * Program output
    * Prerequisites
    * Environment and other context

------------------------------
TESTER COMMENTS
------------------------------

Additional comments from tester:

none provided

------------------------------
PROGRAM OUTPUT
------------------------------

Output from '':

Running Build.PL
Checking prerequisites...
  requires:
    !  Data::MessagePack is not installed
    !  Mouse is not installed
  test_requires:
    !  File::Copy::Recursive is not installed

ERRORS/WARNINGS FOUND IN PREREQUISITES.  You may wish to install the versions
of the modules indicated above before proceeding with this installation

Created MYMETA.yml and MYMETA.json
Creating new 'Build' script for 'Text-Xslate' version 'v3.5.9'
-> OK
Checking dependencies from MYMETA.json ...
Checking if you have Test::Requires 0 ... Yes (0.11)
Checking if you have File::Copy::Recursive 0 ... No
Checking if you have Data::MessagePack 0.38 ... No
Checking if you have Mouse v2.5.0 ... No
Checking if you have parent 0.221 ... Yes (0.241)
Checking if you have Storable 2.15 ... Yes (3.32)
Checking if you have ExtUtils::CBuilder 0 ... Yes (0.280238)
Checking if you have Encode 2.26 ... Yes (3.19)
Checking if you have File::Path 2.07 ... Yes (2.18)
Checking if you have Scalar::Util 1.14 ... Yes (1.63)
Checking if you have Test::More 0.98 ... Yes (1.302194)
==> Found dependencies: File::Copy::Recursive, Data::MessagePack, Mouse
Searching File::Copy::Recursive (0) on cpanmetadb ...
--> Working on File::Copy::Recursive
Fetching http://www.cpan.org/authors/id/D/DM/DMUEY/File-Copy-Recursive-0.45.tar.gz
-> OK
Unpacking File-Copy-Recursive-0.45.tar.gz
Installing /opt/plenv/versions/5.38.0-RC1/lib/perl5/site_perl/5.38.0/File/Copy/Recursive.pm
Appending installation info to /opt/plenv/versions/5.38.0-RC1/lib/perl5/5.38.0/darwin-2level/perllocal.pod
-> OK
Successfully installed File-Copy-Recursive-0.45
Installing /opt/plenv/versions/5.38.0-RC1/lib/perl5/site_perl/5.38.0/darwin-2level/.meta/File-Copy-Recursive-0.45/MYMETA.json
Installing /opt/plenv/versions/5.38.0-RC1/lib/perl5/site_perl/5.38.0/darwin-2level/.meta/File-Copy-Recursive-0.45/install.json
Searching Data::MessagePack (0.38) on cpanmetadb ...
--> Working on Data::MessagePack
Fetching http://www.cpan.org/authors/id/S/SY/SYOHEX/Data-MessagePack-1.02.tar.gz
-> OK
Unpacking Data-MessagePack-1.02.tar.gz
xs tests
# Testing Data::MessagePack/1.02 (XS)
# byteoder: 12345678, ivsize=8
t/00_compile.t .............. ok
t/01_pack.t ................. ok
t/02_unpack.t ............... ok
t/03_stream_unpack.t ........ ok
t/04_invert.t ............... ok
t/05_preferred_int.t ........ ok
t/06_stream_unpack2.t ....... ok
t/07_break.t ................ ok
t/08_cycle.t ................ ok
t/09_stddata.t .............. ok
t/10_splitted_bytes.t ....... ok
t/11_stream_unpack3.t ....... ok
t/12_stream_unpack4.t ....... ok
t/13_booleans.t ............. ok
t/14_invalid_data.t ......... ok
t/15_utf8.t ................. ok
t/16_unpacker_for_larges.t .. ok
t/17_canonical.t ............ ok
t/18_new_interface.t ........ ok
t/19_utf8_property.t ........ ok
t/20_de.t ................... ok
t/21_dirty_float.t .......... ok
t/22_pid_pack_unpack.t ...... ok
t/23-empty-key.t ............ ok
t/24_tied.t ................. ok
t/40_threads.t .............. skipped: no threads
t/50_leaktrace.t ............ ok
All tests successful.
Files=27, Tests=568,  2 wallclock secs ( 0.11 usr  0.09 sys +  1.53 cusr  0.39 csys =  2.12 CPU)
Result: PASS

------------------------------
PREREQUISITES
------------------------------

Prerequisite modules loaded:

runtime:

    Module                Need     Have    
    --------------------- -------- --------
    Data::MessagePack     0.38     1.02    
    Encode                2.26     3.19    
    Mouse                 v2.5.0   v2.5.10 
    parent                0.221    0.241   
    perl                  5.008001 5.038000
    Scalar::Util          1.14     1.63    
    Storable              2.15     3.32    

build:

    Module                Need     Have    
    --------------------- -------- --------
    ExtUtils::CBuilder    0        0.280238

configure:

    Module                Need     Have    
    --------------------- -------- --------
    Module::Build         0.4005   0.4234  
    Module::Build::XSUtil 0.19     0.19    


------------------------------
ENVIRONMENT AND OTHER CONTEXT
------------------------------

Environment variables:

    LANG = en_US.UTF-8
    LC_ALL = en_US.UTF-8
    LC_TERMINAL = iTerm2
    LC_TERMINAL_VERSION = 3.4.19
    PATH = /opt/plenv/versions/5.38.0-RC1/bin:/opt/plenv/libexec:/opt/plenv/plugins/perl-build/bin:/Users/johnanderson/bin:/opt/plenv/shims:/opt/plenv/bin:/opt/git/bin:/opt/local/bin:/usr/local/bin:/usr/local/sbin:/usr/bin:/bin:/usr/sbin:/sbin
    PERL_CPANM_OPT = --skip-installed --prompt
    SHELL = /bin/zsh
    TERM = screen-256color
    TMPDIR = /var/folders/t7/8nhnkmk561s448776gc2b68w0000gp/T/

Perl special variables (and OS-specific diagnostics, for MSWin32):

    EGID = 20 20 12 61 79 80 81 98 702 33 100 204 250 395 398 701 704
    EUID = 502
    EXECUTABLE_NAME = /opt/plenv/versions/5.38.0-RC1/bin/perl5.38.0
    GID = 20 20 12 61 79 80 81 98 702 33 100 204 250 395 398 701 704
    UID = 502

Perl module toolchain versions installed:

    Module              Have    
    ------------------- --------
    CPAN                2.36    
    CPAN::Meta          2.150010
    Cwd                 3.89    
    ExtUtils::CBuilder  0.280238
    ExtUtils::Command   7.70    
    ExtUtils::Install   2.22    
    ExtUtils::MakeMaker 7.70    
    ExtUtils::Manifest  1.73    
    ExtUtils::ParseXS   3.51    
    File::Spec          3.88    
    JSON                4.10    
    JSON::PP            4.16    
    Module::Build       0.4234  
    Module::Signature   n/a     
    Parse::CPAN::Meta   2.150010
    Test::Harness       3.44    
    Test::More          1.302194
    YAML                1.30    
    YAML::Syck          n/a     
    version             0.9929  


--

Summary of my perl5 (revision 5 version 38 subversion 0) configuration:
   
  Platform:
    osname=darwin
    osvers=22.5.0
    archname=darwin-2level
    uname='darwin ws-c02g32p7ml7j 22.5.0 darwin kernel version 22.5.0: mon apr 24 20:51:50 pdt 2023; root:xnu-8796.121.2~5release_x86_64 x86_64 i386 macbookpro16,2 darwin '
    config_args='-Dprefix=/opt/plenv/versions/5.38.0-RC1 -de -Dversiononly -Dusedevel -A'eval:scriptdir=/opt/plenv/versions/5.38.0-RC1/bin''
    hint=recommended
    useposix=true
    d_sigaction=define
    useithreads=undef
    usemultiplicity=undef
    use64bitint=define
    use64bitall=define
    uselongdouble=undef
    usemymalloc=n
    default_inc_excludes_dot=define
  Compiler:
    cc='cc'
    ccflags ='-fno-common -DPERL_DARWIN -mmacosx-version-min=13.4 -DNO_POSIX_2008_LOCALE -fno-strict-aliasing -pipe -fstack-protector-strong -I/usr/local/include'
    optimize='-O3'
    cppflags='-fno-common -DPERL_DARWIN -mmacosx-version-min=13.4 -DNO_POSIX_2008_LOCALE -fno-strict-aliasing -pipe -fstack-protector-strong -I/usr/local/include'
    ccversion=''
    gccversion='Apple LLVM 14.0.3 (clang-1403.0.22.14.1)'
    gccosandvers=''
    intsize=4
    longsize=8
    ptrsize=8
    doublesize=8
    byteorder=12345678
    doublekind=3
    d_longlong=define
    longlongsize=8
    d_longdbl=define
    longdblsize=16
    longdblkind=3
    ivtype='long'
    ivsize=8
    nvtype='double'
    nvsize=8
    Off_t='off_t'
    lseeksize=8
    alignbytes=8
    prototype=define
  Linker and Libraries:
    ld='cc'
    ldflags =' -mmacosx-version-min=13.4 -fstack-protector-strong -L/usr/local/lib'
    libpth=/usr/local/lib /Library/Developer/CommandLineTools/usr/lib/clang/14.0.3/lib /Library/Developer/CommandLineTools/SDKs/MacOSX13.3.sdk/usr/lib /Library/Developer/CommandLineTools/usr/lib /usr/lib
    libs= 
    perllibs=
    libc=
    so=dylib
    useshrplib=false
    libperl=libperl.a
    gnulibc_version=''
  Dynamic Linking:
    dlsrc=dl_dlopen.xs
    dlext=bundle
    d_dlsymun=undef
    ccdlflags=' '
    cccdlflags=' '
    lddlflags=' -mmacosx-version-min=13.4 -bundle -undefined dynamic_lookup -L/usr/local/lib -fstack-protector-strong'


Characteristics of this binary (from libperl): 
  Compile-time options:
    HAS_LONG_DOUBLE
    HAS_STRTOLD
    HAS_TIMES
    PERLIO_LAYERS
    PERL_COPY_ON_WRITE
    PERL_DONT_CREATE_GVSV
    PERL_HASH_FUNC_SIPHASH13
    PERL_HASH_USE_SBOX32
    PERL_MALLOC_WRAP
    PERL_OP_PARENT
    PERL_PRESERVE_IVUV
    PERL_USE_DEVEL
    PERL_USE_SAFE_PUTENV
    USE_64_BIT_ALL
    USE_64_BIT_INT
    USE_LARGE_FILES
    USE_LOCALE
    USE_LOCALE_COLLATE
    USE_LOCALE_CTYPE
    USE_LOCALE_NUMERIC
    USE_LOCALE_TIME
    USE_PERLIO
    USE_PERL_ATOF
  Locally applied patches:
    RC1
  Built under darwin
  Compiled at Jun 18 2023 16:44:59
  %ENV:
    PERL_CPANM_OPT="--skip-installed --prompt"
  @INC:
    /opt/plenv/versions/5.38.0-RC1/lib/perl5/site_perl/5.38.0/darwin-2level
    /opt/plenv/versions/5.38.0-RC1/lib/perl5/site_perl/5.38.0
    /opt/plenv/versions/5.38.0-RC1/lib/perl5/5.38.0/darwin-2level
    /opt/plenv/versions/5.38.0-RC1/lib/perl5/5.38.0