Test-Moose-More v0.050 Perl 5 v5.39.9 x86_64-linux-thread-multi-ld
- Status
- Pass
- From
- Andreas J. König (ANDK)
- Dist
-
Test-Moose-More v0.050
- Platform
- Perl 5 v5.39.9 x86_64-linux-thread-multi-ld
- Date
- 2024-04-07 16:19:02
- ID
- 8c438782-f4fa-11ee-b35f-e570b5d9f4c2
This distribution has been tested as part of the CPAN Testers
project, supporting the Perl programming language. See
http://wiki.cpantesters.org/ for more information or email
questions to cpan-testers-discuss@perl.org
--
Dear Chris Weyl,
This is a computer-generated report for Test-Moose-More-0.050
on perl 5.39.9, created by CPAN-Reporter-1.2019.
Thank you for uploading your work to CPAN. Congratulations!
All tests were successful.
Sections of this report:
* Tester comments
* Program output
* Prerequisites
* Environment and other context
------------------------------
TESTER COMMENTS
------------------------------
Additional comments from tester:
this report is from an automated smoke testing program
and was not reviewed by a human for accuracy
------------------------------
PROGRAM OUTPUT
------------------------------
Output from '/usr/bin/make test':
PERL_DL_NONLAZY=1 "/home/sand/src/perl/repoperls/installed-perls/host/k93msid/v5.39.9/8854/bin/perl" "-MExtUtils::Command::MM" "-MTest::Harness" "-e" "undef *Test::Harness::Switches; test_harness(0, 'blib/lib', 'blib/arch')" t/*.t t/attribute_options_ok/*.t t/is_class_ok/*.t t/validate_attribute/*.t t/validate_class/*.t t/validate_role/*.t t/validate_thing/*.t t/wrapped/*.t
t/00-check-deps.t ...................................... ok
Smartmatch is deprecated at (eval 10) line 8.
Smartmatch is deprecated at (eval 10) line 15.
Smartmatch is deprecated at (eval 11) line 8.
Smartmatch is deprecated at (eval 11) line 15.
Smartmatch is deprecated at (eval 12) line 8.
Smartmatch is deprecated at (eval 12) line 15.
Smartmatch is deprecated at (eval 13) line 11.
Smartmatch is deprecated at (eval 13) line 21.
t/00-compile.t ......................................... ok
#
# Versions for all modules listed in MYMETA.json (including optional ones):
#
# === Configure Requires ===
#
# Module Want Have
# ------------------- ---- ----
# ExtUtils::MakeMaker any 7.70
#
# === Build Requires ===
#
# Module Want Have
# ------------------- ---- ----
# ExtUtils::MakeMaker any 7.70
#
# === Test Requires ===
#
# Module Want Have
# ---------------------- ----- --------
# ExtUtils::MakeMaker any 7.70
# File::Spec any 3.90
# IO::Handle any 1.55
# IPC::Open3 any 1.22
# List::Util 1.45 1.63
# Moose any 2.2207
# Moose::Meta::Attribute any 2.2207
# Moose::Role any 2.2207
# Moose::Util::MetaRole any 2.2207
# TAP::SimpleOutput 0.009 0.009
# Test::Builder::Tester any 1.302198
# Test::CheckDeps 0.010 0.010
# Test::More 0.94 1.302198
# namespace::autoclean any 0.29
#
# === Test Recommends ===
#
# Module Want Have
# ---------- -------- --------
# CPAN::Meta 2.120900 2.150010
#
# === Runtime Requires ===
#
# Module Want Have
# ---------------------------- ---- --------
# Carp any 1.54
# Data::OptList any 0.114
# List::MoreUtils any 0.430
# List::Util 1.45 1.63
# Moose::Util any 2.2207
# Moose::Util::TypeConstraints any 2.2207
# Scalar::Util any 1.63
# Sub::Exporter::Progressive any 0.001013
# Syntax::Keyword::Junction any 0.003008
# Test::Builder any 1.302198
# Test::Moose any 2.2207
# Test::More 0.94 1.302198
# strict any 1.13
# warnings any 1.68
#
t/00-report-prereqs.t .................................. ok
Smartmatch is deprecated at (eval 10) line 8.
Smartmatch is deprecated at (eval 10) line 15.
Smartmatch is deprecated at (eval 11) line 8.
Smartmatch is deprecated at (eval 11) line 15.
Smartmatch is deprecated at (eval 12) line 8.
Smartmatch is deprecated at (eval 12) line 15.
Smartmatch is deprecated at (eval 13) line 11.
Smartmatch is deprecated at (eval 13) line 21.
t/attribute_options_ok/basic.t ......................... ok
Smartmatch is deprecated at (eval 10) line 8.
Smartmatch is deprecated at (eval 10) line 15.
Smartmatch is deprecated at (eval 11) line 8.
Smartmatch is deprecated at (eval 11) line 15.
Smartmatch is deprecated at (eval 12) line 8.
Smartmatch is deprecated at (eval 12) line 15.
Smartmatch is deprecated at (eval 13) line 11.
Smartmatch is deprecated at (eval 13) line 21.
t/attribute_options_ok/subtest-wrapper.t ............... ok
Smartmatch is deprecated at (eval 163) line 8.
Smartmatch is deprecated at (eval 163) line 15.
Smartmatch is deprecated at (eval 164) line 8.
Smartmatch is deprecated at (eval 164) line 15.
Smartmatch is deprecated at (eval 165) line 8.
Smartmatch is deprecated at (eval 165) line 15.
Smartmatch is deprecated at (eval 166) line 11.
Smartmatch is deprecated at (eval 166) line 21.
t/check_sugar.t ........................................ ok
Smartmatch is deprecated at (eval 10) line 8.
Smartmatch is deprecated at (eval 10) line 15.
Smartmatch is deprecated at (eval 11) line 8.
Smartmatch is deprecated at (eval 11) line 15.
Smartmatch is deprecated at (eval 12) line 8.
Smartmatch is deprecated at (eval 12) line 15.
Smartmatch is deprecated at (eval 13) line 11.
Smartmatch is deprecated at (eval 13) line 21.
t/definition_context.t ................................. ok
Smartmatch is deprecated at (eval 10) line 8.
Smartmatch is deprecated at (eval 10) line 15.
Smartmatch is deprecated at (eval 11) line 8.
Smartmatch is deprecated at (eval 11) line 15.
Smartmatch is deprecated at (eval 12) line 8.
Smartmatch is deprecated at (eval 12) line 15.
Smartmatch is deprecated at (eval 13) line 11.
Smartmatch is deprecated at (eval 13) line 21.
t/does_metaroles_ok.t .................................. ok
Smartmatch is deprecated at (eval 10) line 8.
Smartmatch is deprecated at (eval 10) line 15.
Smartmatch is deprecated at (eval 11) line 8.
Smartmatch is deprecated at (eval 11) line 15.
Smartmatch is deprecated at (eval 12) line 8.
Smartmatch is deprecated at (eval 12) line 15.
Smartmatch is deprecated at (eval 13) line 11.
Smartmatch is deprecated at (eval 13) line 21.
t/does_not_metaroles_ok.t .............................. ok
Smartmatch is deprecated at (eval 175) line 8.
Smartmatch is deprecated at (eval 175) line 15.
Smartmatch is deprecated at (eval 176) line 8.
Smartmatch is deprecated at (eval 176) line 15.
Smartmatch is deprecated at (eval 177) line 8.
Smartmatch is deprecated at (eval 177) line 15.
Smartmatch is deprecated at (eval 178) line 11.
Smartmatch is deprecated at (eval 178) line 21.
t/does_not_ok.t ........................................ ok
Smartmatch is deprecated at (eval 179) line 8.
Smartmatch is deprecated at (eval 179) line 15.
Smartmatch is deprecated at (eval 180) line 8.
Smartmatch is deprecated at (eval 180) line 15.
Smartmatch is deprecated at (eval 181) line 8.
Smartmatch is deprecated at (eval 181) line 15.
Smartmatch is deprecated at (eval 182) line 11.
Smartmatch is deprecated at (eval 182) line 21.
t/does_ok.t ............................................ ok
Smartmatch is deprecated at (eval 167) line 8.
Smartmatch is deprecated at (eval 167) line 15.
Smartmatch is deprecated at (eval 168) line 8.
Smartmatch is deprecated at (eval 168) line 15.
Smartmatch is deprecated at (eval 169) line 8.
Smartmatch is deprecated at (eval 169) line 15.
Smartmatch is deprecated at (eval 170) line 11.
Smartmatch is deprecated at (eval 170) line 21.
t/has_attribute_ok.t ................................... ok
Smartmatch is deprecated at (eval 10) line 8.
Smartmatch is deprecated at (eval 10) line 15.
Smartmatch is deprecated at (eval 11) line 8.
Smartmatch is deprecated at (eval 11) line 15.
Smartmatch is deprecated at (eval 12) line 8.
Smartmatch is deprecated at (eval 12) line 15.
Smartmatch is deprecated at (eval 13) line 11.
Smartmatch is deprecated at (eval 13) line 21.
t/is_anon_ok.t ......................................... ok
Smartmatch is deprecated at (eval 163) line 8.
Smartmatch is deprecated at (eval 163) line 15.
Smartmatch is deprecated at (eval 164) line 8.
Smartmatch is deprecated at (eval 164) line 15.
Smartmatch is deprecated at (eval 165) line 8.
Smartmatch is deprecated at (eval 165) line 15.
Smartmatch is deprecated at (eval 166) line 11.
Smartmatch is deprecated at (eval 166) line 21.
t/is_class_ok/basic.t .................................. ok
Smartmatch is deprecated at (eval 10) line 8.
Smartmatch is deprecated at (eval 10) line 15.
Smartmatch is deprecated at (eval 11) line 8.
Smartmatch is deprecated at (eval 11) line 15.
Smartmatch is deprecated at (eval 12) line 8.
Smartmatch is deprecated at (eval 12) line 15.
Smartmatch is deprecated at (eval 13) line 11.
Smartmatch is deprecated at (eval 13) line 21.
t/is_class_ok/moose-meta-attribute-should-be-moosey.t .. ok
Smartmatch is deprecated at (eval 163) line 8.
Smartmatch is deprecated at (eval 163) line 15.
Smartmatch is deprecated at (eval 164) line 8.
Smartmatch is deprecated at (eval 164) line 15.
Smartmatch is deprecated at (eval 165) line 8.
Smartmatch is deprecated at (eval 165) line 15.
Smartmatch is deprecated at (eval 166) line 11.
Smartmatch is deprecated at (eval 166) line 21.
t/is_immutable_ok.t .................................... ok
Smartmatch is deprecated at (eval 10) line 8.
Smartmatch is deprecated at (eval 10) line 15.
Smartmatch is deprecated at (eval 11) line 8.
Smartmatch is deprecated at (eval 11) line 15.
Smartmatch is deprecated at (eval 12) line 8.
Smartmatch is deprecated at (eval 12) line 15.
Smartmatch is deprecated at (eval 13) line 11.
Smartmatch is deprecated at (eval 13) line 21.
t/is_not_anon_ok.t ..................................... ok
Smartmatch is deprecated at (eval 163) line 8.
Smartmatch is deprecated at (eval 163) line 15.
Smartmatch is deprecated at (eval 164) line 8.
Smartmatch is deprecated at (eval 164) line 15.
Smartmatch is deprecated at (eval 165) line 8.
Smartmatch is deprecated at (eval 165) line 15.
Smartmatch is deprecated at (eval 166) line 11.
Smartmatch is deprecated at (eval 166) line 21.
t/is_role_ok.t ......................................... ok
Smartmatch is deprecated at (eval 163) line 8.
Smartmatch is deprecated at (eval 163) line 15.
Smartmatch is deprecated at (eval 164) line 8.
Smartmatch is deprecated at (eval 164) line 15.
Smartmatch is deprecated at (eval 165) line 8.
Smartmatch is deprecated at (eval 165) line 15.
Smartmatch is deprecated at (eval 166) line 11.
Smartmatch is deprecated at (eval 166) line 21.
t/meta_ok.t ............................................ ok
Smartmatch is deprecated at (eval 10) line 8.
Smartmatch is deprecated at (eval 10) line 15.
Smartmatch is deprecated at (eval 11) line 8.
Smartmatch is deprecated at (eval 11) line 15.
Smartmatch is deprecated at (eval 12) line 8.
Smartmatch is deprecated at (eval 12) line 15.
Smartmatch is deprecated at (eval 13) line 11.
Smartmatch is deprecated at (eval 13) line 21.
t/method_from_pkg_ok.t ................................. ok
Smartmatch is deprecated at (eval 10) line 8.
Smartmatch is deprecated at (eval 10) line 15.
Smartmatch is deprecated at (eval 11) line 8.
Smartmatch is deprecated at (eval 11) line 15.
Smartmatch is deprecated at (eval 12) line 8.
Smartmatch is deprecated at (eval 12) line 15.
Smartmatch is deprecated at (eval 13) line 11.
Smartmatch is deprecated at (eval 13) line 21.
t/method_is_accessor_ok.t .............................. ok
Smartmatch is deprecated at (eval 10) line 8.
Smartmatch is deprecated at (eval 10) line 15.
Smartmatch is deprecated at (eval 11) line 8.
Smartmatch is deprecated at (eval 11) line 15.
Smartmatch is deprecated at (eval 12) line 8.
Smartmatch is deprecated at (eval 12) line 15.
Smartmatch is deprecated at (eval 13) line 11.
Smartmatch is deprecated at (eval 13) line 21.
t/method_is_not_accessor_ok.t .......................... ok
Smartmatch is deprecated at (eval 10) line 8.
Smartmatch is deprecated at (eval 10) line 15.
Smartmatch is deprecated at (eval 11) line 8.
Smartmatch is deprecated at (eval 11) line 15.
Smartmatch is deprecated at (eval 12) line 8.
Smartmatch is deprecated at (eval 12) line 15.
Smartmatch is deprecated at (eval 13) line 11.
Smartmatch is deprecated at (eval 13) line 21.
t/method_not_from_pkg_ok.t ............................. ok
Smartmatch is deprecated at (eval 167) line 8.
Smartmatch is deprecated at (eval 167) line 15.
Smartmatch is deprecated at (eval 168) line 8.
Smartmatch is deprecated at (eval 168) line 15.
Smartmatch is deprecated at (eval 169) line 8.
Smartmatch is deprecated at (eval 169) line 15.
Smartmatch is deprecated at (eval 170) line 11.
Smartmatch is deprecated at (eval 170) line 21.
t/method_ok.t .......................................... ok
Smartmatch is deprecated at (eval 163) line 8.
Smartmatch is deprecated at (eval 163) line 15.
Smartmatch is deprecated at (eval 164) line 8.
Smartmatch is deprecated at (eval 164) line 15.
Smartmatch is deprecated at (eval 165) line 8.
Smartmatch is deprecated at (eval 165) line 15.
Smartmatch is deprecated at (eval 166) line 11.
Smartmatch is deprecated at (eval 166) line 21.
t/no_meta_ok.t ......................................... ok
Smartmatch is deprecated at (eval 10) line 8.
Smartmatch is deprecated at (eval 10) line 15.
Smartmatch is deprecated at (eval 11) line 8.
Smartmatch is deprecated at (eval 11) line 15.
Smartmatch is deprecated at (eval 12) line 8.
Smartmatch is deprecated at (eval 12) line 15.
Smartmatch is deprecated at (eval 13) line 11.
Smartmatch is deprecated at (eval 13) line 21.
t/pristine_ok.t ........................................ ok
Smartmatch is deprecated at (eval 161) line 8.
Smartmatch is deprecated at (eval 161) line 15.
Smartmatch is deprecated at (eval 162) line 8.
Smartmatch is deprecated at (eval 162) line 15.
Smartmatch is deprecated at (eval 163) line 8.
Smartmatch is deprecated at (eval 163) line 15.
Smartmatch is deprecated at (eval 164) line 11.
Smartmatch is deprecated at (eval 164) line 21.
t/requires_method_ok.t ................................. ok
Smartmatch is deprecated at (eval 10) line 8.
Smartmatch is deprecated at (eval 10) line 15.
Smartmatch is deprecated at (eval 11) line 8.
Smartmatch is deprecated at (eval 11) line 15.
Smartmatch is deprecated at (eval 12) line 8.
Smartmatch is deprecated at (eval 12) line 15.
Smartmatch is deprecated at (eval 13) line 11.
Smartmatch is deprecated at (eval 13) line 21.
t/subtest-1.t .......................................... ok
Smartmatch is deprecated at (eval 10) line 8.
Smartmatch is deprecated at (eval 10) line 15.
Smartmatch is deprecated at (eval 11) line 8.
Smartmatch is deprecated at (eval 11) line 15.
Smartmatch is deprecated at (eval 12) line 8.
Smartmatch is deprecated at (eval 12) line 15.
Smartmatch is deprecated at (eval 13) line 11.
Smartmatch is deprecated at (eval 13) line 21.
t/validate_attribute/basic.t ........................... ok
Smartmatch is deprecated at (eval 10) line 8.
Smartmatch is deprecated at (eval 10) line 15.
Smartmatch is deprecated at (eval 11) line 8.
Smartmatch is deprecated at (eval 11) line 15.
Smartmatch is deprecated at (eval 12) line 8.
Smartmatch is deprecated at (eval 12) line 15.
Smartmatch is deprecated at (eval 13) line 11.
Smartmatch is deprecated at (eval 13) line 21.
t/validate_attribute/coerce.t .......................... ok
Smartmatch is deprecated at (eval 10) line 8.
Smartmatch is deprecated at (eval 10) line 15.
Smartmatch is deprecated at (eval 11) line 8.
Smartmatch is deprecated at (eval 11) line 15.
Smartmatch is deprecated at (eval 12) line 8.
Smartmatch is deprecated at (eval 12) line 15.
Smartmatch is deprecated at (eval 13) line 11.
Smartmatch is deprecated at (eval 13) line 21.
t/validate_attribute/in_roles.t ........................ ok
Smartmatch is deprecated at (eval 10) line 8.
Smartmatch is deprecated at (eval 10) line 15.
Smartmatch is deprecated at (eval 11) line 8.
Smartmatch is deprecated at (eval 11) line 15.
Smartmatch is deprecated at (eval 12) line 8.
Smartmatch is deprecated at (eval 12) line 15.
Smartmatch is deprecated at (eval 13) line 11.
Smartmatch is deprecated at (eval 13) line 21.
t/validate_attribute/lazy.t ............................ ok
Smartmatch is deprecated at (eval 10) line 8.
Smartmatch is deprecated at (eval 10) line 15.
Smartmatch is deprecated at (eval 11) line 8.
Smartmatch is deprecated at (eval 11) line 15.
Smartmatch is deprecated at (eval 12) line 8.
Smartmatch is deprecated at (eval 12) line 15.
Smartmatch is deprecated at (eval 13) line 11.
Smartmatch is deprecated at (eval 13) line 21.
t/validate_attribute/required.t ........................ ok
Smartmatch is deprecated at (eval 167) line 8.
Smartmatch is deprecated at (eval 167) line 15.
Smartmatch is deprecated at (eval 168) line 8.
Smartmatch is deprecated at (eval 168) line 15.
Smartmatch is deprecated at (eval 169) line 8.
Smartmatch is deprecated at (eval 169) line 15.
Smartmatch is deprecated at (eval 170) line 11.
Smartmatch is deprecated at (eval 170) line 21.
t/validate_class/basic.t ............................... ok
Smartmatch is deprecated at (eval 165) line 8.
Smartmatch is deprecated at (eval 165) line 15.
Smartmatch is deprecated at (eval 166) line 8.
Smartmatch is deprecated at (eval 166) line 15.
Smartmatch is deprecated at (eval 167) line 8.
Smartmatch is deprecated at (eval 167) line 15.
Smartmatch is deprecated at (eval 168) line 11.
Smartmatch is deprecated at (eval 168) line 21.
t/validate_class/metaclasses.t ......................... ok
Smartmatch is deprecated at (eval 165) line 8.
Smartmatch is deprecated at (eval 165) line 15.
Smartmatch is deprecated at (eval 166) line 8.
Smartmatch is deprecated at (eval 166) line 15.
Smartmatch is deprecated at (eval 167) line 8.
Smartmatch is deprecated at (eval 167) line 15.
Smartmatch is deprecated at (eval 168) line 11.
Smartmatch is deprecated at (eval 168) line 21.
t/validate_class/metaroles.t ........................... ok
Smartmatch is deprecated at (eval 161) line 8.
Smartmatch is deprecated at (eval 161) line 15.
Smartmatch is deprecated at (eval 162) line 8.
Smartmatch is deprecated at (eval 162) line 15.
Smartmatch is deprecated at (eval 163) line 8.
Smartmatch is deprecated at (eval 163) line 15.
Smartmatch is deprecated at (eval 164) line 11.
Smartmatch is deprecated at (eval 164) line 21.
t/validate_class/methods.t ............................. ok
Smartmatch is deprecated at (eval 167) line 8.
Smartmatch is deprecated at (eval 167) line 15.
Smartmatch is deprecated at (eval 168) line 8.
Smartmatch is deprecated at (eval 168) line 15.
Smartmatch is deprecated at (eval 169) line 8.
Smartmatch is deprecated at (eval 169) line 15.
Smartmatch is deprecated at (eval 170) line 11.
Smartmatch is deprecated at (eval 170) line 21.
t/validate_role/basic.t ................................ ok
Smartmatch is deprecated at (eval 165) line 8.
Smartmatch is deprecated at (eval 165) line 15.
Smartmatch is deprecated at (eval 166) line 8.
Smartmatch is deprecated at (eval 166) line 15.
Smartmatch is deprecated at (eval 167) line 8.
Smartmatch is deprecated at (eval 167) line 15.
Smartmatch is deprecated at (eval 168) line 11.
Smartmatch is deprecated at (eval 168) line 21.
t/validate_role/compose.t .............................. ok
Smartmatch is deprecated at (eval 165) line 8.
Smartmatch is deprecated at (eval 165) line 15.
Smartmatch is deprecated at (eval 166) line 8.
Smartmatch is deprecated at (eval 166) line 15.
Smartmatch is deprecated at (eval 167) line 8.
Smartmatch is deprecated at (eval 167) line 15.
Smartmatch is deprecated at (eval 168) line 11.
Smartmatch is deprecated at (eval 168) line 21.
t/validate_role/metaclasses.t .......................... ok
Smartmatch is deprecated at (eval 165) line 8.
Smartmatch is deprecated at (eval 165) line 15.
Smartmatch is deprecated at (eval 166) line 8.
Smartmatch is deprecated at (eval 166) line 15.
Smartmatch is deprecated at (eval 167) line 8.
Smartmatch is deprecated at (eval 167) line 15.
Smartmatch is deprecated at (eval 168) line 11.
Smartmatch is deprecated at (eval 168) line 21.
t/validate_role/metaroles.t ............................ ok
Smartmatch is deprecated at (eval 165) line 8.
Smartmatch is deprecated at (eval 165) line 15.
Smartmatch is deprecated at (eval 166) line 8.
Smartmatch is deprecated at (eval 166) line 15.
Smartmatch is deprecated at (eval 167) line 8.
Smartmatch is deprecated at (eval 167) line 15.
Smartmatch is deprecated at (eval 168) line 11.
Smartmatch is deprecated at (eval 168) line 21.
t/validate_thing/metaclasses.t ......................... ok
Smartmatch is deprecated at (eval 161) line 8.
Smartmatch is deprecated at (eval 161) line 15.
Smartmatch is deprecated at (eval 162) line 8.
Smartmatch is deprecated at (eval 162) line 15.
Smartmatch is deprecated at (eval 163) line 8.
Smartmatch is deprecated at (eval 163) line 15.
Smartmatch is deprecated at (eval 164) line 11.
Smartmatch is deprecated at (eval 164) line 21.
t/validate_thing/methods.t ............................. ok
Smartmatch is deprecated at (eval 10) line 8.
Smartmatch is deprecated at (eval 10) line 15.
Smartmatch is deprecated at (eval 11) line 8.
Smartmatch is deprecated at (eval 11) line 15.
Smartmatch is deprecated at (eval 12) line 8.
Smartmatch is deprecated at (eval 12) line 15.
Smartmatch is deprecated at (eval 13) line 11.
Smartmatch is deprecated at (eval 13) line 21.
t/validate_thing/sugar.t ............................... ok
Smartmatch is deprecated at (eval 10) line 8.
Smartmatch is deprecated at (eval 10) line 15.
Smartmatch is deprecated at (eval 11) line 8.
Smartmatch is deprecated at (eval 11) line 15.
Smartmatch is deprecated at (eval 12) line 8.
Smartmatch is deprecated at (eval 12) line 15.
Smartmatch is deprecated at (eval 13) line 11.
Smartmatch is deprecated at (eval 13) line 21.
t/wrapped/in_roles.t ................................... ok
All tests successful.
Test Summary Report
-------------------
t/00-check-deps.t (Wstat: 0 Tests: 32 Failed: 0)
TODO passed: 32
Files=45, Tests=235, 18 wallclock secs ( 0.15 usr 0.09 sys + 10.96 cusr 2.02 csys = 13.22 CPU)
Result: PASS
------------------------------
PREREQUISITES
------------------------------
Prerequisite modules loaded:
requires:
Module Need Have
---------------------------- ----- --------
Carp 0 1.54
Data::OptList 0 0.114
List::MoreUtils 0 0.430
List::Util 1.45 1.63
Moose::Util 0 2.2207
Moose::Util::TypeConstraints 0 2.2207
perl 5.006 5.039009
Scalar::Util 0 1.63
strict 0 1.13
Sub::Exporter::Progressive 0 0.001013
Syntax::Keyword::Junction 0 0.003008
Test::Builder 0 1.302198
Test::Moose 0 2.2207
Test::More 0.94 1.302198
warnings 0 1.68
build_requires:
Module Need Have
---------------------------- ----- --------
ExtUtils::MakeMaker 0 7.70
File::Spec 0 3.90
IO::Handle 0 1.55
IPC::Open3 0 1.22
List::Util 1.45 1.63
Moose 0 2.2207
Moose::Meta::Attribute 0 2.2207
Moose::Role 0 2.2207
Moose::Util::MetaRole 0 2.2207
namespace::autoclean 0 0.29
TAP::SimpleOutput 0.009 0.009
Test::Builder::Tester 0 1.302198
Test::CheckDeps 0.010 0.010
Test::More 0.94 1.302198
configure_requires:
Module Need Have
---------------------------- ----- --------
ExtUtils::MakeMaker 0 7.70
perl 5.006 5.039009
------------------------------
ENVIRONMENT AND OTHER CONTEXT
------------------------------
Environment variables:
AUTOMATED_TESTING = 1
LANG = en_US.UTF-8
LANGUAGE = en_US:en
PATH = /home/sand/bin:/usr/local/bin:/usr/bin:/bin:/usr/games:/usr/local/perl/bin:/usr/X11/bin:/sbin:/usr/sbin
PERL5LIB =
PERL5OPT =
PERL5_CPANPLUS_IS_RUNNING = 3023449
PERL5_CPAN_IS_RUNNING = 3023449
PERL_CANARY_STABILITY_NOPROMPT = 1
PERL_MM_USE_DEFAULT = 1
PERL_USE_UNSAFE_INC = 1
SHELL = /usr/bin/zsh
TERM = screen
Perl special variables (and OS-specific diagnostics, for MSWin32):
$^X = /home/sand/src/perl/repoperls/installed-perls/host/k93msid/v5.39.9/8854/bin/perl
$UID/$EUID = 1005 / 1005
$GID = 1005 1005
$EGID = 1005 1005
Perl module toolchain versions installed:
Module Have
------------------- --------
CPAN 2.36
CPAN::Meta 2.150010
Cwd 3.90
ExtUtils::CBuilder 0.280240
ExtUtils::Command 7.70
ExtUtils::Install 2.22
ExtUtils::MakeMaker 7.70
ExtUtils::Manifest 1.75
ExtUtils::ParseXS 3.51
File::Spec 3.90
JSON 4.10
JSON::PP 4.16
Module::Build 0.4234
Module::Signature 0.88
Parse::CPAN::Meta 2.150010
Test2 1.302198
Test::Harness 3.48
Test::More 1.302198
YAML 1.31
YAML::Syck 1.34
version 0.9930
--
Summary of my perl5 (revision 5 version 39 subversion 9) configuration:
Commit id: 824a7e0bf8052e62e6913c5fb807a6a8331a2d81
Platform:
osname=linux
osvers=6.6.13-amd64
archname=x86_64-linux-thread-multi-ld
uname='linux k93msid 6.6.13-amd64 #1 smp preempt_dynamic debian 6.6.13-1 (2024-01-20) x86_64 gnulinux '
config_args='-Dprefix=/home/sand/src/perl/repoperls/installed-perls/host/k93msid/v5.39.9/8854 -Dmyhostname=k93msid -Dinstallusrbinperl=n -Uversiononly -Dusedevel -des -Ui_db -Dlibswanted=cl pthread socket inet nsl gdbm dbm malloc dl ld sun m crypt sec util c cposix posix ucb BSD gdbm_compat -Duseithreads -Duselongdouble -DEBUGGING=-g'
hint=recommended
useposix=true
d_sigaction=define
useithreads=define
usemultiplicity=define
use64bitint=define
use64bitall=define
uselongdouble=define
usemymalloc=n
default_inc_excludes_dot=define
Compiler:
cc='cc'
ccflags ='-D_REENTRANT -D_GNU_SOURCE -fwrapv -fno-strict-aliasing -pipe -fstack-protector-strong -I/usr/local/include -D_LARGEFILE_SOURCE -D_FILE_OFFSET_BITS=64 -D_FORTIFY_SOURCE=2'
optimize='-O2 -g'
cppflags='-D_REENTRANT -D_GNU_SOURCE -fwrapv -fno-strict-aliasing -pipe -fstack-protector-strong -I/usr/local/include'
ccversion=''
gccversion='13.2.0'
gccosandvers=''
intsize=4
longsize=8
ptrsize=8
doublesize=8
byteorder=12345678
doublekind=3
d_longlong=define
longlongsize=8
d_longdbl=define
longdblsize=16
longdblkind=3
ivtype='long'
ivsize=8
nvtype='long double'
nvsize=16
Off_t='off_t'
lseeksize=8
alignbytes=16
prototype=define
Linker and Libraries:
ld='cc'
ldflags =' -fstack-protector-strong -L/usr/local/lib'
libpth=/usr/local/lib /usr/lib/x86_64-linux-gnu /usr/lib /usr/lib64
libs=-lpthread -lnsl -ldl -lm -lcrypt -lutil -lc
perllibs=-lpthread -lnsl -ldl -lm -lcrypt -lutil -lc
libc=/lib/x86_64-linux-gnu/libc.so.6
so=so
useshrplib=false
libperl=libperl.a
gnulibc_version='2.37'
Dynamic Linking:
dlsrc=dl_dlopen.xs
dlext=so
d_dlsymun=undef
ccdlflags='-Wl,-E'
cccdlflags='-fPIC'
lddlflags='-shared -O2 -g -L/usr/local/lib -fstack-protector-strong'
Characteristics of this binary (from libperl):
Compile-time options:
HAS_LONG_DOUBLE
HAS_STRTOLD
HAS_TIMES
MULTIPLICITY
PERLIO_LAYERS
PERL_COPY_ON_WRITE
PERL_DONT_CREATE_GVSV
PERL_HASH_FUNC_SIPHASH13
PERL_HASH_USE_SBOX32
PERL_MALLOC_WRAP
PERL_OP_PARENT
PERL_PRESERVE_IVUV
PERL_USE_DEVEL
PERL_USE_SAFE_PUTENV
USE_64_BIT_ALL
USE_64_BIT_INT
USE_ITHREADS
USE_LARGE_FILES
USE_LOCALE
USE_LOCALE_COLLATE
USE_LOCALE_CTYPE
USE_LOCALE_NUMERIC
USE_LOCALE_TIME
USE_LONG_DOUBLE
USE_PERLIO
USE_PERL_ATOF
USE_REENTRANT_API
USE_THREAD_SAFE_LOCALE
Built under linux
Compiled at Mar 21 2024 05:33:45
%ENV:
PERL5LIB=""
PERL5OPT=""
PERL5_CPANPLUS_IS_RUNNING="3023449"
PERL5_CPAN_IS_RUNNING="3023449"
PERL_CANARY_STABILITY_NOPROMPT="1"
PERL_MM_USE_DEFAULT="1"
PERL_USE_UNSAFE_INC="1"
@INC:
/home/sand/src/perl/repoperls/installed-perls/host/k93msid/v5.39.9/8854/lib/site_perl/5.39.9/x86_64-linux-thread-multi-ld
/home/sand/src/perl/repoperls/installed-perls/host/k93msid/v5.39.9/8854/lib/site_perl/5.39.9
/home/sand/src/perl/repoperls/installed-perls/host/k93msid/v5.39.9/8854/lib/5.39.9/x86_64-linux-thread-multi-ld
/home/sand/src/perl/repoperls/installed-perls/host/k93msid/v5.39.9/8854/lib/5.39.9
.