RSH-Logging v0.4.3 Perl 5 v5.41.3 x86_64-linux-thread-multi-ld

Status
Pass
From
Andreas J. König (ANDK)
Dist
RSH-Logging v0.4.3
Platform
Perl 5 v5.41.3 x86_64-linux-thread-multi-ld
Date
2024-09-11 01:24:10
ID
8c0048ac-6fdc-11ef-9426-cdd6fd1fb034
This distribution has been tested as part of the CPAN Testers
project, supporting the Perl programming language.  See
http://wiki.cpantesters.org/ for more information or email
questions to cpan-testers-discuss@perl.org


--
Dear Matt Luker,

This is a computer-generated report for RSH-Logging-0.4.3
on perl 5.41.3, created by CPAN-Reporter-1.2020.

Thank you for uploading your work to CPAN.  Congratulations!
All tests were successful.

Sections of this report:

    * Tester comments
    * Program output
    * Prerequisites
    * Environment and other context

------------------------------
TESTER COMMENTS
------------------------------

Additional comments from tester:

this report is from an automated smoke testing program
and was not reviewed by a human for accuracy

------------------------------
PROGRAM OUTPUT
------------------------------

Output from '/usr/bin/make test':

PERL_DL_NONLAZY=1 "/tmp/basesmoker-reloperl-ixMF/bin/perl" "-MExtUtils::Command::MM" "-MTest::Harness" "-e" "undef *Test::Harness::Switches; test_harness(0, 'inc', 'blib/lib', 'blib/arch')" t/000.load.t t/010.RSH-Logging.t t/011.RSH-Logging-chunking.t t/999.perlcritic.t t/999.pod-coverage.t t/999.pod.t
# Testing RSH::Logging 0.4.3
t/000.load.t .................. ok
TOTAL TIME 5.2e-05s (19230.769/s)
.----------------------------------------------------------------+-----------.
| Event                                                          | Time      |
+----------------------------------------------------------------+-----------+
| + foo                                                          | 0.000052s |
'----------------------------------------------------------------+-----------'

TOTAL TIME 0.000425s (2352.941/s)
.----------------------------------------------------------------+-----------.
| Event                                                          | Time      |
+----------------------------------------------------------------+-----------+
| + foo                                                          | 0.000425s |
|   + sub1a                                                      | 0.000316s |
|     + sub2a                                                    | 0.000087s |
|     + sub2b                                                    | 0.000053s |
'----------------------------------------------------------------+-----------'

TOTAL TIME 0.000374s (2673.797/s)
.----------------------------------------------------------------+-----------.
| Event                                                          | Time      |
+----------------------------------------------------------------+-----------+
| + main                                                         | 0.000374s |
|   + main                                                       | 0.000257s |
|     + main                                                     | 0.000052s |
|     + main                                                     | 0.000050s |
'----------------------------------------------------------------+-----------'

DEBUG Logging.pm:407, RSH::Logging::__ANON__: TOTAL TIME 0.000356s (2808.989/s)
.----------------------------------------------------------------+-----------.
| Event                                                          | Time      |
+----------------------------------------------------------------+-----------+
| + foo                                                          | 0.000356s |
|   + sub1a                                                      | 0.000252s |
|     + sub2a                                                    | 0.000052s |
|     + sub2b                                                    | 0.000050s |
'----------------------------------------------------------------+-----------'

TOTAL TIME 0.000385s (2597.403/s)
.----------------------------------------------------------------+-----------.
| Event                                                          | Time      |
+----------------------------------------------------------------+-----------+
| + foo                                                          | 0.000385s |
|   + sub1a                                                      | 0.000276s |
|     + sub2a                                                    | 0.000052s |
|     + sub2b                                                    | 0.000066s |
'----------------------------------------------------------------+-----------'

TOTAL TIME 0.0004s (2500.000/s)
.----------------------------------------------------------------+-----------.
| Event                                                          | Time      |
+----------------------------------------------------------------+-----------+
| + foo                                                          | 0.000400s |
|   + sub1a (notation 1)                                         | 0.000268s |
|     + sub2a (notation 2)                                       | 0.000053s |
|     + sub2b (this is a very long note, which you shouldn't do- | 0.000052s |
| , but it can't be helped that people don't think things throu- |           |
| gh from time to time.)                                         |           |
'----------------------------------------------------------------+-----------'

TOTAL TIME 0.000371s (2695.418/s)
.----------------------------------------------------------------+-----------.
| Event                                                          | Time      |
+----------------------------------------------------------------+-----------+
| + foo                                                          | 0.000371s |
|   + sub1a                                                      | 0.000262s |
|     + sub2a                                                    | 0.000054s |
|     + sub2b                                                    | 0.000053s |
'----------------------------------------------------------------+-----------'

TOTAL TIME 0.00039s (2564.103/s)
.----------------------------------------------------------------+-----------.
| Event                                                          | Time      |
+----------------------------------------------------------------+-----------+
| + foo2                                                         | 0.000390s |
|   + sub1a                                                      | 0.000282s |
|     + sub2a                                                    | 0.000056s |
|     + sub2b                                                    | 0.000055s |
'----------------------------------------------------------------+-----------'

TOTAL TIME 0.000974s (1026.694/s)
.----------------------------------------------------------------+-----------.
| Event                                                          | Time      |
+----------------------------------------------------------------+-----------+
| + foo                                                          | 0.000974s |
|   + sub1a                                                      | 0.000855s |
|     + sub2a                                                    | 0.000171s |
|     + sub2b                                                    | 0.000499s |
|       + foo2                                                   | 0.000382s |
|         + sub1a                                                | 0.000267s |
|           + sub2a                                              | 0.000068s |
|           + sub2b                                              | 0.000050s |
'----------------------------------------------------------------+-----------'

TOTAL TIME 0.000315s (3174.603/s)
.----------------------------------------------------------------+-----------.
| Event                                                          | Time      |
+----------------------------------------------------------------+-----------+
| + foo                                                          | 0.000315s |
|   + sub1a                                                      | 0.000253s |
|     + sub2a                                                    | 0.000063s |
|     + sub2b                                                    | 0.000059s |
'----------------------------------------------------------------+-----------'

t/010.RSH-Logging.t ........... ok
DEBUG Logging.pm:407, RSH::Logging::__ANON__: TOTAL TIME 0.000492s (2032.520/s)
Use of uninitialized value in repeat (x) at /tmp/loop_over_bdir-473727-FB3_mr/RSH-Logging-0.4.3-0/blib/lib/RSH/Logging/TextTable.pm line 166.
Use of uninitialized value $Text::SimpleTable::TOP_LEFT in concatenation (.) or string at /tmp/loop_over_bdir-473727-FB3_mr/RSH-Logging-0.4.3-0/blib/lib/RSH/Logging/TextTable.pm line 171.
Use of uninitialized value $Text::SimpleTable::TOP_SEPARATOR in concatenation (.) or string at /tmp/loop_over_bdir-473727-FB3_mr/RSH-Logging-0.4.3-0/blib/lib/RSH/Logging/TextTable.pm line 171.
Use of uninitialized value in repeat (x) at /tmp/loop_over_bdir-473727-FB3_mr/RSH-Logging-0.4.3-0/blib/lib/RSH/Logging/TextTable.pm line 166.
Use of uninitialized value $Text::SimpleTable::TOP_RIGHT in concatenation (.) or string at /tmp/loop_over_bdir-473727-FB3_mr/RSH-Logging-0.4.3-0/blib/lib/RSH/Logging/TextTable.pm line 172.
DEBUG Logging.pm:407, RSH::Logging::__ANON__: 
Use of uninitialized value $Text::SimpleTable::LEFT_BORDER in concatenation (.) or string at /tmp/loop_over_bdir-473727-FB3_mr/RSH-Logging-0.4.3-0/blib/lib/RSH/Logging/TextTable.pm line 201.
Use of uninitialized value $Text::SimpleTable::SEPARATOR in concatenation (.) or string at /tmp/loop_over_bdir-473727-FB3_mr/RSH-Logging-0.4.3-0/blib/lib/RSH/Logging/TextTable.pm line 201.
Use of uninitialized value $Text::SimpleTable::RIGHT_BORDER in concatenation (.) or string at /tmp/loop_over_bdir-473727-FB3_mr/RSH-Logging-0.4.3-0/blib/lib/RSH/Logging/TextTable.pm line 202.
DEBUG Logging.pm:407, RSH::Logging::__ANON__: Event                                                         Time     
DEBUG Logging.pm:407, RSH::Logging::__ANON__: +----------------------------------------------------------------+-----------+
Use of uninitialized value $Text::SimpleTable::LEFT_BORDER in concatenation (.) or string at /tmp/loop_over_bdir-473727-FB3_mr/RSH-Logging-0.4.3-0/blib/lib/RSH/Logging/TextTable.pm line 240.
Use of uninitialized value $Text::SimpleTable::SEPARATOR in concatenation (.) or string at /tmp/loop_over_bdir-473727-FB3_mr/RSH-Logging-0.4.3-0/blib/lib/RSH/Logging/TextTable.pm line 240.
Use of uninitialized value $Text::SimpleTable::RIGHT_BORDER in concatenation (.) or string at /tmp/loop_over_bdir-473727-FB3_mr/RSH-Logging-0.4.3-0/blib/lib/RSH/Logging/TextTable.pm line 241.
DEBUG Logging.pm:407, RSH::Logging::__ANON__: + foo                                                         0.000492s
Use of uninitialized value $Text::SimpleTable::LEFT_BORDER in concatenation (.) or string at /tmp/loop_over_bdir-473727-FB3_mr/RSH-Logging-0.4.3-0/blib/lib/RSH/Logging/TextTable.pm line 240.
Use of uninitialized value $Text::SimpleTable::SEPARATOR in concatenation (.) or string at /tmp/loop_over_bdir-473727-FB3_mr/RSH-Logging-0.4.3-0/blib/lib/RSH/Logging/TextTable.pm line 240.
Use of uninitialized value $Text::SimpleTable::RIGHT_BORDER in concatenation (.) or string at /tmp/loop_over_bdir-473727-FB3_mr/RSH-Logging-0.4.3-0/blib/lib/RSH/Logging/TextTable.pm line 241.
DEBUG Logging.pm:407, RSH::Logging::__ANON__:   + sub1a                                                     0.000288s
Use of uninitialized value $Text::SimpleTable::LEFT_BORDER in concatenation (.) or string at /tmp/loop_over_bdir-473727-FB3_mr/RSH-Logging-0.4.3-0/blib/lib/RSH/Logging/TextTable.pm line 240.
Use of uninitialized value $Text::SimpleTable::SEPARATOR in concatenation (.) or string at /tmp/loop_over_bdir-473727-FB3_mr/RSH-Logging-0.4.3-0/blib/lib/RSH/Logging/TextTable.pm line 240.
Use of uninitialized value $Text::SimpleTable::RIGHT_BORDER in concatenation (.) or string at /tmp/loop_over_bdir-473727-FB3_mr/RSH-Logging-0.4.3-0/blib/lib/RSH/Logging/TextTable.pm line 241.
DEBUG Logging.pm:407, RSH::Logging::__ANON__:     + sub2a                                                   0.000061s
Use of uninitialized value $Text::SimpleTable::LEFT_BORDER in concatenation (.) or string at /tmp/loop_over_bdir-473727-FB3_mr/RSH-Logging-0.4.3-0/blib/lib/RSH/Logging/TextTable.pm line 240.
Use of uninitialized value $Text::SimpleTable::SEPARATOR in concatenation (.) or string at /tmp/loop_over_bdir-473727-FB3_mr/RSH-Logging-0.4.3-0/blib/lib/RSH/Logging/TextTable.pm line 240.
Use of uninitialized value $Text::SimpleTable::RIGHT_BORDER in concatenation (.) or string at /tmp/loop_over_bdir-473727-FB3_mr/RSH-Logging-0.4.3-0/blib/lib/RSH/Logging/TextTable.pm line 241.
DEBUG Logging.pm:407, RSH::Logging::__ANON__:     + sub2b                                                   0.000053s
Use of uninitialized value in repeat (x) at /tmp/loop_over_bdir-473727-FB3_mr/RSH-Logging-0.4.3-0/blib/lib/RSH/Logging/TextTable.pm line 256.
Use of uninitialized value $Text::SimpleTable::BOTTOM_LEFT in concatenation (.) or string at /tmp/loop_over_bdir-473727-FB3_mr/RSH-Logging-0.4.3-0/blib/lib/RSH/Logging/TextTable.pm line 261.
Use of uninitialized value $Text::SimpleTable::BOTTOM_SEPARATOR in concatenation (.) or string at /tmp/loop_over_bdir-473727-FB3_mr/RSH-Logging-0.4.3-0/blib/lib/RSH/Logging/TextTable.pm line 261.
Use of uninitialized value in repeat (x) at /tmp/loop_over_bdir-473727-FB3_mr/RSH-Logging-0.4.3-0/blib/lib/RSH/Logging/TextTable.pm line 256.
Use of uninitialized value $Text::SimpleTable::BOTTOM_RIGHT in concatenation (.) or string at /tmp/loop_over_bdir-473727-FB3_mr/RSH-Logging-0.4.3-0/blib/lib/RSH/Logging/TextTable.pm line 262.
DEBUG Logging.pm:407, RSH::Logging::__ANON__: 
DEBUG Logging.pm:407, RSH::Logging::__ANON__: 
Use of uninitialized value in repeat (x) at /tmp/loop_over_bdir-473727-FB3_mr/RSH-Logging-0.4.3-0/blib/lib/RSH/Logging/TextTable.pm line 166.
Use of uninitialized value $Text::SimpleTable::TOP_LEFT in concatenation (.) or string at /tmp/loop_over_bdir-473727-FB3_mr/RSH-Logging-0.4.3-0/blib/lib/RSH/Logging/TextTable.pm line 171.
Use of uninitialized value $Text::SimpleTable::TOP_SEPARATOR in concatenation (.) or string at /tmp/loop_over_bdir-473727-FB3_mr/RSH-Logging-0.4.3-0/blib/lib/RSH/Logging/TextTable.pm line 171.
Use of uninitialized value in repeat (x) at /tmp/loop_over_bdir-473727-FB3_mr/RSH-Logging-0.4.3-0/blib/lib/RSH/Logging/TextTable.pm line 166.
Use of uninitialized value $Text::SimpleTable::TOP_RIGHT in concatenation (.) or string at /tmp/loop_over_bdir-473727-FB3_mr/RSH-Logging-0.4.3-0/blib/lib/RSH/Logging/TextTable.pm line 172.
Use of uninitialized value $Text::SimpleTable::LEFT_BORDER in concatenation (.) or string at /tmp/loop_over_bdir-473727-FB3_mr/RSH-Logging-0.4.3-0/blib/lib/RSH/Logging/TextTable.pm line 201.
Use of uninitialized value $Text::SimpleTable::SEPARATOR in concatenation (.) or string at /tmp/loop_over_bdir-473727-FB3_mr/RSH-Logging-0.4.3-0/blib/lib/RSH/Logging/TextTable.pm line 201.
Use of uninitialized value $Text::SimpleTable::RIGHT_BORDER in concatenation (.) or string at /tmp/loop_over_bdir-473727-FB3_mr/RSH-Logging-0.4.3-0/blib/lib/RSH/Logging/TextTable.pm line 202.
Use of uninitialized value $Text::SimpleTable::LEFT_BORDER in concatenation (.) or string at /tmp/loop_over_bdir-473727-FB3_mr/RSH-Logging-0.4.3-0/blib/lib/RSH/Logging/TextTable.pm line 240.
Use of uninitialized value $Text::SimpleTable::SEPARATOR in concatenation (.) or string at /tmp/loop_over_bdir-473727-FB3_mr/RSH-Logging-0.4.3-0/blib/lib/RSH/Logging/TextTable.pm line 240.
Use of uninitialized value $Text::SimpleTable::RIGHT_BORDER in concatenation (.) or string at /tmp/loop_over_bdir-473727-FB3_mr/RSH-Logging-0.4.3-0/blib/lib/RSH/Logging/TextTable.pm line 241.
Use of uninitialized value $Text::SimpleTable::LEFT_BORDER in concatenation (.) or string at /tmp/loop_over_bdir-473727-FB3_mr/RSH-Logging-0.4.3-0/blib/lib/RSH/Logging/TextTable.pm line 240.
Use of uninitialized value $Text::SimpleTable::SEPARATOR in concatenation (.) or string at /tmp/loop_over_bdir-473727-FB3_mr/RSH-Logging-0.4.3-0/blib/lib/RSH/Logging/TextTable.pm line 240.
Use of uninitialized value $Text::SimpleTable::RIGHT_BORDER in concatenation (.) or string at /tmp/loop_over_bdir-473727-FB3_mr/RSH-Logging-0.4.3-0/blib/lib/RSH/Logging/TextTable.pm line 241.
Use of uninitialized value $Text::SimpleTable::LEFT_BORDER in concatenation (.) or string at /tmp/loop_over_bdir-473727-FB3_mr/RSH-Logging-0.4.3-0/blib/lib/RSH/Logging/TextTable.pm line 240.
Use of uninitialized value $Text::SimpleTable::SEPARATOR in concatenation (.) or string at /tmp/loop_over_bdir-473727-FB3_mr/RSH-Logging-0.4.3-0/blib/lib/RSH/Logging/TextTable.pm line 240.
Use of uninitialized value $Text::SimpleTable::RIGHT_BORDER in concatenation (.) or string at /tmp/loop_over_bdir-473727-FB3_mr/RSH-Logging-0.4.3-0/blib/lib/RSH/Logging/TextTable.pm line 241.
Use of uninitialized value $Text::SimpleTable::LEFT_BORDER in concatenation (.) or string at /tmp/loop_over_bdir-473727-FB3_mr/RSH-Logging-0.4.3-0/blib/lib/RSH/Logging/TextTable.pm line 240.
Use of uninitialized value $Text::SimpleTable::SEPARATOR in concatenation (.) or string at /tmp/loop_over_bdir-473727-FB3_mr/RSH-Logging-0.4.3-0/blib/lib/RSH/Logging/TextTable.pm line 240.
Use of uninitialized value $Text::SimpleTable::RIGHT_BORDER in concatenation (.) or string at /tmp/loop_over_bdir-473727-FB3_mr/RSH-Logging-0.4.3-0/blib/lib/RSH/Logging/TextTable.pm line 241.
Use of uninitialized value in repeat (x) at /tmp/loop_over_bdir-473727-FB3_mr/RSH-Logging-0.4.3-0/blib/lib/RSH/Logging/TextTable.pm line 256.
Use of uninitialized value $Text::SimpleTable::BOTTOM_LEFT in concatenation (.) or string at /tmp/loop_over_bdir-473727-FB3_mr/RSH-Logging-0.4.3-0/blib/lib/RSH/Logging/TextTable.pm line 261.
Use of uninitialized value $Text::SimpleTable::BOTTOM_SEPARATOR in concatenation (.) or string at /tmp/loop_over_bdir-473727-FB3_mr/RSH-Logging-0.4.3-0/blib/lib/RSH/Logging/TextTable.pm line 261.
Use of uninitialized value in repeat (x) at /tmp/loop_over_bdir-473727-FB3_mr/RSH-Logging-0.4.3-0/blib/lib/RSH/Logging/TextTable.pm line 256.
Use of uninitialized value $Text::SimpleTable::BOTTOM_RIGHT in concatenation (.) or string at /tmp/loop_over_bdir-473727-FB3_mr/RSH-Logging-0.4.3-0/blib/lib/RSH/Logging/TextTable.pm line 262.
Use of uninitialized value in repeat (x) at /tmp/loop_over_bdir-473727-FB3_mr/RSH-Logging-0.4.3-0/blib/lib/RSH/Logging/TextTable.pm line 166.
Use of uninitialized value $Text::SimpleTable::TOP_LEFT in concatenation (.) or string at /tmp/loop_over_bdir-473727-FB3_mr/RSH-Logging-0.4.3-0/blib/lib/RSH/Logging/TextTable.pm line 171.
Use of uninitialized value $Text::SimpleTable::TOP_SEPARATOR in concatenation (.) or string at /tmp/loop_over_bdir-473727-FB3_mr/RSH-Logging-0.4.3-0/blib/lib/RSH/Logging/TextTable.pm line 171.
Use of uninitialized value in repeat (x) at /tmp/loop_over_bdir-473727-FB3_mr/RSH-Logging-0.4.3-0/blib/lib/RSH/Logging/TextTable.pm line 166.
Use of uninitialized value $Text::SimpleTable::TOP_RIGHT in concatenation (.) or string at /tmp/loop_over_bdir-473727-FB3_mr/RSH-Logging-0.4.3-0/blib/lib/RSH/Logging/TextTable.pm line 172.
Use of uninitialized value $Text::SimpleTable::LEFT_BORDER in concatenation (.) or string at /tmp/loop_over_bdir-473727-FB3_mr/RSH-Logging-0.4.3-0/blib/lib/RSH/Logging/TextTable.pm line 201.
Use of uninitialized value $Text::SimpleTable::SEPARATOR in concatenation (.) or string at /tmp/loop_over_bdir-473727-FB3_mr/RSH-Logging-0.4.3-0/blib/lib/RSH/Logging/TextTable.pm line 201.
Use of uninitialized value $Text::SimpleTable::RIGHT_BORDER in concatenation (.) or string at /tmp/loop_over_bdir-473727-FB3_mr/RSH-Logging-0.4.3-0/blib/lib/RSH/Logging/TextTable.pm line 202.
Use of uninitialized value $Text::SimpleTable::LEFT_BORDER in concatenation (.) or string at /tmp/loop_over_bdir-473727-FB3_mr/RSH-Logging-0.4.3-0/blib/lib/RSH/Logging/TextTable.pm line 240.
Use of uninitialized value $Text::SimpleTable::SEPARATOR in concatenation (.) or string at /tmp/loop_over_bdir-473727-FB3_mr/RSH-Logging-0.4.3-0/blib/lib/RSH/Logging/TextTable.pm line 240.
Use of uninitialized value $Text::SimpleTable::RIGHT_BORDER in concatenation (.) or string at /tmp/loop_over_bdir-473727-FB3_mr/RSH-Logging-0.4.3-0/blib/lib/RSH/Logging/TextTable.pm line 241.
Use of uninitialized value $Text::SimpleTable::LEFT_BORDER in concatenation (.) or string at /tmp/loop_over_bdir-473727-FB3_mr/RSH-Logging-0.4.3-0/blib/lib/RSH/Logging/TextTable.pm line 240.
Use of uninitialized value $Text::SimpleTable::SEPARATOR in concatenation (.) or string at /tmp/loop_over_bdir-473727-FB3_mr/RSH-Logging-0.4.3-0/blib/lib/RSH/Logging/TextTable.pm line 240.
Use of uninitialized value $Text::SimpleTable::RIGHT_BORDER in concatenation (.) or string at /tmp/loop_over_bdir-473727-FB3_mr/RSH-Logging-0.4.3-0/blib/lib/RSH/Logging/TextTable.pm line 241.
Use of uninitialized value $Text::SimpleTable::LEFT_BORDER in concatenation (.) or string at /tmp/loop_over_bdir-473727-FB3_mr/RSH-Logging-0.4.3-0/blib/lib/RSH/Logging/TextTable.pm line 240.
Use of uninitialized value $Text::SimpleTable::SEPARATOR in concatenation (.) or string at /tmp/loop_over_bdir-473727-FB3_mr/RSH-Logging-0.4.3-0/blib/lib/RSH/Logging/TextTable.pm line 240.
Use of uninitialized value $Text::SimpleTable::RIGHT_BORDER in concatenation (.) or string at /tmp/loop_over_bdir-473727-FB3_mr/RSH-Logging-0.4.3-0/blib/lib/RSH/Logging/TextTable.pm line 241.
Use of uninitialized value $Text::SimpleTable::LEFT_BORDER in concatenation (.) or string at /tmp/loop_over_bdir-473727-FB3_mr/RSH-Logging-0.4.3-0/blib/lib/RSH/Logging/TextTable.pm line 240.
Use of uninitialized value $Text::SimpleTable::SEPARATOR in concatenation (.) or string at /tmp/loop_over_bdir-473727-FB3_mr/RSH-Logging-0.4.3-0/blib/lib/RSH/Logging/TextTable.pm line 240.
Use of uninitialized value $Text::SimpleTable::RIGHT_BORDER in concatenation (.) or string at /tmp/loop_over_bdir-473727-FB3_mr/RSH-Logging-0.4.3-0/blib/lib/RSH/Logging/TextTable.pm line 241.
Use of uninitialized value in repeat (x) at /tmp/loop_over_bdir-473727-FB3_mr/RSH-Logging-0.4.3-0/blib/lib/RSH/Logging/TextTable.pm line 256.
Use of uninitialized value $Text::SimpleTable::BOTTOM_LEFT in concatenation (.) or string at /tmp/loop_over_bdir-473727-FB3_mr/RSH-Logging-0.4.3-0/blib/lib/RSH/Logging/TextTable.pm line 261.
Use of uninitialized value $Text::SimpleTable::BOTTOM_SEPARATOR in concatenation (.) or string at /tmp/loop_over_bdir-473727-FB3_mr/RSH-Logging-0.4.3-0/blib/lib/RSH/Logging/TextTable.pm line 261.
Use of uninitialized value in repeat (x) at /tmp/loop_over_bdir-473727-FB3_mr/RSH-Logging-0.4.3-0/blib/lib/RSH/Logging/TextTable.pm line 256.
Use of uninitialized value $Text::SimpleTable::BOTTOM_RIGHT in concatenation (.) or string at /tmp/loop_over_bdir-473727-FB3_mr/RSH-Logging-0.4.3-0/blib/lib/RSH/Logging/TextTable.pm line 262.
TOTAL TIME 0.000392s (2551.020/s)

Event                                                         Time     
+----------------------------------------------------------------+-----------+
+ foo                                                         0.000392s
  + sub1a                                                     0.000268s
    + sub2a                                                   0.000055s
    + sub2b                                                   0.000051s


DEBUG Logging.pm:407, RSH::Logging::__ANON__: TOTAL TIME 0.000485s (2061.856/s)
.----------------------------------------------------------------+-----------.
| Event                                                          | Time      |
+----------------------------------------------------------------+-----------+
| + foo                                                          | 0.000485s |
|   + sub1a                                                      | 0.000275s |
|     + sub2a                                                    | 0.000054s |
|     + sub2b                                                    | 0.000056s |
|   + sub0                                                       | 0.000002s |
|   + sub1                                                       | 0.000002s |
|   + sub2                                                       | 0.000002s |
|   + sub3                                                       | 0.000001s |
|   + sub4                                                       | 0.000002s |
'----------------------------------------------------------------+-----------'

DEBUG Logging.pm:407, RSH::Logging::__ANON__: TOTAL TIME 0.000532s (1879.699/s)
Use of uninitialized value in repeat (x) at /tmp/loop_over_bdir-473727-FB3_mr/RSH-Logging-0.4.3-0/blib/lib/RSH/Logging/TextTable.pm line 166.
Use of uninitialized value $Text::SimpleTable::TOP_LEFT in concatenation (.) or string at /tmp/loop_over_bdir-473727-FB3_mr/RSH-Logging-0.4.3-0/blib/lib/RSH/Logging/TextTable.pm line 171.
Use of uninitialized value $Text::SimpleTable::TOP_SEPARATOR in concatenation (.) or string at /tmp/loop_over_bdir-473727-FB3_mr/RSH-Logging-0.4.3-0/blib/lib/RSH/Logging/TextTable.pm line 171.
Use of uninitialized value in repeat (x) at /tmp/loop_over_bdir-473727-FB3_mr/RSH-Logging-0.4.3-0/blib/lib/RSH/Logging/TextTable.pm line 166.
Use of uninitialized value $Text::SimpleTable::TOP_RIGHT in concatenation (.) or string at /tmp/loop_over_bdir-473727-FB3_mr/RSH-Logging-0.4.3-0/blib/lib/RSH/Logging/TextTable.pm line 172.
DEBUG Logging.pm:407, RSH::Logging::__ANON__: 
Use of uninitialized value $Text::SimpleTable::LEFT_BORDER in concatenation (.) or string at /tmp/loop_over_bdir-473727-FB3_mr/RSH-Logging-0.4.3-0/blib/lib/RSH/Logging/TextTable.pm line 201.
Use of uninitialized value $Text::SimpleTable::SEPARATOR in concatenation (.) or string at /tmp/loop_over_bdir-473727-FB3_mr/RSH-Logging-0.4.3-0/blib/lib/RSH/Logging/TextTable.pm line 201.
Use of uninitialized value $Text::SimpleTable::RIGHT_BORDER in concatenation (.) or string at /tmp/loop_over_bdir-473727-FB3_mr/RSH-Logging-0.4.3-0/blib/lib/RSH/Logging/TextTable.pm line 202.
DEBUG Logging.pm:407, RSH::Logging::__ANON__: Event                                                         Time     
DEBUG Logging.pm:407, RSH::Logging::__ANON__: +----------------------------------------------------------------+-----------+
Use of uninitialized value $Text::SimpleTable::LEFT_BORDER in concatenation (.) or string at /tmp/loop_over_bdir-473727-FB3_mr/RSH-Logging-0.4.3-0/blib/lib/RSH/Logging/TextTable.pm line 240.
Use of uninitialized value $Text::SimpleTable::SEPARATOR in concatenation (.) or string at /tmp/loop_over_bdir-473727-FB3_mr/RSH-Logging-0.4.3-0/blib/lib/RSH/Logging/TextTable.pm line 240.
Use of uninitialized value $Text::SimpleTable::RIGHT_BORDER in concatenation (.) or string at /tmp/loop_over_bdir-473727-FB3_mr/RSH-Logging-0.4.3-0/blib/lib/RSH/Logging/TextTable.pm line 241.
DEBUG Logging.pm:407, RSH::Logging::__ANON__: + foo                                                         0.000532s
Use of uninitialized value $Text::SimpleTable::LEFT_BORDER in concatenation (.) or string at /tmp/loop_over_bdir-473727-FB3_mr/RSH-Logging-0.4.3-0/blib/lib/RSH/Logging/TextTable.pm line 240.
Use of uninitialized value $Text::SimpleTable::SEPARATOR in concatenation (.) or string at /tmp/loop_over_bdir-473727-FB3_mr/RSH-Logging-0.4.3-0/blib/lib/RSH/Logging/TextTable.pm line 240.
Use of uninitialized value $Text::SimpleTable::RIGHT_BORDER in concatenation (.) or string at /tmp/loop_over_bdir-473727-FB3_mr/RSH-Logging-0.4.3-0/blib/lib/RSH/Logging/TextTable.pm line 241.
DEBUG Logging.pm:407, RSH::Logging::__ANON__:   + sub1a                                                     0.000289s
Use of uninitialized value $Text::SimpleTable::LEFT_BORDER in concatenation (.) or string at /tmp/loop_over_bdir-473727-FB3_mr/RSH-Logging-0.4.3-0/blib/lib/RSH/Logging/TextTable.pm line 240.
Use of uninitialized value $Text::SimpleTable::SEPARATOR in concatenation (.) or string at /tmp/loop_over_bdir-473727-FB3_mr/RSH-Logging-0.4.3-0/blib/lib/RSH/Logging/TextTable.pm line 240.
Use of uninitialized value $Text::SimpleTable::RIGHT_BORDER in concatenation (.) or string at /tmp/loop_over_bdir-473727-FB3_mr/RSH-Logging-0.4.3-0/blib/lib/RSH/Logging/TextTable.pm line 241.
DEBUG Logging.pm:407, RSH::Logging::__ANON__:     + sub2a                                                   0.000057s
Use of uninitialized value $Text::SimpleTable::LEFT_BORDER in concatenation (.) or string at /tmp/loop_over_bdir-473727-FB3_mr/RSH-Logging-0.4.3-0/blib/lib/RSH/Logging/TextTable.pm line 240.
Use of uninitialized value $Text::SimpleTable::SEPARATOR in concatenation (.) or string at /tmp/loop_over_bdir-473727-FB3_mr/RSH-Logging-0.4.3-0/blib/lib/RSH/Logging/TextTable.pm line 240.
Use of uninitialized value $Text::SimpleTable::RIGHT_BORDER in concatenation (.) or string at /tmp/loop_over_bdir-473727-FB3_mr/RSH-Logging-0.4.3-0/blib/lib/RSH/Logging/TextTable.pm line 241.
DEBUG Logging.pm:407, RSH::Logging::__ANON__:     + sub2b                                                   0.000052s
Use of uninitialized value $Text::SimpleTable::LEFT_BORDER in concatenation (.) or string at /tmp/loop_over_bdir-473727-FB3_mr/RSH-Logging-0.4.3-0/blib/lib/RSH/Logging/TextTable.pm line 240.
Use of uninitialized value $Text::SimpleTable::SEPARATOR in concatenation (.) or string at /tmp/loop_over_bdir-473727-FB3_mr/RSH-Logging-0.4.3-0/blib/lib/RSH/Logging/TextTable.pm line 240.
Use of uninitialized value $Text::SimpleTable::RIGHT_BORDER in concatenation (.) or string at /tmp/loop_over_bdir-473727-FB3_mr/RSH-Logging-0.4.3-0/blib/lib/RSH/Logging/TextTable.pm line 241.
DEBUG Logging.pm:407, RSH::Logging::__ANON__:   + sub0                                                      0.000002s
Use of uninitialized value $Text::SimpleTable::LEFT_BORDER in concatenation (.) or string at /tmp/loop_over_bdir-473727-FB3_mr/RSH-Logging-0.4.3-0/blib/lib/RSH/Logging/TextTable.pm line 240.
Use of uninitialized value $Text::SimpleTable::SEPARATOR in concatenation (.) or string at /tmp/loop_over_bdir-473727-FB3_mr/RSH-Logging-0.4.3-0/blib/lib/RSH/Logging/TextTable.pm line 240.
Use of uninitialized value $Text::SimpleTable::RIGHT_BORDER in concatenation (.) or string at /tmp/loop_over_bdir-473727-FB3_mr/RSH-Logging-0.4.3-0/blib/lib/RSH/Logging/TextTable.pm line 241.
DEBUG Logging.pm:407, RSH::Logging::__ANON__:   + sub1                                                      0.000001s
Use of uninitialized value $Text::SimpleTable::LEFT_BORDER in concatenation (.) or string at /tmp/loop_over_bdir-473727-FB3_mr/RSH-Logging-0.4.3-0/blib/lib/RSH/Logging/TextTable.pm line 240.
Use of uninitialized value $Text::SimpleTable::SEPARATOR in concatenation (.) or string at /tmp/loop_over_bdir-473727-FB3_mr/RSH-Logging-0.4.3-0/blib/lib/RSH/Logging/TextTable.pm line 240.
Use of uninitialized value $Text::SimpleTable::RIGHT_BORDER in concatenation (.) or string at /tmp/loop_over_bdir-473727-FB3_mr/RSH-Logging-0.4.3-0/blib/lib/RSH/Logging/TextTable.pm line 241.
DEBUG Logging.pm:407, RSH::Logging::__ANON__:   + sub2                                                      0.000002s
Use of uninitialized value $Text::SimpleTable::LEFT_BORDER in concatenation (.) or string at /tmp/loop_over_bdir-473727-FB3_mr/RSH-Logging-0.4.3-0/blib/lib/RSH/Logging/TextTable.pm line 240.
Use of uninitialized value $Text::SimpleTable::SEPARATOR in concatenation (.) or string at /tmp/loop_over_bdir-473727-FB3_mr/RSH-Logging-0.4.3-0/blib/lib/RSH/Logging/TextTable.pm line 240.
Use of uninitialized value $Text::SimpleTable::RIGHT_BORDER in concatenation (.) or string at /tmp/loop_over_bdir-473727-FB3_mr/RSH-Logging-0.4.3-0/blib/lib/RSH/Logging/TextTable.pm line 241.
DEBUG Logging.pm:407, RSH::Logging::__ANON__:   + sub3                                                      0.000001s
Use of uninitialized value $Text::SimpleTable::LEFT_BORDER in concatenation (.) or string at /tmp/loop_over_bdir-473727-FB3_mr/RSH-Logging-0.4.3-0/blib/lib/RSH/Logging/TextTable.pm line 240.
Use of uninitialized value $Text::SimpleTable::SEPARATOR in concatenation (.) or string at /tmp/loop_over_bdir-473727-FB3_mr/RSH-Logging-0.4.3-0/blib/lib/RSH/Logging/TextTable.pm line 240.
Use of uninitialized value $Text::SimpleTable::RIGHT_BORDER in concatenation (.) or string at /tmp/loop_over_bdir-473727-FB3_mr/RSH-Logging-0.4.3-0/blib/lib/RSH/Logging/TextTable.pm line 241.
DEBUG Logging.pm:407, RSH::Logging::__ANON__:   + sub4                                                      0.000001s
Use of uninitialized value $Text::SimpleTable::LEFT_BORDER in concatenation (.) or string at /tmp/loop_over_bdir-473727-FB3_mr/RSH-Logging-0.4.3-0/blib/lib/RSH/Logging/TextTable.pm line 240.
Use of uninitialized value $Text::SimpleTable::SEPARATOR in concatenation (.) or string at /tmp/loop_over_bdir-473727-FB3_mr/RSH-Logging-0.4.3-0/blib/lib/RSH/Logging/TextTable.pm line 240.
Use of uninitialized value $Text::SimpleTable::RIGHT_BORDER in concatenation (.) or string at /tmp/loop_over_bdir-473727-FB3_mr/RSH-Logging-0.4.3-0/blib/lib/RSH/Logging/TextTable.pm line 241.
DEBUG Logging.pm:407, RSH::Logging::__ANON__:   + sub5                                                      0.000002s
Use of uninitialized value $Text::SimpleTable::LEFT_BORDER in concatenation (.) or string at /tmp/loop_over_bdir-473727-FB3_mr/RSH-Logging-0.4.3-0/blib/lib/RSH/Logging/TextTable.pm line 240.
Use of uninitialized value $Text::SimpleTable::SEPARATOR in concatenation (.) or string at /tmp/loop_over_bdir-473727-FB3_mr/RSH-Logging-0.4.3-0/blib/lib/RSH/Logging/TextTable.pm line 240.
Use of uninitialized value $Text::SimpleTable::RIGHT_BORDER in concatenation (.) or string at /tmp/loop_over_bdir-473727-FB3_mr/RSH-Logging-0.4.3-0/blib/lib/RSH/Logging/TextTable.pm line 241.
DEBUG Logging.pm:407, RSH::Logging::__ANON__:   + sub6                                                      0.000001s
Use of uninitialized value $Text::SimpleTable::LEFT_BORDER in concatenation (.) or string at /tmp/loop_over_bdir-473727-FB3_mr/RSH-Logging-0.4.3-0/blib/lib/RSH/Logging/TextTable.pm line 240.
Use of uninitialized value $Text::SimpleTable::SEPARATOR in concatenation (.) or string at /tmp/loop_over_bdir-473727-FB3_mr/RSH-Logging-0.4.3-0/blib/lib/RSH/Logging/TextTable.pm line 240.
Use of uninitialized value $Text::SimpleTable::RIGHT_BORDER in concatenation (.) or string at /tmp/loop_over_bdir-473727-FB3_mr/RSH-Logging-0.4.3-0/blib/lib/RSH/Logging/TextTable.pm line 241.
DEBUG Logging.pm:407, RSH::Logging::__ANON__:   + sub7                                                      0.000002s
Use of uninitialized value $Text::SimpleTable::LEFT_BORDER in concatenation (.) or string at /tmp/loop_over_bdir-473727-FB3_mr/RSH-Logging-0.4.3-0/blib/lib/RSH/Logging/TextTable.pm line 240.
Use of uninitialized value $Text::SimpleTable::SEPARATOR in concatenation (.) or string at /tmp/loop_over_bdir-473727-FB3_mr/RSH-Logging-0.4.3-0/blib/lib/RSH/Logging/TextTable.pm line 240.
Use of uninitialized value $Text::SimpleTable::RIGHT_BORDER in concatenation (.) or string at /tmp/loop_over_bdir-473727-FB3_mr/RSH-Logging-0.4.3-0/blib/lib/RSH/Logging/TextTable.pm line 241.
DEBUG Logging.pm:407, RSH::Logging::__ANON__:   + sub8                                                      0.000002s
Use of uninitialized value $Text::SimpleTable::LEFT_BORDER in concatenation (.) or string at /tmp/loop_over_bdir-473727-FB3_mr/RSH-Logging-0.4.3-0/blib/lib/RSH/Logging/TextTable.pm line 240.
Use of uninitialized value $Text::SimpleTable::SEPARATOR in concatenation (.) or string at /tmp/loop_over_bdir-473727-FB3_mr/RSH-Logging-0.4.3-0/blib/lib/RSH/Logging/TextTable.pm line 240.
Use of uninitialized value $Text::SimpleTable::RIGHT_BORDER in concatenation (.) or string at /tmp/loop_over_bdir-473727-FB3_mr/RSH-Logging-0.4.3-0/blib/lib/RSH/Logging/TextTable.pm line 241.
DEBUG Logging.pm:407, RSH::Logging::__ANON__:   + sub9                                                      0.000002s
Use of uninitialized value $Text::SimpleTable::LEFT_BORDER in concatenation (.) or string at /tmp/loop_over_bdir-473727-FB3_mr/RSH-Logging-0.4.3-0/blib/lib/RSH/Logging/TextTable.pm line 240.
Use of uninitialized value $Text::SimpleTable::SEPARATOR in concatenation (.) or string at /tmp/loop_over_bdir-473727-FB3_mr/RSH-Logging-0.4.3-0/blib/lib/RSH/Logging/TextTable.pm line 240.
Use of uninitialized value $Text::SimpleTable::RIGHT_BORDER in concatenation (.) or string at /tmp/loop_over_bdir-473727-FB3_mr/RSH-Logging-0.4.3-0/blib/lib/RSH/Logging/TextTable.pm line 241.
DEBUG Logging.pm:407, RSH::Logging::__ANON__:   + sub10                                                     0.000001s
Use of uninitialized value $Text::SimpleTable::LEFT_BORDER in concatenation (.) or string at /tmp/loop_over_bdir-473727-FB3_mr/RSH-Logging-0.4.3-0/blib/lib/RSH/Logging/TextTable.pm line 240.
Use of uninitialized value $Text::SimpleTable::SEPARATOR in concatenation (.) or string at /tmp/loop_over_bdir-473727-FB3_mr/RSH-Logging-0.4.3-0/blib/lib/RSH/Logging/TextTable.pm line 240.
Use of uninitialized value $Text::SimpleTable::RIGHT_BORDER in concatenation (.) or string at /tmp/loop_over_bdir-473727-FB3_mr/RSH-Logging-0.4.3-0/blib/lib/RSH/Logging/TextTable.pm line 241.
DEBUG Logging.pm:407, RSH::Logging::__ANON__:   + sub11                                                     0.000001s
Use of uninitialized value $Text::SimpleTable::LEFT_BORDER in concatenation (.) or string at /tmp/loop_over_bdir-473727-FB3_mr/RSH-Logging-0.4.3-0/blib/lib/RSH/Logging/TextTable.pm line 240.
Use of uninitialized value $Text::SimpleTable::SEPARATOR in concatenation (.) or string at /tmp/loop_over_bdir-473727-FB3_mr/RSH-Logging-0.4.3-0/blib/lib/RSH/Logging/TextTable.pm line 240.
Use of uninitialized value $Text::SimpleTable::RIGHT_BORDER in concatenation (.) or string at /tmp/loop_over_bdir-473727-FB3_mr/RSH-Logging-0.4.3-0/blib/lib/RSH/Logging/TextTable.pm line 241.
DEBUG Logging.pm:407, RSH::Logging::__ANON__:   + sub12                                                     0.000001s
Use of uninitialized value $Text::SimpleTable::LEFT_BORDER in concatenation (.) or string at /tmp/loop_over_bdir-473727-FB3_mr/RSH-Logging-0.4.3-0/blib/lib/RSH/Logging/TextTable.pm line 240.
Use of uninitialized value $Text::SimpleTable::SEPARATOR in concatenation (.) or string at /tmp/loop_over_bdir-473727-FB3_mr/RSH-Logging-0.4.3-0/blib/lib/RSH/Logging/TextTable.pm line 240.
Use of uninitialized value $Text::SimpleTable::RIGHT_BORDER in concatenation (.) or string at /tmp/loop_over_bdir-473727-FB3_mr/RSH-Logging-0.4.3-0/blib/lib/RSH/Logging/TextTable.pm line 241.
DEBUG Logging.pm:407, RSH::Logging::__ANON__:   + sub13                                                     0.000001s
Use of uninitialized value $Text::SimpleTable::LEFT_BORDER in concatenation (.) or string at /tmp/loop_over_bdir-473727-FB3_mr/RSH-Logging-0.4.3-0/blib/lib/RSH/Logging/TextTable.pm line 240.
Use of uninitialized value $Text::SimpleTable::SEPARATOR in concatenation (.) or string at /tmp/loop_over_bdir-473727-FB3_mr/RSH-Logging-0.4.3-0/blib/lib/RSH/Logging/TextTable.pm line 240.
Use of uninitialized value $Text::SimpleTable::RIGHT_BORDER in concatenation (.) or string at /tmp/loop_over_bdir-473727-FB3_mr/RSH-Logging-0.4.3-0/blib/lib/RSH/Logging/TextTable.pm line 241.
DEBUG Logging.pm:407, RSH::Logging::__ANON__:   + sub14                                                     0.000001s
Use of uninitialized value $Text::SimpleTable::LEFT_BORDER in concatenation (.) or string at /tmp/loop_over_bdir-473727-FB3_mr/RSH-Logging-0.4.3-0/blib/lib/RSH/Logging/TextTable.pm line 240.
Use of uninitialized value $Text::SimpleTable::SEPARATOR in concatenation (.) or string at /tmp/loop_over_bdir-473727-FB3_mr/RSH-Logging-0.4.3-0/blib/lib/RSH/Logging/TextTable.pm line 240.
Use of uninitialized value $Text::SimpleTable::RIGHT_BORDER in concatenation (.) or string at /tmp/loop_over_bdir-473727-FB3_mr/RSH-Logging-0.4.3-0/blib/lib/RSH/Logging/TextTable.pm line 241.
DEBUG Logging.pm:407, RSH::Logging::__ANON__:   + sub15                                                     0.000001s
Use of uninitialized value $Text::SimpleTable::LEFT_BORDER in concatenation (.) or string at /tmp/loop_over_bdir-473727-FB3_mr/RSH-Logging-0.4.3-0/blib/lib/RSH/Logging/TextTable.pm line 240.
Use of uninitialized value $Text::SimpleTable::SEPARATOR in concatenation (.) or string at /tmp/loop_over_bdir-473727-FB3_mr/RSH-Logging-0.4.3-0/blib/lib/RSH/Logging/TextTable.pm line 240.
Use of uninitialized value $Text::SimpleTable::RIGHT_BORDER in concatenation (.) or string at /tmp/loop_over_bdir-473727-FB3_mr/RSH-Logging-0.4.3-0/blib/lib/RSH/Logging/TextTable.pm line 241.
DEBUG Logging.pm:407, RSH::Logging::__ANON__:   + sub16                                                     0.000001s
Use of uninitialized value $Text::SimpleTable::LEFT_BORDER in concatenation (.) or string at /tmp/loop_over_bdir-473727-FB3_mr/RSH-Logging-0.4.3-0/blib/lib/RSH/Logging/TextTable.pm line 240.
Use of uninitialized value $Text::SimpleTable::SEPARATOR in concatenation (.) or string at /tmp/loop_over_bdir-473727-FB3_mr/RSH-Logging-0.4.3-0/blib/lib/RSH/Logging/TextTable.pm line 240.
Use of uninitialized value $Text::SimpleTable::RIGHT_BORDER in concatenation (.) or string at /tmp/loop_over_bdir-473727-FB3_mr/RSH-Logging-0.4.3-0/blib/lib/RSH/Logging/TextTable.pm line 241.
DEBUG Logging.pm:407, RSH::Logging::__ANON__:   + sub17                                                     0.000002s
Use of uninitialized value $Text::SimpleTable::LEFT_BORDER in concatenation (.) or string at /tmp/loop_over_bdir-473727-FB3_mr/RSH-Logging-0.4.3-0/blib/lib/RSH/Logging/TextTable.pm line 240.
Use of uninitialized value $Text::SimpleTable::SEPARATOR in concatenation (.) or string at /tmp/loop_over_bdir-473727-FB3_mr/RSH-Logging-0.4.3-0/blib/lib/RSH/Logging/TextTable.pm line 240.
Use of uninitialized value $Text::SimpleTable::RIGHT_BORDER in concatenation (.) or string at /tmp/loop_over_bdir-473727-FB3_mr/RSH-Logging-0.4.3-0/blib/lib/RSH/Logging/TextTable.pm line 241.
DEBUG Logging.pm:407, RSH::Logging::__ANON__:   + sub18                                                     0.000001s
Use of uninitialized value $Text::SimpleTable::LEFT_BORDER in concatenation (.) or string at /tmp/loop_over_bdir-473727-FB3_mr/RSH-Logging-0.4.3-0/blib/lib/RSH/Logging/TextTable.pm line 240.
Use of uninitialized value $Text::SimpleTable::SEPARATOR in concatenation (.) or string at /tmp/loop_over_bdir-473727-FB3_mr/RSH-Logging-0.4.3-0/blib/lib/RSH/Logging/TextTable.pm line 240.
Use of uninitialized value $Text::SimpleTable::RIGHT_BORDER in concatenation (.) or string at /tmp/loop_over_bdir-473727-FB3_mr/RSH-Logging-0.4.3-0/blib/lib/RSH/Logging/TextTable.pm line 241.
DEBUG Logging.pm:407, RSH::Logging::__ANON__:   + sub19                                                     0.000001s
Use of uninitialized value $Text::SimpleTable::LEFT_BORDER in concatenation (.) or string at /tmp/loop_over_bdir-473727-FB3_mr/RSH-Logging-0.4.3-0/blib/lib/RSH/Logging/TextTable.pm line 240.
Use of uninitialized value $Text::SimpleTable::SEPARATOR in concatenation (.) or string at /tmp/loop_over_bdir-473727-FB3_mr/RSH-Logging-0.4.3-0/blib/lib/RSH/Logging/TextTable.pm line 240.
Use of uninitialized value $Text::SimpleTable::RIGHT_BORDER in concatenation (.) or string at /tmp/loop_over_bdir-473727-FB3_mr/RSH-Logging-0.4.3-0/blib/lib/RSH/Logging/TextTable.pm line 241.
DEBUG Logging.pm:407, RSH::Logging::__ANON__:   + sub20                                                     0.000001s
Use of uninitialized value $Text::SimpleTable::LEFT_BORDER in concatenation (.) or string at /tmp/loop_over_bdir-473727-FB3_mr/RSH-Logging-0.4.3-0/blib/lib/RSH/Logging/TextTable.pm line 240.
Use of uninitialized value $Text::SimpleTable::SEPARATOR in concatenation (.) or string at /tmp/loop_over_bdir-473727-FB3_mr/RSH-Logging-0.4.3-0/blib/lib/RSH/Logging/TextTable.pm line 240.
Use of uninitialized value $Text::SimpleTable::RIGHT_BORDER in concatenation (.) or string at /tmp/loop_over_bdir-473727-FB3_mr/RSH-Logging-0.4.3-0/blib/lib/RSH/Logging/TextTable.pm line 241.
DEBUG Logging.pm:407, RSH::Logging::__ANON__:   + sub21                                                     0.000003s
Use of uninitialized value $Text::SimpleTable::LEFT_BORDER in concatenation (.) or string at /tmp/loop_over_bdir-473727-FB3_mr/RSH-Logging-0.4.3-0/blib/lib/RSH/Logging/TextTable.pm line 240.
Use of uninitialized value $Text::SimpleTable::SEPARATOR in concatenation (.) or string at /tmp/loop_over_bdir-473727-FB3_mr/RSH-Logging-0.4.3-0/blib/lib/RSH/Logging/TextTable.pm line 240.
Use of uninitialized value $Text::SimpleTable::RIGHT_BORDER in concatenation (.) or string at /tmp/loop_over_bdir-473727-FB3_mr/RSH-Logging-0.4.3-0/blib/lib/RSH/Logging/TextTable.pm line 241.
DEBUG Logging.pm:407, RSH::Logging::__ANON__:   + sub22                                                     0.000002s
Use of uninitialized value $Text::SimpleTable::LEFT_BORDER in concatenation (.) or string at /tmp/loop_over_bdir-473727-FB3_mr/RSH-Logging-0.4.3-0/blib/lib/RSH/Logging/TextTable.pm line 240.
Use of uninitialized value $Text::SimpleTable::SEPARATOR in concatenation (.) or string at /tmp/loop_over_bdir-473727-FB3_mr/RSH-Logging-0.4.3-0/blib/lib/RSH/Logging/TextTable.pm line 240.
Use of uninitialized value $Text::SimpleTable::RIGHT_BORDER in concatenation (.) or string at /tmp/loop_over_bdir-473727-FB3_mr/RSH-Logging-0.4.3-0/blib/lib/RSH/Logging/TextTable.pm line 241.
DEBUG Logging.pm:407, RSH::Logging::__ANON__:   + sub23                                                     0.000001s
Use of uninitialized value $Text::SimpleTable::LEFT_BORDER in concatenation (.) or string at /tmp/loop_over_bdir-473727-FB3_mr/RSH-Logging-0.4.3-0/blib/lib/RSH/Logging/TextTable.pm line 240.
Use of uninitialized value $Text::SimpleTable::SEPARATOR in concatenation (.) or string at /tmp/loop_over_bdir-473727-FB3_mr/RSH-Logging-0.4.3-0/blib/lib/RSH/Logging/TextTable.pm line 240.
Use of uninitialized value $Text::SimpleTable::RIGHT_BORDER in concatenation (.) or string at /tmp/loop_over_bdir-473727-FB3_mr/RSH-Logging-0.4.3-0/blib/lib/RSH/Logging/TextTable.pm line 241.
DEBUG Logging.pm:407, RSH::Logging::__ANON__:   + sub24                                                     0.000001s
Use of uninitialized value in repeat (x) at /tmp/loop_over_bdir-473727-FB3_mr/RSH-Logging-0.4.3-0/blib/lib/RSH/Logging/TextTable.pm line 256.
Use of uninitialized value $Text::SimpleTable::BOTTOM_LEFT in concatenation (.) or string at /tmp/loop_over_bdir-473727-FB3_mr/RSH-Logging-0.4.3-0/blib/lib/RSH/Logging/TextTable.pm line 261.
Use of uninitialized value $Text::SimpleTable::BOTTOM_SEPARATOR in concatenation (.) or string at /tmp/loop_over_bdir-473727-FB3_mr/RSH-Logging-0.4.3-0/blib/lib/RSH/Logging/TextTable.pm line 261.
Use of uninitialized value in repeat (x) at /tmp/loop_over_bdir-473727-FB3_mr/RSH-Logging-0.4.3-0/blib/lib/RSH/Logging/TextTable.pm line 256.
Use of uninitialized value $Text::SimpleTable::BOTTOM_RIGHT in concatenation (.) or string at /tmp/loop_over_bdir-473727-FB3_mr/RSH-Logging-0.4.3-0/blib/lib/RSH/Logging/TextTable.pm line 262.
DEBUG Logging.pm:407, RSH::Logging::__ANON__: 
DEBUG Logging.pm:407, RSH::Logging::__ANON__: 
t/011.RSH-Logging-chunking.t .. ok
t/999.perlcritic.t ............ skipped: Not worrying about perl critic right now.
t/999.pod-coverage.t .......... ok
t/999.pod.t ................... ok
All tests successful.
Files=6, Tests=160,  2 wallclock secs ( 0.04 usr  0.02 sys +  1.54 cusr  0.46 csys =  2.06 CPU)
Result: PASS

------------------------------
PREREQUISITES
------------------------------

Prerequisite modules loaded:

requires:

    Module              Need  Have    
    ------------------- ----- --------
    IO::File            0     1.55    
    Log::Log4perl       0     1.57    
    perl                5.008 5.041003
    Scalar::Util        0     1.65    
    Test::More          0     1.302203
    Text::SimpleTable   0     2.07    
    Time::HiRes         0     1.9777  

build_requires:

    Module              Need  Have    
    ------------------- ----- --------
    ExtUtils::MakeMaker 6.42  7.70    
    Test::More          0     1.302203

configure_requires:

    Module              Need  Have    
    ------------------- ----- --------
    ExtUtils::MakeMaker 6.42  7.70    

opt_requires:

    Module              Need  Have    
    ------------------- ----- --------
    Test::Perl::Critic  0     1.04    
    Test::Pod           0     1.52    
    Test::Pod::Coverage 0     1.10    


------------------------------
ENVIRONMENT AND OTHER CONTEXT
------------------------------

Environment variables:

    AUTOMATED_TESTING = 1
    LANG = en_US.UTF-8
    LC_ADDRESS = de_DE.UTF-8
    LC_IDENTIFICATION = de_DE.UTF-8
    LC_MEASUREMENT = de_DE.UTF-8
    LC_MONETARY = de_DE.UTF-8
    LC_NAME = de_DE.UTF-8
    LC_NUMERIC = de_DE.UTF-8
    LC_PAPER = de_DE.UTF-8
    LC_TELEPHONE = de_DE.UTF-8
    LC_TIME = de_DE.UTF-8
    PATH = /home/sand/bin:/usr/local/bin:/usr/local/sbin:/usr/sbin:/usr/bin:/sbin:/bin:/usr/games:/usr/local/games:/snap/bin:/usr/local/perl/bin:/usr/X11/bin
    PERL = /tmp/basesmoker-reloperl-ixMF/bin/perl
    PERL5LIB = /tmp/loop_over_bdir-473727-FB3_mr/Net-OpenVPN-DDNS-0.1-0/blib/arch:/tmp/loop_over_bdir-473727-FB3_mr/Net-OpenVPN-DDNS-0.1-0/blib/lib:/tmp/loop_over_bdir-473727-FB3_mr/Alien-SNMP-MIBDEV-2.020000-0/blib/arch:/tmp/loop_over_bdir-473727-FB3_mr/Alien-SNMP-MIBDEV-2.020000-0/blib/lib:/tmp/loop_over_bdir-473727-FB3_mr/Linux-InitFS-0.2-0/blib/arch:/tmp/loop_over_bdir-473727-FB3_mr/Linux-InitFS-0.2-0/blib/lib:/tmp/loop_over_bdir-473727-FB3_mr/mmds-1.902-0/blib/arch:/tmp/loop_over_bdir-473727-FB3_mr/mmds-1.902-0/blib/lib:/tmp/loop_over_bdir-473727-FB3_mr/AllKnowingDNS-1.7-0/blib/arch:/tmp/loop_over_bdir-473727-FB3_mr/AllKnowingDNS-1.7-0/blib/lib:/tmp/loop_over_bdir-473727-FB3_mr/makepp-1.19-0/blib/arch:/tmp/loop_over_bdir-473727-FB3_mr/makepp-1.19-0/blib/lib:/tmp/loop_over_bdir-473727-FB3_mr/Simulation-Automate-1.0.1-0/blib/arch:/tmp/loop_over_bdir-473727-FB3_mr/Simulation-Automate-1.0.1-0/blib/lib:/tmp/loop_over_bdir-473727-FB3_mr/js-app-0.13-0/blib/arch:/tmp/loop_over_bdir-473727-FB3_mr/js-app-0.13-0/blib/lib:/tmp/loop_over_bdir-473727-FB3_mr/App-rmcd-0.280-0/blib/arch:/tmp/loop_over_bdir-473727-FB3_mr/App-rmcd-0.280-0/blib/lib:/tmp/loop_over_bdir-473727-FB3_mr/NoZone-1.3-0/blib/arch:/tmp/loop_over_bdir-473727-FB3_mr/NoZone-1.3-0/blib/lib:/tmp/loop_over_bdir-473727-FB3_mr/Courier-Filter-v0.200-0/blib/arch:/tmp/loop_over_bdir-473727-FB3_mr/Courier-Filter-v0.200-0/blib/lib:/tmp/loop_over_bdir-473727-FB3_mr/App-nrun-v1.1.2-0/blib/arch:/tmp/loop_over_bdir-473727-FB3_mr/App-nrun-v1.1.2-0/blib/lib:/tmp/loop_over_bdir-473727-FB3_mr/CORBA-Python-2.66-0/blib/arch:/tmp/loop_over_bdir-473727-FB3_mr/CORBA-Python-2.66-0/blib/lib:/tmp/loop_over_bdir-473727-FB3_mr/Business-Shipping-DataFiles-1.02-0/blib/arch:/tmp/loop_over_bdir-473727-FB3_mr/Business-Shipping-DataFiles-1.02-0/blib/lib:/tmp/loop_over_bdir-473727-FB3_mr/Lingua-BioYaTeA-0.11-0/blib/arch:/tmp/loop_over_bdir-473727-FB3_mr/Lingua-BioYaTeA-0.11-0/blib/lib:/tmp/loop_over_bdir-473727-FB3_mr/CGI-Application-NetNewsIface-0.0204-0/blib/arch:/tmp/loop_over_bdir-473727-FB3_mr/CGI-Application-NetNewsIface-0.0204-0/blib/lib:/tmp/loop_over_bdir-473727-FB3_mr/DBIx-Migration-Directories-0.12-0/blib/arch:/tmp/loop_over_bdir-473727-FB3_mr/DBIx-Migration-Directories-0.12-0/blib/lib:/tmp/loop_over_bdir-473727-FB3_mr/dta-tokwrap-0.98-0/blib/arch:/tmp/loop_over_bdir-473727-FB3_mr/dta-tokwrap-0.98-0/blib/lib:/tmp/loop_over_bdir-473727-FB3_mr/EJBCA-CrlPublish-0.60-0/blib/arch:/tmp/loop_over_bdir-473727-FB3_mr/EJBCA-CrlPublish-0.60-0/blib/lib:/tmp/loop_over_bdir-473727-FB3_mr/LiquidWeb-Storm-CLI-1.03-0/blib/arch:/tmp/loop_over_bdir-473727-FB3_mr/LiquidWeb-Storm-CLI-1.03-0/blib/lib:/tmp/loop_over_bdir-473727-FB3_mr/Lingua-YaTeA-0.626-0/blib/arch:/tmp/loop_over_bdir-473727-FB3_mr/Lingua-YaTeA-0.626-0/blib/lib:/tmp/loop_over_bdir-473727-FB3_mr/Net-ISP-Balance-1.31-0/blib/arch:/tmp/loop_over_bdir-473727-FB3_mr/Net-ISP-Balance-1.31-0/blib/lib:/tmp/loop_over_bdir-473727-FB3_mr/App-oo_modulino_zsh_completion_helper-0.04-0/blib/arch:/tmp/loop_over_bdir-473727-FB3_mr/App-oo_modulino_zsh_completion_helper-0.04-0/blib/lib:/tmp/loop_over_bdir-473727-FB3_mr/shishi-0.0.1-0/blib/arch:/tmp/loop_over_bdir-473727-FB3_mr/shishi-0.0.1-0/blib/lib:/tmp/loop_over_bdir-473727-FB3_mr/downsexta-0/blib/arch:/tmp/loop_over_bdir-473727-FB3_mr/downsexta-0/blib/lib:/tmp/loop_over_bdir-473727-FB3_mr/Devel-Required-0.16-0/blib/arch:/tmp/loop_over_bdir-473727-FB3_mr/Devel-Required-0.16-0/blib/lib:/tmp/loop_over_bdir-473727-FB3_mr/perl-Hardware-UPS-Perl-0.43-0/blib/arch:/tmp/loop_over_bdir-473727-FB3_mr/perl-Hardware-UPS-Perl-0.43-0/blib/lib:/tmp/loop_over_bdir-473727-FB3_mr/triceps-2.1.0-0/blib/arch:/tmp/loop_over_bdir-473727-FB3_mr/triceps-2.1.0-0/blib/lib
    PERL5OPT = 
    PERL5_CPANPLUS_IS_RUNNING = 473735
    PERL5_CPAN_IS_RUNNING = 473735
    PERL_CANARY_STABILITY_NOPROMPT = 1
    PERL_MM_USE_DEFAULT = 1
    PERL_USE_UNSAFE_INC = 1
    SHELL = /usr/bin/zsh
    TERM = screen

Perl special variables (and OS-specific diagnostics, for MSWin32):

    $^X = /tmp/basesmoker-reloperl-ixMF/bin/perl
    $UID/$EUID = 1005 / 1005
    $GID = 1005 1005
    $EGID = 1005 1005

Perl module toolchain versions installed:

    Module              Have    
    ------------------- --------
    CPAN                2.37    
    CPAN::Meta          2.150010
    Cwd                 3.92    
    ExtUtils::CBuilder  0.280240
    ExtUtils::Command   7.70    
    ExtUtils::Install   2.22    
    ExtUtils::MakeMaker 7.70    
    ExtUtils::Manifest  1.75    
    ExtUtils::ParseXS   3.53    
    File::Spec          3.92    
    JSON                4.10    
    JSON::PP            4.16    
    Module::Build       0.4234  
    Module::Signature   0.88    
    Parse::CPAN::Meta   2.150010
    Test2               1.302203
    Test::Harness       3.50    
    Test::More          1.302203
    YAML                1.31    
    YAML::Syck          1.34    
    version             0.9933  


--

Summary of my perl5 (revision 5 version 41 subversion 3) configuration:
  Commit id: 7561aa27084e94eb0f399e9e8ee576069d40a706
  Platform:
    osname=linux
    osvers=6.5.0-44-generic
    archname=x86_64-linux-thread-multi-ld
    uname='linux k93jammy 6.5.0-44-generic #44~22.04.1-ubuntu smp preempt_dynamic tue jun 18 14:36:16 utc 2 x86_64 x86_64 x86_64 gnulinux '
    config_args='-Dprefix=/home/sand/src/perl/repoperls/installed-perls/host/k93jammy/v5.41.3/322f -Dmyhostname=k93jammy -Dinstallusrbinperl=n -Uversiononly -Dusedevel -des -Ui_db -Dlibswanted=cl pthread socket inet nsl gdbm dbm malloc dl ld sun m crypt sec util c cposix posix ucb BSD gdbm_compat -Duseithreads -Duselongdouble -DEBUGGING=-g'
    hint=recommended
    useposix=true
    d_sigaction=define
    useithreads=define
    usemultiplicity=define
    use64bitint=define
    use64bitall=define
    uselongdouble=define
    usemymalloc=n
    default_inc_excludes_dot=define
  Compiler:
    cc='cc'
    ccflags ='-D_REENTRANT -D_GNU_SOURCE -fwrapv -fno-strict-aliasing -pipe -fstack-protector-strong -I/usr/local/include -D_LARGEFILE_SOURCE -D_FILE_OFFSET_BITS=64'
    optimize='-O2 -g'
    cppflags='-D_REENTRANT -D_GNU_SOURCE -fwrapv -fno-strict-aliasing -pipe -fstack-protector-strong -I/usr/local/include'
    ccversion=''
    gccversion='11.4.0'
    gccosandvers=''
    intsize=4
    longsize=8
    ptrsize=8
    doublesize=8
    byteorder=12345678
    doublekind=3
    d_longlong=define
    longlongsize=8
    d_longdbl=define
    longdblsize=16
    longdblkind=3
    ivtype='long'
    ivsize=8
    nvtype='long double'
    nvsize=16
    Off_t='off_t'
    lseeksize=8
    alignbytes=16
    prototype=define
  Linker and Libraries:
    ld='cc'
    ldflags =' -fstack-protector-strong -L/usr/local/lib'
    libpth=/usr/local/lib /usr/lib/x86_64-linux-gnu /usr/lib /usr/lib64
    libs=-lpthread -lnsl -ldl -lm -lcrypt -lutil -lc
    perllibs=-lpthread -lnsl -ldl -lm -lcrypt -lutil -lc
    libc=/lib/x86_64-linux-gnu/libc.so.6
    so=so
    useshrplib=false
    libperl=libperl.a
    gnulibc_version='2.35'
  Dynamic Linking:
    dlsrc=dl_dlopen.xs
    dlext=so
    d_dlsymun=undef
    ccdlflags='-Wl,-E'
    cccdlflags='-fPIC'
    lddlflags='-shared -O2 -g -L/usr/local/lib -fstack-protector-strong'


Characteristics of this binary (from libperl): 
  Compile-time options:
    HAS_LONG_DOUBLE
    HAS_STRTOLD
    HAS_TIMES
    MULTIPLICITY
    PERLIO_LAYERS
    PERL_COPY_ON_WRITE
    PERL_DONT_CREATE_GVSV
    PERL_HASH_FUNC_SIPHASH13
    PERL_HASH_USE_SBOX32
    PERL_MALLOC_WRAP
    PERL_OP_PARENT
    PERL_PRESERVE_IVUV
    PERL_USE_DEVEL
    PERL_USE_SAFE_PUTENV
    USE_64_BIT_ALL
    USE_64_BIT_INT
    USE_ITHREADS
    USE_LARGE_FILES
    USE_LOCALE
    USE_LOCALE_COLLATE
    USE_LOCALE_CTYPE
    USE_LOCALE_NUMERIC
    USE_LOCALE_TIME
    USE_LONG_DOUBLE
    USE_PERLIO
    USE_PERL_ATOF
    USE_REENTRANT_API
    USE_THREAD_SAFE_LOCALE
  Built under linux
  Compiled at Sep  1 2024 19:41:30
  %ENV:
    PERL="/tmp/basesmoker-reloperl-ixMF/bin/perl"
    PERL5LIB="/tmp/loop_over_bdir-473727-FB3_mr/Net-OpenVPN-DDNS-0.1-0/blib/arch:/tmp/loop_over_bdir-473727-FB3_mr/Net-OpenVPN-DDNS-0.1-0/blib/lib:/tmp/loop_over_bdir-473727-FB3_mr/Alien-SNMP-MIBDEV-2.020000-0/blib/arch:/tmp/loop_over_bdir-473727-FB3_mr/Alien-SNMP-MIBDEV-2.020000-0/blib/lib:/tmp/loop_over_bdir-473727-FB3_mr/Linux-InitFS-0.2-0/blib/arch:/tmp/loop_over_bdir-473727-FB3_mr/Linux-InitFS-0.2-0/blib/lib:/tmp/loop_over_bdir-473727-FB3_mr/mmds-1.902-0/blib/arch:/tmp/loop_over_bdir-473727-FB3_mr/mmds-1.902-0/blib/lib:/tmp/loop_over_bdir-473727-FB3_mr/AllKnowingDNS-1.7-0/blib/arch:/tmp/loop_over_bdir-473727-FB3_mr/AllKnowingDNS-1.7-0/blib/lib:/tmp/loop_over_bdir-473727-FB3_mr/makepp-1.19-0/blib/arch:/tmp/loop_over_bdir-473727-FB3_mr/makepp-1.19-0/blib/lib:/tmp/loop_over_bdir-473727-FB3_mr/Simulation-Automate-1.0.1-0/blib/arch:/tmp/loop_over_bdir-473727-FB3_mr/Simulation-Automate-1.0.1-0/blib/lib:/tmp/loop_over_bdir-473727-FB3_mr/js-app-0.13-0/blib/arch:/tmp/loop_over_bdir-473727-FB3_mr/js-app-0.13-0/blib/lib:/tmp/loop_over_bdir-473727-FB3_mr/App-rmcd-0.280-0/blib/arch:/tmp/loop_over_bdir-473727-FB3_mr/App-rmcd-0.280-0/blib/lib:/tmp/loop_over_bdir-473727-FB3_mr/NoZone-1.3-0/blib/arch:/tmp/loop_over_bdir-473727-FB3_mr/NoZone-1.3-0/blib/lib:/tmp/loop_over_bdir-473727-FB3_mr/Courier-Filter-v0.200-0/blib/arch:/tmp/loop_over_bdir-473727-FB3_mr/Courier-Filter-v0.200-0/blib/lib:/tmp/loop_over_bdir-473727-FB3_mr/App-nrun-v1.1.2-0/blib/arch:/tmp/loop_over_bdir-473727-FB3_mr/App-nrun-v1.1.2-0/blib/lib:/tmp/loop_over_bdir-473727-FB3_mr/CORBA-Python-2.66-0/blib/arch:/tmp/loop_over_bdir-473727-FB3_mr/CORBA-Python-2.66-0/blib/lib:/tmp/loop_over_bdir-473727-FB3_mr/Business-Shipping-DataFiles-1.02-0/blib/arch:/tmp/loop_over_bdir-473727-FB3_mr/Business-Shipping-DataFiles-1.02-0/blib/lib:/tmp/loop_over_bdir-473727-FB3_mr/Lingua-BioYaTeA-0.11-0/blib/arch:/tmp/loop_over_bdir-473727-FB3_mr/Lingua-BioYaTeA-0.11-0/blib/lib:/tmp/loop_over_bdir-473727-FB3_mr/CGI-Application-NetNewsIface-0.0204-0/blib/arch:/tmp/loop_over_bdir-473727-FB3_mr/CGI-Application-NetNewsIface-0.0204-0/blib/lib:/tmp/loop_over_bdir-473727-FB3_mr/DBIx-Migration-Directories-0.12-0/blib/arch:/tmp/loop_over_bdir-473727-FB3_mr/DBIx-Migration-Directories-0.12-0/blib/lib:/tmp/loop_over_bdir-473727-FB3_mr/dta-tokwrap-0.98-0/blib/arch:/tmp/loop_over_bdir-473727-FB3_mr/dta-tokwrap-0.98-0/blib/lib:/tmp/loop_over_bdir-473727-FB3_mr/EJBCA-CrlPublish-0.60-0/blib/arch:/tmp/loop_over_bdir-473727-FB3_mr/EJBCA-CrlPublish-0.60-0/blib/lib:/tmp/loop_over_bdir-473727-FB3_mr/LiquidWeb-Storm-CLI-1.03-0/blib/arch:/tmp/loop_over_bdir-473727-FB3_mr/LiquidWeb-Storm-CLI-1.03-0/blib/lib:/tmp/loop_over_bdir-473727-FB3_mr/Lingua-YaTeA-0.626-0/blib/arch:/tmp/loop_over_bdir-473727-FB3_mr/Lingua-YaTeA-0.626-0/blib/lib:/tmp/loop_over_bdir-473727-FB3_mr/Net-ISP-Balance-1.31-0/blib/arch:/tmp/loop_over_bdir-473727-FB3_mr/Net-ISP-Balance-1.31-0/blib/lib:/tmp/loop_over_bdir-473727-FB3_mr/App-oo_modulino_zsh_completion_helper-0.04-0/blib/arch:/tmp/loop_over_bdir-473727-FB3_mr/App-oo_modulino_zsh_completion_helper-0.04-0/blib/lib:/tmp/loop_over_bdir-473727-FB3_mr/shishi-0.0.1-0/blib/arch:/tmp/loop_over_bdir-473727-FB3_mr/shishi-0.0.1-0/blib/lib:/tmp/loop_over_bdir-473727-FB3_mr/downsexta-0/blib/arch:/tmp/loop_over_bdir-473727-FB3_mr/downsexta-0/blib/lib:/tmp/loop_over_bdir-473727-FB3_mr/Devel-Required-0.16-0/blib/arch:/tmp/loop_over_bdir-473727-FB3_mr/Devel-Required-0.16-0/blib/lib:/tmp/loop_over_bdir-473727-FB3_mr/perl-Hardware-UPS-Perl-0.43-0/blib/arch:/tmp/loop_over_bdir-473727-FB3_mr/perl-Hardware-UPS-Perl-0.43-0/blib/lib:/tmp/loop_over_bdir-473727-FB3_mr/triceps-2.1.0-0/blib/arch:/tmp/loop_over_bdir-473727-FB3_mr/triceps-2.1.0-0/blib/lib"
    PERL5OPT=""
    PERL5_CPANPLUS_IS_RUNNING="473735"
    PERL5_CPAN_IS_RUNNING="473735"
    PERL_CANARY_STABILITY_NOPROMPT="1"
    PERL_MM_USE_DEFAULT="1"
    PERL_USE_UNSAFE_INC="1"
  @INC:
    /tmp/loop_over_bdir-473727-FB3_mr/Net-OpenVPN-DDNS-0.1-0/blib/arch
    /tmp/loop_over_bdir-473727-FB3_mr/Net-OpenVPN-DDNS-0.1-0/blib/lib
    /tmp/loop_over_bdir-473727-FB3_mr/Alien-SNMP-MIBDEV-2.020000-0/blib/arch
    /tmp/loop_over_bdir-473727-FB3_mr/Alien-SNMP-MIBDEV-2.020000-0/blib/lib
    /tmp/loop_over_bdir-473727-FB3_mr/Linux-InitFS-0.2-0/blib/arch
    /tmp/loop_over_bdir-473727-FB3_mr/Linux-InitFS-0.2-0/blib/lib
    /tmp/loop_over_bdir-473727-FB3_mr/mmds-1.902-0/blib/arch
    /tmp/loop_over_bdir-473727-FB3_mr/mmds-1.902-0/blib/lib
    /tmp/loop_over_bdir-473727-FB3_mr/AllKnowingDNS-1.7-0/blib/arch
    /tmp/loop_over_bdir-473727-FB3_mr/AllKnowingDNS-1.7-0/blib/lib
    /tmp/loop_over_bdir-473727-FB3_mr/makepp-1.19-0/blib/arch
    /tmp/loop_over_bdir-473727-FB3_mr/makepp-1.19-0/blib/lib
    /tmp/loop_over_bdir-473727-FB3_mr/Simulation-Automate-1.0.1-0/blib/arch
    /tmp/loop_over_bdir-473727-FB3_mr/Simulation-Automate-1.0.1-0/blib/lib
    /tmp/loop_over_bdir-473727-FB3_mr/js-app-0.13-0/blib/arch
    /tmp/loop_over_bdir-473727-FB3_mr/js-app-0.13-0/blib/lib
    /tmp/loop_over_bdir-473727-FB3_mr/App-rmcd-0.280-0/blib/arch
    /tmp/loop_over_bdir-473727-FB3_mr/App-rmcd-0.280-0/blib/lib
    /tmp/loop_over_bdir-473727-FB3_mr/NoZone-1.3-0/blib/arch
    /tmp/loop_over_bdir-473727-FB3_mr/NoZone-1.3-0/blib/lib
    /tmp/loop_over_bdir-473727-FB3_mr/Courier-Filter-v0.200-0/blib/arch
    /tmp/loop_over_bdir-473727-FB3_mr/Courier-Filter-v0.200-0/blib/lib
    /tmp/loop_over_bdir-473727-FB3_mr/App-nrun-v1.1.2-0/blib/arch
    /tmp/loop_over_bdir-473727-FB3_mr/App-nrun-v1.1.2-0/blib/lib
    /tmp/loop_over_bdir-473727-FB3_mr/CORBA-Python-2.66-0/blib/arch
    /tmp/loop_over_bdir-473727-FB3_mr/CORBA-Python-2.66-0/blib/lib
    /tmp/loop_over_bdir-473727-FB3_mr/Business-Shipping-DataFiles-1.02-0/blib/arch
    /tmp/loop_over_bdir-473727-FB3_mr/Business-Shipping-DataFiles-1.02-0/blib/lib
    /tmp/loop_over_bdir-473727-FB3_mr/Lingua-BioYaTeA-0.11-0/blib/arch
    /tmp/loop_over_bdir-473727-FB3_mr/Lingua-BioYaTeA-0.11-0/blib/lib
    /tmp/loop_over_bdir-473727-FB3_mr/CGI-Application-NetNewsIface-0.0204-0/blib/arch
    /tmp/loop_over_bdir-473727-FB3_mr/CGI-Application-NetNewsIface-0.0204-0/blib/lib
    /tmp/loop_over_bdir-473727-FB3_mr/DBIx-Migration-Directories-0.12-0/blib/arch
    /tmp/loop_over_bdir-473727-FB3_mr/DBIx-Migration-Directories-0.12-0/blib/lib
    /tmp/loop_over_bdir-473727-FB3_mr/dta-tokwrap-0.98-0/blib/arch
    /tmp/loop_over_bdir-473727-FB3_mr/dta-tokwrap-0.98-0/blib/lib
    /tmp/loop_over_bdir-473727-FB3_mr/EJBCA-CrlPublish-0.60-0/blib/arch
    /tmp/loop_over_bdir-473727-FB3_mr/EJBCA-CrlPublish-0.60-0/blib/lib
    /tmp/loop_over_bdir-473727-FB3_mr/LiquidWeb-Storm-CLI-1.03-0/blib/arch
    /tmp/loop_over_bdir-473727-FB3_mr/LiquidWeb-Storm-CLI-1.03-0/blib/lib
    /tmp/loop_over_bdir-473727-FB3_mr/Lingua-YaTeA-0.626-0/blib/arch
    /tmp/loop_over_bdir-473727-FB3_mr/Lingua-YaTeA-0.626-0/blib/lib
    /tmp/loop_over_bdir-473727-FB3_mr/Net-ISP-Balance-1.31-0/blib/arch
    /tmp/loop_over_bdir-473727-FB3_mr/Net-ISP-Balance-1.31-0/blib/lib
    /tmp/loop_over_bdir-473727-FB3_mr/App-oo_modulino_zsh_completion_helper-0.04-0/blib/arch
    /tmp/loop_over_bdir-473727-FB3_mr/App-oo_modulino_zsh_completion_helper-0.04-0/blib/lib
    /tmp/loop_over_bdir-473727-FB3_mr/shishi-0.0.1-0/blib/arch
    /tmp/loop_over_bdir-473727-FB3_mr/shishi-0.0.1-0/blib/lib
    /tmp/loop_over_bdir-473727-FB3_mr/downsexta-0/blib/arch
    /tmp/loop_over_bdir-473727-FB3_mr/downsexta-0/blib/lib
    /tmp/loop_over_bdir-473727-FB3_mr/Devel-Required-0.16-0/blib/arch
    /tmp/loop_over_bdir-473727-FB3_mr/Devel-Required-0.16-0/blib/lib
    /tmp/loop_over_bdir-473727-FB3_mr/perl-Hardware-UPS-Perl-0.43-0/blib/arch
    /tmp/loop_over_bdir-473727-FB3_mr/perl-Hardware-UPS-Perl-0.43-0/blib/lib
    /tmp/loop_over_bdir-473727-FB3_mr/triceps-2.1.0-0/blib/arch
    /tmp/loop_over_bdir-473727-FB3_mr/triceps-2.1.0-0/blib/lib
    /home/sand/src/perl/repoperls/installed-perls/host/k93jammy/v5.41.3/322f/lib/site_perl/5.41.3/x86_64-linux-thread-multi-ld
    /home/sand/src/perl/repoperls/installed-perls/host/k93jammy/v5.41.3/322f/lib/site_perl/5.41.3
    /home/sand/src/perl/repoperls/installed-perls/host/k93jammy/v5.41.3/322f/lib/5.41.3/x86_64-linux-thread-multi-ld
    /home/sand/src/perl/repoperls/installed-perls/host/k93jammy/v5.41.3/322f/lib/5.41.3
    .