Report for Test-TempDir-0.10

Back
From: metabase:user:30f4dfbe-2aae-11df-837a-5e0a49663a4f
Subject: PASS Test-TempDir-0.10 v5.14.2 
Date: 2015-05-25T00:32:38Z

This distribution has been tested as part of the CPAN Testers
project, supporting the Perl programming language.  See
http://wiki.cpantesters.org/ for more information or email
questions to cpan-testers-discuss@perl.org


--
Dear Karen Etheridge,

This is a computer-generated report for Test-TempDir-0.10
on perl 5.14.2, created by CPAN-Reporter-1.2014.

Thank you for uploading your work to CPAN.  Congratulations!
All tests were successful.

Sections of this report:

    * Tester comments
    * Program output
    * Prerequisites
    * Environment and other context

------------------------------
TESTER COMMENTS
------------------------------

Additional comments from tester:

none provided

------------------------------
PROGRAM OUTPUT
------------------------------

Output from 'C:\Perl5.14.2\bin\perl.exe ./Build test':

# 
# Versions for all modules listed in MYMETA.json (including optional ones):
# 
# === Configure Requires ===
# 
#     Module               Want  Have
#     ------------------- ----- -----
#     Module::Build::Tiny 0.039 0.039
# 
# === Test Requires ===
# 
#     Module              Want     Have
#     ------------------- ---- --------
#     ExtUtils::MakeMaker  any     7.04
#     File::Path          2.04     2.09
#     File::Spec           any     3.47
#     Test::More          0.88 1.001014
#     Test::Requires       any     0.08
#     ok                   any     0.16
# 
# === Test Recommends ===
# 
#     Module         Want     Have
#     ---------- -------- --------
#     CPAN::Meta 2.120900 2.150001
# 
# === Runtime Requires ===
# 
#     Module                       Want     Have
#     ---------------------------- ---- --------
#     Carp                          any     1.36
#     File::NFSLock                 any     1.21
#     File::Spec                    any     3.47
#     File::Temp                    any   0.2304
#     Moose                         any   2.1404
#     Moose::Util::TypeConstraints  any   2.1404
#     MooseX::Types::Path::Class    any     0.06
#     Path::Class                   any     0.33
#     Sub::Exporter                 any    0.987
#     Test::Builder                 any 1.001014
#     namespace::autoclean         0.08     0.15
#     strict                        any     1.04
#     warnings                      any     1.12
# 
# === Runtime Recommends ===
# 
#     Module             Want    Have
#     ------------------ ---- -------
#     Directory::Scratch  any missing
# 
t/00-report-prereqs.t .. ok
t/00_load.t ............ ok
t/basic.t .............. ok
t/directory_scratch.t .. skipped: Test requires module 'Directory::Scratch' but it's not found
t/factory.t ............ ok
t/handle.t ............. ok
All tests successful.
Files=6, Tests=70,  3 wallclock secs ( 0.03 usr +  0.03 sys =  0.06 CPU)
Result: PASS

------------------------------
PREREQUISITES
------------------------------

Prerequisite modules loaded:

requires:

    Module                       Need  Have    
    ---------------------------- ----- --------
    Carp                         0     1.36    
    File::NFSLock                0     1.21    
    File::Spec                   0     3.47    
    File::Temp                   0     0.2304  
    Moose                        0     2.1404  
    Moose::Util::TypeConstraints 0     2.1404  
    MooseX::Types::Path::Class   0     0.06    
    namespace::autoclean         0.08  0.15    
    Path::Class                  0     0.33    
    perl                         5.006 5.014002
    strict                       0     1.04    
    Sub::Exporter                0     0.987   
    Test::Builder                0     1.001014
    warnings                     0     1.12    

build_requires:

    Module                       Need  Have    
    ---------------------------- ----- --------
    ExtUtils::MakeMaker          0     7.04    
    File::Path                   2.04  2.09    
    File::Spec                   0     3.47    
    ok                           0     0.16    
    perl                         5.006 5.014002
    Test::More                   0.88  1.001014
    Test::Requires               0     0.08    

configure_requires:

    Module                       Need  Have    
    ---------------------------- ----- --------
    Module::Build::Tiny          0.039 0.039   
    perl                         5.006 5.014002


------------------------------
ENVIRONMENT AND OTHER CONTEXT
------------------------------

Environment variables:

    COMSPEC = C:\Windows\system32\cmd.exe
    INCLUDE = C:\Program Files (x86)\Microsoft Visual Studio 12.0\VC\INCLUDE;C:\Program Files (x86)\Windows Kits\8.1\include\shared;C:\Program Files (x86)\Windows Kits\8.1\include\um;C:\Program Files (x86)\Windows Kits\8.1\include\winrt;
    LIB = C:\Program Files (x86)\Microsoft Visual Studio 12.0\VC\LIB;C:\Program Files (x86)\Windows Kits\8.1\lib\winv6.3\um\x86;
    NUMBER_OF_PROCESSORS = 12
    PATH = C:\Program Files (x86)\Microsoft Visual Studio 12.0\Common7\IDE\CommonExtensions\Microsoft\TestWindow;C:\Program Files (x86)\MSBuild\12.0\bin;C:\Program Files (x86)\Microsoft Visual Studio 12.0\Common7\IDE\;C:\Program Files (x86)\Microsoft Visual Studio 12.0\VC\BIN;C:\Program Files (x86)\Microsoft Visual Studio 12.0\Common7\Tools;C:\Windows\Microsoft.NET\Framework\v4.0.30319;C:\Program Files (x86)\Microsoft Visual Studio 12.0\VC\VCPackages;C:\Program Files (x86)\Microsoft Visual Studio 12.0\Team Tools\Performance Tools;C:\Program Files (x86)\Windows Kits\8.1\bin\x86;C:\Program Files (x86)\Microsoft SDKs\Windows\v8.1A\bin\NETFX 4.5.1 Tools\;C:\Program Files (x86)\Intel\iCLS Client\;C:\Program Files\Intel\iCLS Client\;C:\Windows\system32;C:\Windows;C:\Windows\System32\Wbem;C:\Windows\System32\WindowsPowerShell\v1.0\;C:\Program Files\Intel\Intel(R) Management Engine Components\DAL;C:\Program Files\Intel\Intel(R) Management Engine Components\IPT;C:\Program Files (x86)\Intel\Intel(R) Management Engine Components\DAL;C:\Program Files (x86)\Intel\Intel(R) Management Engine Components\IPT;C:\Program Files (x86)\Windows Kits\8.1\Windows Performance Toolkit\;C:\Program Files (x86)\Windows Live\Shared;C:\Program Files (x86)\Windows Kits\8.0\Windows Performance Toolkit\;C:\Program Files (x86)\QuickTime\QTSystem\;C:\Program Files (x86)\NVIDIA Corporation\PhysX\Common;C:\Program Files (x86)\Skype\Phone\;C:\Perl5.14.2\site\bin;C:\Perl5.14.2\bin
    PERL5LIB = 
    PERL5OPT = 
    PERL5_CPANPLUS_IS_RUNNING = 7408
    PERL5_CPAN_IS_RUNNING = 7408
    PROCESSOR_IDENTIFIER = Intel64 Family 6 Model 62 Stepping 4, GenuineIntel
    TEMP = I:\TEMP

Perl special variables (and OS-specific diagnostics, for MSWin32):

    $^X = C:\Perl5.14.2\bin\perl.exe
    $UID/$EUID = 0 / 0
    $GID = 0
    $EGID = 0
    Win32::GetOSName = Win8
    Win32::GetOSVersion = , 6, 2, 9200, 2, 0, 0, 768, 1
    Win32::FsType = NTFS
    Win32::IsAdminUser = 0

Perl module toolchain versions installed:

    Module              Have    
    ------------------- --------
    CPAN                2.05    
    CPAN::Meta          2.150001
    Cwd                 3.47    
    ExtUtils::CBuilder  0.280220
    ExtUtils::Command   1.20    
    ExtUtils::Install   2.04    
    ExtUtils::MakeMaker 7.04    
    ExtUtils::Manifest  1.70    
    ExtUtils::ParseXS   3.24    
    File::Spec          3.47    
    JSON                2.90    
    JSON::PP            2.27300 
    Module::Build       0.4211  
    Module::Signature   n/a     
    Parse::CPAN::Meta   1.4414  
    Test::Harness       3.35    
    Test::More          1.001014
    YAML                1.15    
    YAML::Syck          1.29    
    version             0.9909  


--

Summary of my perl5 (revision 5 version 14 subversion 2) configuration:
   
  Platform:
    osname=MSWin32, osvers=5.2, archname=MSWin32-x86-multi-thread
    uname=''
    config_args='undef'
    hint=recommended, useposix=true, d_sigaction=undef
    useithreads=define, usemultiplicity=define
    useperlio=define, d_sfio=undef, uselargefiles=define, usesocks=undef
    use64bitint=undef, use64bitall=undef, uselongdouble=undef
    usemymalloc=n, bincompat5005=undef
  Compiler:
    cc='cl', ccflags ='-nologo -GF -W3 -MD -Zi -DNDEBUG -O1 -DWIN32 -D_CONSOLE -DNO_STRICT -DPERL_TEXTMODE_SCRIPTS -DUSE_SITECUSTOMIZE -DPERL_IMPLICIT_CONTEXT -DPERL_IMPLICIT_SYS -DUSE_PERLIO -D_USE_32BIT_TIME_T',
    optimize='-MD -Zi -DNDEBUG -O1',
    cppflags='-DWIN32'
    ccversion='18.0.21005', gccversion='', gccosandvers=''
    intsize=4, longsize=4, ptrsize=4, doublesize=8, byteorder=1234
    d_longlong=undef, longlongsize=8, d_longdbl=define, longdblsize=8
    ivtype='long', ivsize=4, nvtype='double', nvsize=8, Off_t='__int64', lseeksize=8
    alignbytes=8, prototype=define
  Linker and Libraries:
    ld='link', ldflags ='-nologo -nodefaultlib -debug -opt:ref,icf  -libpath:"C:\Perl5.14.2\lib\CORE"  -machine:x86'
    libpth=\lib
    libs=oldnames.lib kernel32.lib user32.lib gdi32.lib winspool.lib  comdlg32.lib advapi32.lib shell32.lib ole32.lib oleaut32.lib  netapi32.lib uuid.lib ws2_32.lib mpr.lib winmm.lib  version.lib odbc32.lib odbccp32.lib comctl32.lib msvcrt.lib
    perllibs=oldnames.lib kernel32.lib user32.lib gdi32.lib winspool.lib  comdlg32.lib advapi32.lib shell32.lib ole32.lib oleaut32.lib  netapi32.lib uuid.lib ws2_32.lib mpr.lib winmm.lib  version.lib odbc32.lib odbccp32.lib comctl32.lib msvcrt.lib
    libc=msvcrt.lib, so=dll, useshrplib=true, libperl=perl514.lib
    gnulibc_version=''
  Dynamic Linking:
    dlsrc=dl_win32.xs, dlext=dll, d_dlsymun=undef, ccdlflags=' '
    cccdlflags=' ', lddlflags='-dll -nologo -nodefaultlib -debug -opt:ref,icf  -libpath:"C:\Perl5.14.2\lib\CORE"  -machine:x86'


Characteristics of this binary (from libperl): 
  Compile-time options: MULTIPLICITY PERL_DONT_CREATE_GVSV
                        PERL_IMPLICIT_CONTEXT PERL_IMPLICIT_SYS
                        PERL_MALLOC_WRAP PERL_PRESERVE_IVUV PL_OP_SLAB_ALLOC
                        USE_ITHREADS USE_LARGE_FILES USE_PERLIO USE_PERL_ATOF
                        USE_SITECUSTOMIZE
  Locally applied patches:
	ActivePerl Build 1402 [295342]
  Built under MSWin32
  Compiled at Oct  7 2011 15:49:44
  %ENV:
    PERL5_CPANPLUS_IS_RUNNING="7408"
    PERL5_CPAN_IS_RUNNING="7408"
  @INC:
    C:/Perl5.14.2/site/lib
    C:/Perl5.14.2/lib
    .