Finance-Quote v1.65 Perl 5 v5.24.0 amd64-freebsd
- Status
- Pass
- From
- Slaven Rezić
- Dist
-
Finance-Quote v1.65
- Platform
- Perl 5 v5.24.0 amd64-freebsd
- Date
- 2025-04-27 02:44:31
- ID
- 8b95d218-2311-11f0-a5ec-fc226e8775ea
This distribution has been tested as part of the CPAN Testers
project, supporting the Perl programming language. See
http://wiki.cpantesters.org/ for more information or email
questions to cpan-testers-discuss@perl.org
--
Dear Bruce Schuck,
This is a computer-generated report for Finance-Quote-1.65
on perl 5.24.0, created by CPAN-Reporter-1.2019.
Thank you for uploading your work to CPAN. Congratulations!
All tests were successful.
Sections of this report:
* Tester comments
* Program output
* Prerequisites
* Environment and other context
------------------------------
TESTER COMMENTS
------------------------------
Additional comments from tester:
none provided
------------------------------
PROGRAM OUTPUT
------------------------------
Output from '/usr/bin/make test':
PERL_DL_NONLAZY=1 "/usr/perl5.24.0p/bin/perl" "-MExtUtils::Command::MM" "-MTest::Harness" "-e" "undef *Test::Harness::Switches; test_harness(0, 'blib/lib', 'blib/arch')" t/*.t
t/00-store-date.t .......... ok
t/01-pod.t ................. skipped: Author test. Set $ENV{TEST_AUTHOR} to true to run.
t/02-pod-coverage.t ........ skipped: Author test. Set $ENV{TEST_AUTHOR} to true to run.
t/03-kwalitee.t ............ skipped: Author test. Set $ENV{TEST_AUTHOR} to true to run.
t/04-critic.t .............. skipped: Author test. Set $ENV{TEST_AUTHOR} to true to run.
t/05-data-dumper.t ......... skipped: Author test. Set $ENV{TEST_AUTHOR} to true to run.
t/aex.t .................... skipped: Set $ENV{ONLINE_TEST} to run this test
t/alphavantage.t ........... skipped: Set $ENV{ONLINE_TEST} to run this test
t/asegr.t .................. skipped: Set $ENV{ONLINE_TEST} to run this test
t/asx.t .................... skipped: Set $ENV{ONLINE_TEST} to run this test
t/author-pod-syntax.t ...... skipped: these tests are for testing by the author
t/bloomberg.t .............. skipped: Set $ENV{ONLINE_TEST} to run this test
t/borsa_italiana.t ......... skipped: Set $ENV{ONLINE_TEST} to run this test
t/bourso.t ................. skipped: Set $ENV{ONLINE_TEST} to run this test
t/bseindia.t ............... skipped: Set $ENV{ONLINE_TEST} to run this test
t/bvb.t .................... skipped: Set $ENV{ONLINE_TEST} to run this test
t/comdirect.t .............. skipped: Set $ENV{ONLINE_TEST} to run this test
t/consorsbank.t ............ skipped: Set $ENV{ONLINE_TEST} to run this test
t/cse.t .................... skipped: Set $ENV{ONLINE_TEST} to run this test
t/currencies.t ............. skipped: Set $ENV{ONLINE_TEST} to run this test
t/currency-openexchange.t .. skipped: Set $ENV{ONLINE_TEST} to run this test
t/currency.t ............... skipped: Set $ENV{ONLINE_TEST} to run this test
t/currency_lookup.t ........ ok
t/deka.t ................... skipped: Set $ENV{ONLINE_TEST} to run this test
t/dws.t .................... skipped: Set $ENV{ONLINE_TEST} to run this test
t/financeapi.t ............. skipped: Set $ENV{ONLINE_TEST} to run this test
t/finanzpartner.t .......... skipped: Set $ENV{ONLINE_TEST} to run this test
t/fondsweb.t ............... skipped: Set $ENV{ONLINE_TEST} to run this test
t/fool.t ................... skipped: Set $ENV{ONLINE_TEST} to run this test
t/fq-class-methods.t ....... ok
t/fq-object-methods.t ...... ok
t/ftfunds.t ................ skipped: Set $ENV{ONLINE_TEST} to run this test
t/goldmoney.t .............. skipped: Set $ENV{ONLINE_TEST} to run this test
t/googleweb.t .............. skipped: Set $ENV{ONLINE_TEST} to run this test
t/hu.t ..................... skipped: Set $ENV{ONLINE_TEST} to run this test
t/indiamutual.t ............ skipped: Set $ENV{ONLINE_TEST} to run this test
t/marketwatch.t ............ skipped: Set $ENV{ONLINE_TEST} to run this test
t/morningstarCH.t .......... skipped: Set $ENV{ONLINE_TEST} to run this test
t/morningstarJP.t .......... skipped: Set $ENV{ONLINE_TEST} to run this test
t/morningstarUK.t .......... skipped: Set $ENV{ONLINE_TEST} to run this test
t/nseindia.t ............... skipped: Set $ENV{ONLINE_TEST} to run this test
t/nzx.t .................... skipped: Set $ENV{ONLINE_TEST} to run this test
t/onvista.t ................ skipped: Set $ENV{ONLINE_TEST} to run this test
t/oslobors.t ............... skipped: Set $ENV{ONLINE_TEST} to run this test
t/quote.t .................. ok
t/seb.t .................... skipped: Set $ENV{ONLINE_TEST} to run this test
t/sinvestor.t .............. skipped: Set $ENV{ONLINE_TEST} to run this test
t/six.t .................... skipped: Set $ENV{ONLINE_TEST} to run this test
t/stockdata.t .............. skipped: Set $ENV{ONLINE_TEST} to run this test
t/stooq.t .................. skipped: Set $ENV{ONLINE_TEST} to run this test
t/tesouro_direto.t ......... skipped: Set $ENV{ONLINE_TEST} to run this test
t/tiaacref.t ............... skipped: Set $ENV{ONLINE_TEST} to run this test
t/tmx.t .................... skipped: Set $ENV{ONLINE_TEST} to run this test
t/tradegate.t .............. skipped: Set $ENV{ONLINE_TEST} to run this test
t/treasurydirect.t ......... skipped: Set $ENV{ONLINE_TEST} to run this test
t/troweprice.t ............. skipped: Set $ENV{ONLINE_TEST} to run this test
t/tsp.t .................... skipped: Set $ENV{ONLINE_TEST} to run this test
t/twelvedata.t ............. skipped: Set $ENV{ONLINE_TEST} to run this test
t/ukfunds.t ................ skipped: Set $ENV{ONLINE_TEST} to run this test
t/union.t .................. skipped: Set $ENV{ONLINE_TEST} to run this test
t/usfedbonds.t ............. skipped: Set $ENV{ONLINE_TEST} to run this test
t/xetra.t .................. skipped: Set $ENV{ONLINE_TEST} to run this test
t/yahoojson.t .............. skipped: Set $ENV{ONLINE_TEST} to run this test
t/yahooweb.t ............... skipped: Set $ENV{ONLINE_TEST} to run this test
t/za.t ..................... skipped: Set $ENV{ONLINE_TEST} to run this test
All tests successful.
Files=65, Tests=83, 9 wallclock secs ( 0.07 usr 0.12 sys + 4.82 cusr 4.23 csys = 9.23 CPU)
Result: PASS
------------------------------
PREREQUISITES
------------------------------
Prerequisite modules loaded:
requires:
Module Need Have
-------------------------- -------- --------
base 0 2.23
Carp 0 1.50
Compress::Zlib 0 2.208
constant 0 1.33
Date::Parse 0 2.32
DateTime::Format::Strptime 0 1.79
Encode 0 3.21
Exporter 0 5.78
HTML::Entities 0 3.78
HTML::TableExtract 0 2.15
HTML::TokeParser 0 3.78
HTML::TreeBuilder 0 5.07
HTML::TreeBuilder::XPath 0 0.14
HTTP::CookieJar::LWP 0.014 0.014
HTTP::Cookies 0 6.11
HTTP::Headers 0 7.00
HTTP::Request 0 7.00
HTTP::Request::Common 0 7.00
HTTP::Status 0 7.00
if 0 0.0608
IO::Handle 0 1.55
IO::String 0 1.08
IO::Uncompress::Unzip 0 2.208
JSON 0 4.10
LWP::Protocol::http 0 6.78
LWP::Protocol::https 0 6.14
LWP::Simple 0 6.78
LWP::UserAgent 6.48 6.78
Module::Load 0.36 0.36
Mozilla::CA 0 20250202
perl 5.010001 5.024000
POSIX 0 1.65
Readonly 0 2.05
Scalar::Util 0 1.69
Spreadsheet::XLSX 0 0.15
strict 0 1.11
String::Util 0 1.35
Test2 1.302167 1.302209
Text::Template 0 1.55
Time::Piece 0 1.36
Time::Seconds 0 1.36
Try::Tiny 0 0.32
URI::Escape 3.31 5.30
utf8 0 1.19
vars 0 1.03
warnings 0 1.36
Web::Scraper 0 0.38
XML::LibXML 0 2.0210
build_requires:
Module Need Have
-------------------------- -------- --------
Date::Manip 0 6.93
Date::Range 0 1.41
Date::Simple 0 3.03
DateTime 0 1.66
DateTime::Duration 0 1.66
DateTime::Format::ISO8601 0 0.17
ExtUtils::MakeMaker 0 7.74
feature 0 1.42
File::Spec 0 3.75
Module::CPANTS::Analyse 0 1.02
open 0 1.10
String::Util 0 1.35
Test::Kwalitee 0 1.28
Test::More 0 1.302209
Test::Perl::Critic 0 1.04
configure_requires:
Module Need Have
-------------------------- -------- --------
ExtUtils::MakeMaker 0 7.74
------------------------------
ENVIRONMENT AND OTHER CONTEXT
------------------------------
Environment variables:
LC_ALL = de_DE.ISO8859-1
PATH = /usr/local/bin:/usr/bin:/bin:/usr/local/sbin:/usr/sbin:/sbin:/home/cpansand/bin/freebsd10.3:/home/cpansand/bin/sh:/home/cpansand/bin:/usr/games:/home/cpansand/devel:/home/eserte/src/srezic-misc/scripts
PERL5LIB =
PERL5OPT =
PERL5_CPANPLUS_IS_RUNNING = 8593
PERL5_CPAN_IS_RUNNING = 8593
PERL5_CPAN_IS_RUNNING_IN_RECURSION = 4904,8593
PERLDOC = -MPod::Perldoc::ToTextOverstrike
PERL_BATCH = yes
PERL_CANARY_STABILITY_NOPROMPT = 1
PERL_CPAN_REPORTER_CONFIG = /var/tmp/cpansmoker-1023/2025042704/cpanreporter_000_config.ini
PERL_EXTUTILS_AUTOINSTALL = --defaultdeps
PERL_USE_UNSAFE_INC = 1
SHELL = /usr/local/bin/zsh
TERM = screen
TMPDIR = /var/tmp/cpansmoker-1023/2025042704
Perl special variables (and OS-specific diagnostics, for MSWin32):
$^X = /usr/perl5.24.0p/bin/perl
$UID/$EUID = 1023 / 1023
$GID = 1023 1023
$EGID = 1023 1023
Perl module toolchain versions installed:
Module Have
------------------- --------
CPAN 2.37
CPAN::Meta 2.150010
Cwd 3.75
ExtUtils::CBuilder 0.280236
ExtUtils::Command 7.74
ExtUtils::Install 2.22
ExtUtils::MakeMaker 7.74
ExtUtils::Manifest 1.75
ExtUtils::ParseXS 3.51
File::Spec 3.75
JSON 4.10
JSON::PP 4.16
Module::Build 0.4234
Module::Signature 0.89
Parse::CPAN::Meta 2.150010
Test2 1.302209
Test::Harness 3.50
Test::More 1.302209
YAML 1.30
YAML::Syck 1.34
version 0.9933
--
Summary of my perl5 (revision 5 version 24 subversion 0) configuration:
Platform:
osname=freebsd, osvers=10.1-release, archname=amd64-freebsd
uname='freebsd cvrsnica-freebsd-101.herceg.de 10.1-release freebsd 10.1-release #0 r274401: tue nov 11 21:02:49 utc 2014 root@releng1.nyi.freebsd.org:usrobjusrsrcsysgeneric amd64 '
config_args='-ds -e -Dprefix=/usr/perl5.24.0p -Dcf_email=srezic@cpan.org -Doptimize=-O2 -pipe'
hint=recommended, useposix=true, d_sigaction=define
useithreads=undef, usemultiplicity=undef
use64bitint=define, use64bitall=define, uselongdouble=undef
usemymalloc=n, bincompat5005=undef
Compiler:
cc='cc', ccflags ='-DHAS_FPSETMASK -DHAS_FLOATINGPOINT_H -fno-strict-aliasing -pipe -fstack-protector -I/usr/local/include -D_FORTIFY_SOURCE=2',
optimize='-O2 -pipe',
cppflags='-DHAS_FPSETMASK -DHAS_FLOATINGPOINT_H -fno-strict-aliasing -pipe -fstack-protector -I/usr/local/include'
ccversion='', gccversion='4.2.1 Compatible FreeBSD Clang 3.4.1 (tags/RELEASE_34/dot1-final 208032)', gccosandvers=''
intsize=4, longsize=8, ptrsize=8, doublesize=8, byteorder=12345678, doublekind=3
d_longlong=define, longlongsize=8, d_longdbl=define, longdblsize=16, longdblkind=3
ivtype='long', ivsize=8, nvtype='double', nvsize=8, Off_t='off_t', lseeksize=8
alignbytes=8, prototype=define
Linker and Libraries:
ld='cc', ldflags ='-pthread -Wl,-E -fstack-protector -L/usr/local/lib'
libpth=/usr/lib /usr/local/lib /usr/include/clang/3.4.1 /usr/lib
libs=-lpthread -lgdbm -lm -lcrypt -lutil -lc
perllibs=-lpthread -lm -lcrypt -lutil -lc
libc=, so=so, useshrplib=false, libperl=libperl.a
gnulibc_version=''
Dynamic Linking:
dlsrc=dl_dlopen.xs, dlext=so, d_dlsymun=undef, ccdlflags=' '
cccdlflags='-DPIC -fPIC', lddlflags='-shared -L/usr/local/lib -fstack-protector'
Characteristics of this binary (from libperl):
Compile-time options: HAS_TIMES PERLIO_LAYERS PERL_COPY_ON_WRITE
PERL_DONT_CREATE_GVSV
PERL_HASH_FUNC_ONE_AT_A_TIME_HARD PERL_MALLOC_WRAP
PERL_PRESERVE_IVUV USE_64_BIT_ALL USE_64_BIT_INT
USE_LARGE_FILES USE_LOCALE USE_LOCALE_COLLATE
USE_LOCALE_CTYPE USE_LOCALE_NUMERIC USE_LOCALE_TIME
USE_PERLIO USE_PERL_ATOF
Built under freebsd
Compiled at May 10 2016 08:49:38
%ENV:
PERL5LIB=""
PERL5OPT=""
PERL5_CPANPLUS_IS_RUNNING="8593"
PERL5_CPAN_IS_RUNNING="8593"
PERL5_CPAN_IS_RUNNING_IN_RECURSION="4904,8593"
PERLDOC="-MPod::Perldoc::ToTextOverstrike"
PERL_BATCH="yes"
PERL_CANARY_STABILITY_NOPROMPT="1"
PERL_CPAN_REPORTER_CONFIG="/var/tmp/cpansmoker-1023/2025042704/cpanreporter_000_config.ini"
PERL_EXTUTILS_AUTOINSTALL="--defaultdeps"
PERL_USE_UNSAFE_INC="1"
@INC:
/usr/perl5.24.0p/lib/site_perl/5.24.0/amd64-freebsd
/usr/perl5.24.0p/lib/site_perl/5.24.0
/usr/perl5.24.0p/lib/5.24.0/amd64-freebsd
/usr/perl5.24.0p/lib/5.24.0
.