Report for Template-Stash-AutoEscaping-0.0301

Back
From: metabase:user:30f0bd62-2aae-11df-837a-5e0a49663a4f
Subject: PASS Template-Stash-AutoEscaping-0.0301 v5.15.1 OpenBSD
Date: 2011-08-07T19:36:27Z

This distribution has been tested as part of the CPAN Testers
project, supporting the Perl programming language.  See
http://wiki.cpantesters.org/ for more information or email
questions to cpan-testers-discuss@perl.org


--
Dear Shlomi Fish,

This is a computer-generated report for Template-Stash-AutoEscaping-0.0301
on perl 5.15.1, created by CPAN-Reporter-1.1902.

Thank you for uploading your work to CPAN.  Congratulations!
All tests were successful.

Sections of this report:

    * Tester comments
    * Program output
    * Prerequisites
    * Environment and other context

------------------------------
TESTER COMMENTS
------------------------------

Additional comments from tester:

this report is from an automated smoke testing program
and was not reviewed by a human for accuracy

------------------------------
PROGRAM OUTPUT
------------------------------

Output from '/usr/bin/make test':

PERL_DL_NONLAZY=1 /home/sts/cpansmoke/perl-5.15.1/bin/perl5.15.1 "-MExtUtils::Command::MM" "-e" "test_harness(0, 'inc', 'blib/lib', 'blib/arch')" t/*.t
t/00_compile.t ............. ok
t/01_module.t .............. ok
t/02_hashkey.t ............. ok
t/03_die_on_non_escaped.t .. ok
All tests successful.
Files=4, Tests=27,  0 wallclock secs ( 0.05 usr  0.02 sys +  0.51 cusr  0.14 csys =  0.72 CPU)
Result: PASS

------------------------------
PREREQUISITES
------------------------------

Prerequisite modules loaded:

requires:

    Module                   Need Have 
    ------------------------ ---- -----
    base                     0    2.17 
    Class::Data::Inheritable 0    0.08 
    Data::Dumper             0    2.131
    Filter::Util::Call       0    1.39 
    overload                 0    1.15 
    strict                   0    1.04 
    Template                 0    2.22 
    Template::Config         0    2.75 
    Template::Exception      0    2.7  
    UNIVERSAL::require       0    0.13 
    warnings                 0    1.12 

build_requires:

    Module                   Need Have 
    ------------------------ ---- -----
    ExtUtils::MakeMaker      6.42 6.58 
    Test::More               0    0.98 
    URI                      0    1.58 

configure_requires:

    Module                   Need Have 
    ------------------------ ---- -----
    ExtUtils::MakeMaker      6.42 6.58 


------------------------------
ENVIRONMENT AND OTHER CONTEXT
------------------------------

Environment variables:

    AUTOMATED_TESTING = 1
    PATH = /home/sts/bin:/bin:/sbin:/usr/bin:/usr/sbin:/usr/X11R6/bin:/usr/local/bin:/usr/local/sbin:/usr/games:.
    PERL5LIB = /home/sts/cpansmoke/perl-5.15.1/cpan/build/UNIVERSAL-require-0.13-Sil1Rn/blib/arch:/home/sts/cpansmoke/perl-5.15.1/cpan/build/UNIVERSAL-require-0.13-Sil1Rn/blib/lib:/home/sts/cpansmoke/perl-5.15.1/cpan/build/Class-Data-Inheritable-0.08-al6fek/blib/arch:/home/sts/cpansmoke/perl-5.15.1/cpan/build/Class-Data-Inheritable-0.08-al6fek/blib/lib:/home/sts/cpansmoke/perl-5.15.1/cpan/build/Template-Toolkit-2.22-3nm6Ec/blib/arch:/home/sts/cpansmoke/perl-5.15.1/cpan/build/Template-Toolkit-2.22-3nm6Ec/blib/lib:/home/sts/cpansmoke/perl-5.15.1/cpan/build/AppConfig-1.66-AA10dX/blib/arch:/home/sts/cpansmoke/perl-5.15.1/cpan/build/AppConfig-1.66-AA10dX/blib/lib:/home/sts/cpansmoke/perl-5.15.1/cpan/build/URI-1.58-FpS9zf/blib/arch:/home/sts/cpansmoke/perl-5.15.1/cpan/build/URI-1.58-FpS9zf/blib/lib
    PERL5OPT = 
    PERL5_CPANPLUS_IS_RUNNING = 16573
    PERL5_CPAN_IS_RUNNING = 16573
    PERL5_CPAN_IS_RUNNING_IN_RECURSION = 6734,16573
    PERL_CR_SMOKER_CURRENT = Template-Stash-AutoEscaping-0.0301
    PERL_EXTUTILS_AUTOINSTALL = --defaultdeps
    PERL_MM_USE_DEFAULT = 1
    SHELL = /usr/local/bin/bash
    TERM = screen
    TMPDIR = /home/sts/cpansmoke/tmp

Perl special variables (and OS-specific diagnostics, for MSWin32):

    $^X = /home/sts/cpansmoke/perl-5.15.1/bin/perl5.15.1
    $UID/$EUID = 1000 / 1000
    $GID = 10 10 0
    $EGID = 10 10 0

Perl module toolchain versions installed:

    Module              Have    
    ------------------- --------
    CPAN                1.9800  
    Cwd                 3.37    
    ExtUtils::CBuilder  0.280204
    ExtUtils::Command   1.17    
    ExtUtils::Install   1.56    
    ExtUtils::MakeMaker 6.58    
    ExtUtils::Manifest  1.58    
    ExtUtils::ParseXS   3.00_01 
    File::Spec          3.33    
    Module::Build       0.3800  
    Module::Signature   n/a     
    Test::Harness       3.23    
    Test::More          0.98    
    YAML                0.73    
    YAML::Syck          n/a     
    version             0.93    


--

Summary of my perl5 (revision 5 version 15 subversion 1) configuration:
   
  Platform:
    osname=openbsd, osvers=4.9, archname=OpenBSD.i386-openbsd-thread-multi
    uname='openbsd cpansmoke3 4.9 generic.mp#794 i386 '
    config_args='-des -Dusedevel -Dusethreads -Dprefix=/home/sts/cpansmoke/perl-5.15.1'
    hint=recommended, useposix=true, d_sigaction=define
    useithreads=define, usemultiplicity=define
    useperlio=define, d_sfio=undef, uselargefiles=define, usesocks=undef
    use64bitint=undef, use64bitall=undef, uselongdouble=undef
    usemymalloc=y, bincompat5005=undef
  Compiler:
    cc='cc', ccflags ='-pthread -fno-strict-aliasing -pipe -fstack-protector -I/usr/local/include',
    optimize='-O2',
    cppflags='-pthread -fno-strict-aliasing -pipe -fstack-protector -I/usr/local/include'
    ccversion='', gccversion='4.2.1 20070719 ', gccosandvers='openbsd4.9'
    intsize=4, longsize=4, ptrsize=4, doublesize=8, byteorder=1234
    d_longlong=define, longlongsize=8, d_longdbl=define, longdblsize=12
    ivtype='long', ivsize=4, nvtype='double', nvsize=8, Off_t='off_t', lseeksize=8
    alignbytes=4, prototype=define
  Linker and Libraries:
    ld='cc', ldflags ='-pthread -Wl,-E  -fstack-protector -L/usr/local/lib'
    libpth=/usr/local/lib /usr/lib
    libs=-lgdbm -lm -lutil -lc
    perllibs=-lm -lutil -lc
    libc=/usr/lib/libc.so.58.0, so=so, useshrplib=false, libperl=libperl.a
    gnulibc_version=''
  Dynamic Linking:
    dlsrc=dl_dlopen.xs, dlext=so, d_dlsymun=undef, ccdlflags=' '
    cccdlflags='-DPIC -fPIC ', lddlflags='-shared -fPIC  -L/usr/local/lib -fstack-protector'


Characteristics of this binary (from libperl): 
  Compile-time options: HAS_TIMES MULTIPLICITY MYMALLOC PERLIO_LAYERS
                        PERL_DONT_CREATE_GVSV PERL_IMPLICIT_CONTEXT
                        PERL_MALLOC_WRAP PERL_PRESERVE_IVUV PERL_USE_DEVEL
                        USE_ITHREADS USE_LARGE_FILES USE_LOCALE
                        USE_LOCALE_COLLATE USE_LOCALE_CTYPE
                        USE_LOCALE_NUMERIC USE_PERLIO USE_PERL_ATOF
                        USE_REENTRANT_API
  Built under openbsd
  Compiled at Aug  2 2011 08:28:01
  %ENV:
    PERL5LIB="/home/sts/cpansmoke/perl-5.15.1/cpan/build/UNIVERSAL-require-0.13-Sil1Rn/blib/arch:/home/sts/cpansmoke/perl-5.15.1/cpan/build/UNIVERSAL-require-0.13-Sil1Rn/blib/lib:/home/sts/cpansmoke/perl-5.15.1/cpan/build/Class-Data-Inheritable-0.08-al6fek/blib/arch:/home/sts/cpansmoke/perl-5.15.1/cpan/build/Class-Data-Inheritable-0.08-al6fek/blib/lib:/home/sts/cpansmoke/perl-5.15.1/cpan/build/Template-Toolkit-2.22-3nm6Ec/blib/arch:/home/sts/cpansmoke/perl-5.15.1/cpan/build/Template-Toolkit-2.22-3nm6Ec/blib/lib:/home/sts/cpansmoke/perl-5.15.1/cpan/build/AppConfig-1.66-AA10dX/blib/arch:/home/sts/cpansmoke/perl-5.15.1/cpan/build/AppConfig-1.66-AA10dX/blib/lib:/home/sts/cpansmoke/perl-5.15.1/cpan/build/URI-1.58-FpS9zf/blib/arch:/home/sts/cpansmoke/perl-5.15.1/cpan/build/URI-1.58-FpS9zf/blib/lib"
    PERL5OPT=""
    PERL5_CPANPLUS_IS_RUNNING="16573"
    PERL5_CPAN_IS_RUNNING="16573"
    PERL5_CPAN_IS_RUNNING_IN_RECURSION="6734,16573"
    PERL_CR_SMOKER_CURRENT="Template-Stash-AutoEscaping-0.0301"
    PERL_EXTUTILS_AUTOINSTALL="--defaultdeps"
    PERL_MM_USE_DEFAULT="1"
  @INC:
    /home/sts/cpansmoke/perl-5.15.1/cpan/build/UNIVERSAL-require-0.13-Sil1Rn/blib/arch
    /home/sts/cpansmoke/perl-5.15.1/cpan/build/UNIVERSAL-require-0.13-Sil1Rn/blib/lib
    /home/sts/cpansmoke/perl-5.15.1/cpan/build/Class-Data-Inheritable-0.08-al6fek/blib/arch
    /home/sts/cpansmoke/perl-5.15.1/cpan/build/Class-Data-Inheritable-0.08-al6fek/blib/lib
    /home/sts/cpansmoke/perl-5.15.1/cpan/build/Template-Toolkit-2.22-3nm6Ec/blib/arch
    /home/sts/cpansmoke/perl-5.15.1/cpan/build/Template-Toolkit-2.22-3nm6Ec/blib/lib
    /home/sts/cpansmoke/perl-5.15.1/cpan/build/AppConfig-1.66-AA10dX/blib/arch
    /home/sts/cpansmoke/perl-5.15.1/cpan/build/AppConfig-1.66-AA10dX/blib/lib
    /home/sts/cpansmoke/perl-5.15.1/cpan/build/URI-1.58-FpS9zf/blib/arch
    /home/sts/cpansmoke/perl-5.15.1/cpan/build/URI-1.58-FpS9zf/blib/lib
    /home/sts/cpansmoke/perl-5.15.1/lib/site_perl/5.15.1/OpenBSD.i386-openbsd-thread-multi
    /home/sts/cpansmoke/perl-5.15.1/lib/site_perl/5.15.1
    /home/sts/cpansmoke/perl-5.15.1/lib/5.15.1/OpenBSD.i386-openbsd-thread-multi
    /home/sts/cpansmoke/perl-5.15.1/lib/5.15.1
    .