Raisin v0.93 Perl 5 v5.32.0 x86_64-linux-quadmath
        
            - Status
 
            - Pass
 
            - From
 
            - Chris Williams (BINGOS)
 
            - Dist
 
            - 
                Raisin v0.93
            
 
            - Platform
 
            - Perl 5 v5.32.0 x86_64-linux-quadmath
 
            - Date
 
            - 2021-05-11 11:53:46
 
            - ID
 
            - 8a8cb10c-b24f-11eb-84bc-edd243e66a77
 
        
        This distribution has been tested as part of the CPAN Testers
project, supporting the Perl programming language.  See
http://wiki.cpantesters.org/ for more information or email
questions to cpan-testers-discuss@perl.org
--
Dear RTKH,
This is a computer-generated error report created automatically by
CPANPLUS, version 0.9910. Testers personal comments may appear
at the end of this report.
Thank you for uploading your work to CPAN.  Congratulations!
All tests were successful.
TEST RESULTS:
Below is the error stack from stage 'make test':
t/00-compile.t ........................ ok
# 
# Versions for all modules listed in MYMETA.json (including optional ones):
# 
# === Configure Requires ===
# 
#     Module        Want   Have
#     ------------- ---- ------
#     Module::Build 0.28 0.4231
# 
# === Build Requires ===
# 
#     Module        Want   Have
#     ------------- ---- ------
#     Module::Build 0.28 0.4231
# 
# === Test Requires ===
# 
#     Module                  Want     Have
#     ------------------- -------- --------
#     ExtUtils::MakeMaker      any     7.58
#     File::Spec               any     3.78
#     IO::Handle               any     1.42
#     IPC::Open3               any     1.21
#     List::Util              1.29     1.55
#     Test::Exception          any     0.43
#     Test::More               any 1.302183
#     Test::Pod                any     1.52
#     Test::Simple        1.001014 1.302183
# 
# === Test Recommends ===
# 
#     Module         Want     Have
#     ---------- -------- --------
#     CPAN::Meta 2.120900 2.150010
# 
# === Runtime Requires ===
# 
#     Module                             Want     Have
#     ------------------------------ -------- --------
#     HTTP::Request::Common               any     6.30
#     HTTP::Status                        any     6.30
#     Hash::Merge                       0.300    0.302
#     JSON::MaybeXS                  1.004000 1.004003
#     Plack                            1.0030   1.0048
#     Plack::Middleware::CrossOrigin    0.009    0.014
#     Scalar::Util                       1.38     1.55
#     Type::Tiny                        0.044 1.012003
#     YAML                               0.90     1.30
#     parent                              any    0.238
# 
t/00-report-prereqs.t ................. ok
t/author-eof.t ........................ skipped: these tests are for testing by the author
t/author-eol.t ........................ skipped: these tests are for testing by the author
t/author-no-breakpoints.t ............. skipped: these tests are for testing by the author
t/author-no-tabs.t .................... skipped: these tests are for testing by the author
t/author-pod-syntax.t ................. skipped: these tests are for testing by the author
t/author-portability.t ................ skipped: these tests are for testing by the author
t/behaviour/app-deserialize.t ......... ok
t/behaviour/app-hooks.t ............... ok
Can't load `Log::Dispatch`. Fallback to `Raisin::Logger`! at /home/cpan/pit/bare-qm/conf/perl-5.32.0/.cpanplus/5.32.0/build/nxB9WtC0HX/Raisin-0.93/blib/lib/Raisin.pm line 60.
DEBUG 2021-05-11T12:53:43.473 Loading Raisin...
t/behaviour/app-routes.t .............. ok
t/behaviour/app-serialize-provides.t .. ok
t/behaviour/app-serialize.t ........... ok
t/behaviour/plugin-openapi.t .......... ok
t/release-kwalitee.t .................. skipped: these tests are for release candidate testing
t/release-test-legal.t ................ skipped: these tests are for release candidate testing
t/release-unused-vars.t ............... skipped: these tests are for release candidate testing
t/unit/api.t .......................... ok
t/unit/encoder.t ...................... ok
t/unit/entity.t ....................... ok
t/unit/entity/object.t ................ ok
t/unit/logger.t ....................... ok
t/unit/middleware/formatter.t ......... ok
t/unit/param.t ........................ ok
t/unit/param/moose.t .................. skipped: This test requires Moose
t/unit/plugin.t ....................... ok
t/unit/plugin/logger.t ................ skipped: NA
t/unit/plugin/swagger.t ............... ok
t/unit/plugin/swagger/moose.t ......... skipped: This test requires Moose::Util::TypeConstraints
t/unit/request.t ...................... ok
t/unit/routes.t ....................... ok
t/unit/routes/endpoint.t .............. ok
t/unit/util.t ......................... ok
All tests successful.
Files=33, Tests=118,  3 wallclock secs ( 0.12 usr  0.04 sys +  3.19 cusr  0.49 csys =  3.84 CPU)
Result: PASS
PREREQUISITES:
Here is a list of prerequisites you specified and versions we
managed to load:
	  Module Name                        Have     Want
	  ExtUtils::MakeMaker                7.58        0
	  File::Spec                         3.78        0
	  HTTP::Request::Common              6.30        0
	  HTTP::Status                       6.30        0
	  Hash::Merge                       0.302    0.300
	  IO::Handle                         1.42        0
	  IPC::Open3                         1.21        0
	  JSON::MaybeXS                  1.004003 1.004000
	  List::Util                         1.55     1.29
	  Module::Build                    0.4231     0.28
	  Plack                            1.0048   1.0030
	  Plack::Middleware::CrossOrigin    0.014    0.009
	  Scalar::Util                       1.55     1.38
	  Test::Exception                    0.43        0
	  Test::More                     1.302183        0
	  Test::Pod                          1.52        0
	  Test::Simple                   1.302183 1.001014
	  Type::Tiny                     1.012003    0.044
	  YAML                               1.30     0.90
	  parent                            0.238        0
Perl module toolchain versions installed:
	Module Name                        Have
	CPANPLUS                         0.9910
	CPANPLUS::Dist::Build              0.90
	Cwd                                3.78
	ExtUtils::CBuilder             0.280235
	ExtUtils::Command                  7.58
	ExtUtils::Install                  2.20
	ExtUtils::MakeMaker                7.58
	ExtUtils::Manifest                 1.73
	ExtUtils::ParseXS                  3.40
	File::Spec                         3.78
	Module::Build                    0.4231
	Pod::Parser                           0
	Pod::Simple                        3.40
	Test2                          1.302183
	Test::Harness                      3.42
	Test::More                     1.302183
	version                          0.9928
******************************** NOTE ********************************
The comments above are created mechanically, possibly without manual
checking by the sender.  As there are many people performing automatic
tests on each upload to CPAN, it is likely that you will receive
identical messages about the same problem.
If you believe that the message is mistaken, please reply to the first
one with correction and/or additional informations, and do not take
it personally.  We appreciate your patience. :)
**********************************************************************
Additional comments:
This report was machine-generated by CPANPLUS::Dist::YACSmoke 1.08.
Powered by minismokebox version 0.68
CPANPLUS is prefering Build.PL
------------------------------
ENVIRONMENT AND OTHER CONTEXT
------------------------------
Environment variables:
    AUTOMATED_TESTING = 1
    LANG = en_GB.UTF-8
    LANGUAGE = en_GB:en
    NONINTERACTIVE_TESTING = 1
    PATH = /home/cpan/pit/bare-qm/conf/perl-5.32.0/.cpanplus/5.32.0/build/nxB9WtC0HX/Raisin-0.93/blib/script:/usr/local/sbin:/usr/local/bin:/usr/sbin:/usr/bin:/sbin:/bin:/usr/games:/usr/local/games:/snap/bin
    PERL5LIB = /home/cpan/pit/jail/Z6a5zZoe9D/lib/perl5:/home/cpan/pit/bare-qm/conf/perl-5.32.0/.cpanplus/5.32.0/build/nxB9WtC0HX/Raisin-0.93/blib/lib:/home/cpan/pit/bare-qm/conf/perl-5.32.0/.cpanplus/5.32.0/build/nxB9WtC0HX/Raisin-0.93/blib/arch
    PERL5_CPANPLUS_IS_RUNNING = 2856306
    PERL5_CPANPLUS_IS_VERSION = 0.9910
    PERL5_MINISMOKEBOX = 0.68
    PERL5_YACSMOKE_BASE = /home/cpan/pit/bare-qm/conf/perl-5.32.0
    PERL_EXTUTILS_AUTOINSTALL = --defaultdeps
    PERL_LOCAL_LIB_ROOT = /home/cpan/pit/jail/Z6a5zZoe9D
    PERL_MB_OPT = --install_base "/home/cpan/pit/jail/Z6a5zZoe9D"
    PERL_MM_OPT = INSTALL_BASE=/home/cpan/pit/jail/Z6a5zZoe9D
    PERL_MM_USE_DEFAULT = 1
    SHELL = /bin/bash
    TERM = screen
Perl special variables (and OS-specific diagnostics, for MSWin32):
    Perl: $^X = /home/cpan/pit/bare-qm/perl-5.32.0/bin/perl
    UID:  $<  = 1001
    EUID: $>  = 1001
    GID:  $(  = 1001 1001
    EGID: $)  = 1001 1001
-------------------------------
--
Summary of my perl5 (revision 5 version 32 subversion 0) configuration:
   
  Platform:
    osname=linux
    osvers=5.4.0-26-generic
    archname=x86_64-linux-quadmath
    uname='linux uchder 5.4.0-26-generic #30-ubuntu smp mon apr 20 16:58:30 utc 2020 x86_64 x86_64 x86_64 gnulinux '
    config_args='-des -Dprefix=/home/cpan/pit/bare-qm/perl-5.32.0 -Dusequadmath'
    hint=recommended
    useposix=true
    d_sigaction=define
    useithreads=undef
    usemultiplicity=undef
    use64bitint=define
    use64bitall=define
    uselongdouble=undef
    usemymalloc=n
    default_inc_excludes_dot=define
    bincompat5005=undef
  Compiler:
    cc='cc'
    ccflags ='-fwrapv -fno-strict-aliasing -pipe -fstack-protector-strong -I/usr/local/include -D_LARGEFILE_SOURCE -D_FILE_OFFSET_BITS=64'
    optimize='-O2'
    cppflags='-fwrapv -fno-strict-aliasing -pipe -fstack-protector-strong -I/usr/local/include'
    ccversion=''
    gccversion='9.3.0'
    gccosandvers=''
    intsize=4
    longsize=8
    ptrsize=8
    doublesize=8
    byteorder=12345678
    doublekind=3
    d_longlong=define
    longlongsize=8
    d_longdbl=define
    longdblsize=16
    longdblkind=3
    ivtype='long'
    ivsize=8
    nvtype='__float128'
    nvsize=16
    Off_t='off_t'
    lseeksize=8
    alignbytes=16
    prototype=define
  Linker and Libraries:
    ld='cc'
    ldflags =' -fstack-protector-strong -L/usr/local/lib'
    libpth=/usr/local/lib /usr/include/x86_64-linux-gnu /usr/lib /lib/x86_64-linux-gnu /lib/../lib /usr/lib/x86_64-linux-gnu /usr/lib/../lib /lib
    libs=-lpthread -lnsl -lgdbm -ldl -lm -lcrypt -lutil -lc -lquadmath
    perllibs=-lpthread -lnsl -ldl -lm -lcrypt -lutil -lc -lquadmath
    libc=libc-2.31.so
    so=so
    useshrplib=false
    libperl=libperl.a
    gnulibc_version='2.31'
  Dynamic Linking:
    dlsrc=dl_dlopen.xs
    dlext=so
    d_dlsymun=undef
    ccdlflags='-Wl,-E'
    cccdlflags='-fPIC'
    lddlflags='-shared -O2 -L/usr/local/lib -fstack-protector-strong'
Characteristics of this binary (from libperl): 
  Compile-time options:
    HAS_TIMES
    PERLIO_LAYERS
    PERL_COPY_ON_WRITE
    PERL_DONT_CREATE_GVSV
    PERL_MALLOC_WRAP
    PERL_OP_PARENT
    PERL_PRESERVE_IVUV
    USE_64_BIT_ALL
    USE_64_BIT_INT
    USE_LARGE_FILES
    USE_LOCALE
    USE_LOCALE_COLLATE
    USE_LOCALE_CTYPE
    USE_LOCALE_NUMERIC
    USE_LOCALE_TIME
    USE_PERLIO
    USE_PERL_ATOF
    USE_QUADMATH
  Built under linux
  Compiled at Jun 21 2020 10:53:35
  %ENV:
    PERL5LIB="/home/cpan/pit/jail/Z6a5zZoe9D/lib/perl5:/home/cpan/pit/bare-qm/conf/perl-5.32.0/.cpanplus/5.32.0/build/nxB9WtC0HX/Raisin-0.93/blib/lib:/home/cpan/pit/bare-qm/conf/perl-5.32.0/.cpanplus/5.32.0/build/nxB9WtC0HX/Raisin-0.93/blib/arch"
    PERL5_CPANPLUS_IS_RUNNING="2856306"
    PERL5_CPANPLUS_IS_VERSION="0.9910"
    PERL5_MINISMOKEBOX="0.68"
    PERL5_YACSMOKE_BASE="/home/cpan/pit/bare-qm/conf/perl-5.32.0"
    PERL_EXTUTILS_AUTOINSTALL="--defaultdeps"
    PERL_LOCAL_LIB_ROOT="/home/cpan/pit/jail/Z6a5zZoe9D"
    PERL_MB_OPT="--install_base "/home/cpan/pit/jail/Z6a5zZoe9D""
    PERL_MM_OPT="INSTALL_BASE=/home/cpan/pit/jail/Z6a5zZoe9D"
    PERL_MM_USE_DEFAULT="1"
  @INC:
    /home/cpan/pit/jail/Z6a5zZoe9D/lib/perl5/5.32.0/x86_64-linux-quadmath
    /home/cpan/pit/jail/Z6a5zZoe9D/lib/perl5/5.32.0
    /home/cpan/pit/jail/Z6a5zZoe9D/lib/perl5/x86_64-linux-quadmath
    /home/cpan/pit/jail/Z6a5zZoe9D/lib/perl5
    /home/cpan/pit/bare-qm/conf/perl-5.32.0/.cpanplus/5.32.0/build/nxB9WtC0HX/Raisin-0.93/blib/lib
    /home/cpan/pit/bare-qm/conf/perl-5.32.0/.cpanplus/5.32.0/build/nxB9WtC0HX/Raisin-0.93/blib/arch
    /home/cpan/pit/bare-qm/perl-5.32.0/lib/site_perl/5.32.0/x86_64-linux-quadmath
    /home/cpan/pit/bare-qm/perl-5.32.0/lib/site_perl/5.32.0
    /home/cpan/pit/bare-qm/perl-5.32.0/lib/5.32.0/x86_64-linux-quadmath
    /home/cpan/pit/bare-qm/perl-5.32.0/lib/5.32.0