Back
From: metabase:user:34398b7c-37b0-11e2-bdfb-eb4185297f8d
Subject: PASS Data-FormValidator-4.80 v5.16.1 Mac OS X
Date: 2012-11-27T20:32:19Z
This distribution has been tested as part of the CPAN Testers
project, supporting the Perl programming language. See
http://wiki.cpantesters.org/ for more information or email
questions to cpan-testers-discuss@perl.org
--
Dear Mark Stosberg,
This is a computer-generated report for Data-FormValidator-4.80
on perl 5.16.1, created by CPAN-Reporter-1.2006.
Thank you for uploading your work to CPAN. Congratulations!
All tests were successful.
Sections of this report:
* Tester comments
* Program output
* Prerequisites
* Environment and other context
------------------------------
TESTER COMMENTS
------------------------------
Additional comments from tester:
this report is from an automated smoke testing program
and was not reviewed by a human for accuracy
------------------------------
PROGRAM OUTPUT
------------------------------
Output from './Build test':
t/00_base.t .............................. ok
t/02_code_ref.t .......................... ok
t/03_dependency.t ........................ ok
t/04_arrayify_undef.t .................... ok
t/05_valid_ip_address.t .................. ok
t/06_regexp_map.t ........................ ok
t/09_require_some.t ...................... ok
t/11_procedural_match.t .................. ok
t/13_validator_packages.t ................ ok
t/15_literal_param_constraints.t ......... ok
t/16_cgi_object.t ........................ ok
t/17_multi_valued_keys.t ................. ok
t/18_constraint_refs.t ................... ok
t/19_refs_as_values.t .................... ok
t/20_careful_exception_handling.t ........ ok
t/21_multiple_fields.t ................... ok
t/25_results.t ........................... ok
t/26_qr.t ................................ ok
t/27_qualify_ref_happy_death.t ........... ok
t/28_defaults_for_new.t .................. ok
t/30_filter_definedness.t ................ ok
t/FV_length.t ............................ ok
t/any_errors.t ........................... ok
t/check_profile_syntax.t ................. ok
t/closure_msgs.t ......................... ok
t/constraint_method.t .................... ok
t/constraint_method_string.t ............. ok
t/constraint_method_zero.t ............... ok
t/constraint_regexp_map_profile_reuse.t .. ok
t/constraints_builtin.t .................. ok
t/constraints_builtin_closure.t .......... ok
t/constraints_factory.t .................. ok
t/constraints_invalid_once_only.t ........ ok
t/constraints_num_values.t ............... ok
t/constraints_regexp_map_interaction.t ... ok
t/constraints_reuse.t .................... ok
t/credit_card.t .......................... ok
t/dates.t ................................ ok
t/dates_closure.t ........................ ok
t/dependency_coderef.t ................... ok
t/dependency_groups.t .................... ok
t/filter_constraints.t ................... ok
t/filters_builtin.t ...................... ok
t/filters_shouldnt_modify.t .............. ok
t/get_filtered_data.t .................... ok
t/get_input_data.t ....................... ok
t/missing_optional.t ..................... ok
t/msgs.t ................................. ok
t/multiple_constraints.t ................. ok
t/params_not_mentioned.t ................. ok
t/pod.t .................................. ok
t/procedural_valid.t ..................... ok
t/profile_checking.t ..................... ok
t/regexp_common.t ........................ ok
t/regexp_common_closure.t ................ ok
t/rename_builtin_constraints.t ........... ok
t/results_success.t ...................... ok
t/simple.t ............................... ok
t/tt_and_overload.t ...................... skipped: Template Toolkit required
t/undefined_arrayref.t ................... ok
t/unknown.t .............................. ok
t/untaint.t .............................. ok
# Skipping CGI::Simple Tests
# testing with CGI.pm version: 3.59
# Running tests with CGI
t/upload.t ............................... ok
# testing with CGI.pm version: 3.59
t/upload_closure.t ....................... ok
t/upload_mime_types.t .................... ok
All tests successful.
Files=65, Tests=605, 3 wallclock secs ( 0.21 usr 0.10 sys + 2.82 cusr 0.38 csys = 3.51 CPU)
Result: PASS
------------------------------
PREREQUISITES
------------------------------
Prerequisite modules loaded:
requires:
Module Need Have
--------------- ----- ----------
Date::Calc 5 6.3
Email::Valid 0 0.190
File::MMagic 1.17 1.29
Image::Size 0 3.232
MIME::Types 1.005 1.36
overload 0 1.18
perl 5.008 5.016001
Perl6::Junction 1.1 1.40000
Regexp::Common 0 2011121001
Scalar::Util 0 1.25
Test::More 0 0.98
build_requires:
Module Need Have
--------------- ----- ----------
CGI 3.48 3.59
configure_requires:
Module Need Have
--------------- ----- ----------
Module::Build 0.38 0.4003
------------------------------
ENVIRONMENT AND OTHER CONTEXT
------------------------------
Environment variables:
AUTOMATED_TESTING = 1
LANG = de_DE.UTF-8
MANPATH_WITHOUT_PERLBREW = /Users/glauschwuffel/.rvm/rubies/ruby-1.9.3-p194/share/man:/Users/glauschwuffel/.rvm/man:/usr/share/man:/usr/local/share/man/de:/usr/local/share/man:/usr/X11/man:/usr/local/git/share/man:/usr/texbin/man
PATH = /Users/glauschwuffel/perl5/perlbrew/bin:/Users/glauschwuffel/perl5/perlbrew/perls/perl-5.16.1/bin:/Users/glauschwuffel/.rvm/gems/ruby-1.9.3-p194@rails3tutorial2ndEd/bin:/Users/glauschwuffel/.rvm/gems/ruby-1.9.3-p194@global/bin:/Users/glauschwuffel/.rvm/rubies/ruby-1.9.3-p194/bin:/Users/glauschwuffel/.rvm/bin:/usr/bin:/bin:/usr/sbin:/sbin:/usr/local/bin:/usr/X11/bin:/usr/local/git/bin:/usr/texbin
PATH_WITHOUT_PERLBREW = /Users/glauschwuffel/.rvm/gems/ruby-1.9.3-p194@rails3tutorial2ndEd/bin:/Users/glauschwuffel/.rvm/gems/ruby-1.9.3-p194@global/bin:/Users/glauschwuffel/.rvm/rubies/ruby-1.9.3-p194/bin:/Users/glauschwuffel/.rvm/bin:/usr/bin:/bin:/usr/sbin:/sbin:/usr/local/bin:/usr/X11/bin:/usr/local/git/bin:/usr/texbin
PERL5LIB = /Users/glauschwuffel/.cpan/build/File-MMagic-1.29-aRvfKJ/blib/arch:/Users/glauschwuffel/.cpan/build/File-MMagic-1.29-aRvfKJ/blib/lib:/Users/glauschwuffel/.cpan/build/Regexp-Common-2011121001-F1qi80/blib/arch:/Users/glauschwuffel/.cpan/build/Regexp-Common-2011121001-F1qi80/blib/lib:/Users/glauschwuffel/.cpan/build/Bit-Vector-7.2-4JF0Uc/blib/arch:/Users/glauschwuffel/.cpan/build/Bit-Vector-7.2-4JF0Uc/blib/lib:/Users/glauschwuffel/.cpan/build/Date-Calc-6.3-WD4syr/blib/arch:/Users/glauschwuffel/.cpan/build/Date-Calc-6.3-WD4syr/blib/lib:/Users/glauschwuffel/.cpan/build/Image-Size-3.232-zG8Zzu/blib/arch:/Users/glauschwuffel/.cpan/build/Image-Size-3.232-zG8Zzu/blib/lib:/Users/glauschwuffel/.cpan/build/MIME-Types-1.36-gOEo_J/blib/arch:/Users/glauschwuffel/.cpan/build/MIME-Types-1.36-gOEo_J/blib/lib:/Users/glauschwuffel/.cpan/build/Email-Valid-0.190-PUMwj8/blib/arch:/Users/glauschwuffel/.cpan/build/Email-Valid-0.190-PUMwj8/blib/lib:/Users/glauschwuffel/.cpan/build/MailTools-2.11-9TsKM6/blib/arch:/Users/glauschwuffel/.cpan/build/MailTools-2.11-9TsKM6/blib/lib
PERL5OPT =
PERL5_CPANPLUS_IS_RUNNING = 74179
PERL5_CPAN_IS_RUNNING = 74179
PERL5_CPAN_IS_RUNNING_IN_RECURSION = 42619,74179
PERLBREW_BASHRC_VERSION = 0.46
PERLBREW_HOME = /Users/glauschwuffel/.perlbrew
PERLBREW_MANPATH = /Users/glauschwuffel/perl5/perlbrew/perls/perl-5.16.1/man
PERLBREW_PATH = /Users/glauschwuffel/perl5/perlbrew/bin:/Users/glauschwuffel/perl5/perlbrew/perls/perl-5.16.1/bin
PERLBREW_PERL = perl-5.16.1
PERLBREW_ROOT = /Users/glauschwuffel/perl5/perlbrew
PERLBREW_VERSION = 0.46
PERL_CR_SMOKER_CURRENT = Data-FormValidator-4.80
PERL_EXTUTILS_AUTOINSTALL = --defaultdeps
PERL_MM_USE_DEFAULT = 1
SHELL = /bin/bash
TERM = xterm-256color
TMPDIR = /var/folders/vt/gpl7slvn6016nqcbkrdb0pj40000gp/T/
Perl special variables (and OS-specific diagnostics, for MSWin32):
$^X = /Users/glauschwuffel/perl5/perlbrew/perls/perl-5.16.1/bin/perl
$UID/$EUID = 502 / 502
$GID = 20 20 402 401 404 12 33 61 79 80 81 98 100 204 406 405 403
$EGID = 20 20 402 401 404 12 33 61 79 80 81 98 100 204 406 405 403
Perl module toolchain versions installed:
Module Have
------------------- --------
CPAN 1.9800
CPAN::Meta 2.120921
Cwd 3.39_02
ExtUtils::CBuilder 0.280206
ExtUtils::Command 1.17
ExtUtils::Install 1.58
ExtUtils::MakeMaker 6.63_02
ExtUtils::Manifest 1.61
ExtUtils::ParseXS 3.16
File::Spec 3.39_02
JSON 2.53
JSON::PP 2.27200
Module::Build 0.4003
Module::Signature n/a
Parse::CPAN::Meta 1.4404
Test::Harness 3.25
Test::More 0.98
YAML 0.84
YAML::Syck 1.20
version 0.99
--
Summary of my perl5 (revision 5 version 16 subversion 1) configuration:
Platform:
osname=darwin, osvers=11.4.0, archname=darwin-2level
uname='darwin gregorgoldbachmbp-2.local 11.4.0 darwin kernel version 11.4.0: mon apr 9 19:32:15 pdt 2012; root:xnu-1699.26.8~1release_x86_64 x86_64 '
config_args='-de -Dprefix=/Users/glauschwuffel/perl5/perlbrew/perls/perl-5.16.1 -Aeval:scriptdir=/Users/glauschwuffel/perl5/perlbrew/perls/perl-5.16.1/bin'
hint=recommended, useposix=true, d_sigaction=define
useithreads=undef, usemultiplicity=undef
useperlio=define, d_sfio=undef, uselargefiles=define, usesocks=undef
use64bitint=define, use64bitall=define, uselongdouble=undef
usemymalloc=n, bincompat5005=undef
Compiler:
cc='cc', ccflags ='-fno-common -DPERL_DARWIN -fno-strict-aliasing -pipe -fstack-protector -I/usr/local/include',
optimize='-O3',
cppflags='-fno-common -DPERL_DARWIN -fno-strict-aliasing -pipe -fstack-protector -I/usr/local/include'
ccversion='', gccversion='4.2.1 Compatible Apple Clang 3.1 (tags/Apple/clang-318.0.61)', gccosandvers=''
intsize=4, longsize=8, ptrsize=8, doublesize=8, byteorder=12345678
d_longlong=define, longlongsize=8, d_longdbl=define, longdblsize=16
ivtype='long', ivsize=8, nvtype='double', nvsize=8, Off_t='off_t', lseeksize=8
alignbytes=8, prototype=define
Linker and Libraries:
ld='env MACOSX_DEPLOYMENT_TARGET=10.3 cc', ldflags =' -fstack-protector -L/usr/local/lib'
libpth=/usr/local/lib /usr/lib
libs=-ldbm -ldl -lm -lutil -lc
perllibs=-ldl -lm -lutil -lc
libc=, so=dylib, useshrplib=false, libperl=libperl.a
gnulibc_version=''
Dynamic Linking:
dlsrc=dl_dlopen.xs, dlext=bundle, d_dlsymun=undef, ccdlflags=' '
cccdlflags=' ', lddlflags=' -bundle -undefined dynamic_lookup -L/usr/local/lib -fstack-protector'
Characteristics of this binary (from libperl):
Compile-time options: HAS_TIMES PERLIO_LAYERS PERL_DONT_CREATE_GVSV
PERL_MALLOC_WRAP PERL_PRESERVE_IVUV USE_64_BIT_ALL
USE_64_BIT_INT USE_LARGE_FILES USE_LOCALE
USE_LOCALE_COLLATE USE_LOCALE_CTYPE
USE_LOCALE_NUMERIC USE_PERLIO USE_PERL_ATOF
Built under darwin
Compiled at Aug 18 2012 00:33:25
%ENV:
PERL5LIB="/Users/glauschwuffel/.cpan/build/File-MMagic-1.29-aRvfKJ/blib/arch:/Users/glauschwuffel/.cpan/build/File-MMagic-1.29-aRvfKJ/blib/lib:/Users/glauschwuffel/.cpan/build/Regexp-Common-2011121001-F1qi80/blib/arch:/Users/glauschwuffel/.cpan/build/Regexp-Common-2011121001-F1qi80/blib/lib:/Users/glauschwuffel/.cpan/build/Bit-Vector-7.2-4JF0Uc/blib/arch:/Users/glauschwuffel/.cpan/build/Bit-Vector-7.2-4JF0Uc/blib/lib:/Users/glauschwuffel/.cpan/build/Date-Calc-6.3-WD4syr/blib/arch:/Users/glauschwuffel/.cpan/build/Date-Calc-6.3-WD4syr/blib/lib:/Users/glauschwuffel/.cpan/build/Image-Size-3.232-zG8Zzu/blib/arch:/Users/glauschwuffel/.cpan/build/Image-Size-3.232-zG8Zzu/blib/lib:/Users/glauschwuffel/.cpan/build/MIME-Types-1.36-gOEo_J/blib/arch:/Users/glauschwuffel/.cpan/build/MIME-Types-1.36-gOEo_J/blib/lib:/Users/glauschwuffel/.cpan/build/Email-Valid-0.190-PUMwj8/blib/arch:/Users/glauschwuffel/.cpan/build/Email-Valid-0.190-PUMwj8/blib/lib:/Users/glauschwuffel/.cpan/build/MailTools-2.11-9TsKM6/blib/arch:/Users/glauschwuffel/.cpan/build/MailTools-2.11-9TsKM6/blib/lib"
PERL5OPT=""
PERL5_CPANPLUS_IS_RUNNING="74179"
PERL5_CPAN_IS_RUNNING="74179"
PERL5_CPAN_IS_RUNNING_IN_RECURSION="42619,74179"
PERLBREW_BASHRC_VERSION="0.46"
PERLBREW_HOME="/Users/glauschwuffel/.perlbrew"
PERLBREW_MANPATH="/Users/glauschwuffel/perl5/perlbrew/perls/perl-5.16.1/man"
PERLBREW_PATH="/Users/glauschwuffel/perl5/perlbrew/bin:/Users/glauschwuffel/perl5/perlbrew/perls/perl-5.16.1/bin"
PERLBREW_PERL="perl-5.16.1"
PERLBREW_ROOT="/Users/glauschwuffel/perl5/perlbrew"
PERLBREW_VERSION="0.46"
PERL_CR_SMOKER_CURRENT="Data-FormValidator-4.80"
PERL_EXTUTILS_AUTOINSTALL="--defaultdeps"
PERL_MM_USE_DEFAULT="1"
@INC:
/Users/glauschwuffel/.cpan/build/File-MMagic-1.29-aRvfKJ/blib/arch
/Users/glauschwuffel/.cpan/build/File-MMagic-1.29-aRvfKJ/blib/lib
/Users/glauschwuffel/.cpan/build/Regexp-Common-2011121001-F1qi80/blib/arch
/Users/glauschwuffel/.cpan/build/Regexp-Common-2011121001-F1qi80/blib/lib
/Users/glauschwuffel/.cpan/build/Bit-Vector-7.2-4JF0Uc/blib/arch
/Users/glauschwuffel/.cpan/build/Bit-Vector-7.2-4JF0Uc/blib/lib
/Users/glauschwuffel/.cpan/build/Date-Calc-6.3-WD4syr/blib/arch
/Users/glauschwuffel/.cpan/build/Date-Calc-6.3-WD4syr/blib/lib
/Users/glauschwuffel/.cpan/build/Image-Size-3.232-zG8Zzu/blib/arch
/Users/glauschwuffel/.cpan/build/Image-Size-3.232-zG8Zzu/blib/lib
/Users/glauschwuffel/.cpan/build/MIME-Types-1.36-gOEo_J/blib/arch
/Users/glauschwuffel/.cpan/build/MIME-Types-1.36-gOEo_J/blib/lib
/Users/glauschwuffel/.cpan/build/Email-Valid-0.190-PUMwj8/blib/arch
/Users/glauschwuffel/.cpan/build/Email-Valid-0.190-PUMwj8/blib/lib
/Users/glauschwuffel/.cpan/build/MailTools-2.11-9TsKM6/blib/arch
/Users/glauschwuffel/.cpan/build/MailTools-2.11-9TsKM6/blib/lib
/Users/glauschwuffel/perl5/perlbrew/perls/perl-5.16.1/lib/site_perl/5.16.1/darwin-2level
/Users/glauschwuffel/perl5/perlbrew/perls/perl-5.16.1/lib/site_perl/5.16.1
/Users/glauschwuffel/perl5/perlbrew/perls/perl-5.16.1/lib/5.16.1/darwin-2level
/Users/glauschwuffel/perl5/perlbrew/perls/perl-5.16.1/lib/5.16.1
.