Archive-Tar-Wrapper v0.33 Perl 5 v5.26.1 OpenBSD.amd64-openbsd-thread-multi-ld
- Status
- Pass
- From
- Alceu Rodrigues de Freitas Junior
- Dist
-
Archive-Tar-Wrapper v0.33
- Platform
- Perl 5 v5.26.1 OpenBSD.amd64-openbsd-thread-multi-ld
- Date
- 2018-07-17 15:46:15
- ID
- 8a1fb022-89d8-11e8-9a1f-a47332930fd6
This distribution has been tested as part of the CPAN Testers
project, supporting the Perl programming language. See
http://wiki.cpantesters.org/ for more information or email
questions to cpan-testers-discuss@perl.org
--
Dear Alceu Rodrigues de Freitas Junior,
This is a computer-generated report for Archive-Tar-Wrapper-0.33
on perl 5.26.1, created by CPAN-Reporter-1.2018.
Thank you for uploading your work to CPAN. Congratulations!
All tests were successful.
Sections of this report:
* Tester comments
* Program output
* Prerequisites
* Environment and other context
------------------------------
TESTER COMMENTS
------------------------------
Additional comments from tester:
this report is from an automated smoke testing program
and was not reviewed by a human for accuracy
------------------------------
PROGRAM OUTPUT
------------------------------
Output from '/usr/bin/make test':
PERL_DL_NONLAZY=1 "/home/vegeta/perl5/perlbrew/perls/perl-5.26.1/bin/perl" "-MExtUtils::Command::MM" "-MTest::Harness" "-e" "undef *Test::Harness::Switches; test_harness(0, 'blib/lib', 'blib/arch')" t/*.t
t/001Basic.t .............. ok
t/002Mult.t ............... ok
t/003Dirs.t ............... ok
t/004Utf8.t ............... ok
t/005Cwd.t ................ ok
t/006DirPerms.t ........... ok
t/007bzip.t ............... ok
# with grep: Ran 1337 iterations (293 outliers).
# with grep: Rounded run time per iteration: 0.000925 +/- 0.000000 (0.0%)
# with grep and compiled regex: Ran 1274 iterations (270 outliers).
# with grep and compiled regex: Rounded run time per iteration: 0.001513 +/- 0.000001 (0.1%)
# with eq: Ran 1214 iterations (187 outliers).
# with eq: Rounded run time per iteration: 0.000605 +/- 0.000001 (0.1%)
# with enhanced eq: Ran 1274 iterations (271 outliers).
# with enhanced eq: Rounded run time per iteration: 0.000590 +/- 0.000000 (0.1%)
# with enhanced eq mark2: Ran 1274 iterations (252 outliers).
# with enhanced eq mark2: Rounded run time per iteration: 0.000498 +/- 0.000000 (0.1%)
# with enhanced eq mark3: Ran 1274 iterations (232 outliers).
# with enhanced eq mark3: Rounded run time per iteration: 0.000414 +/- 0.000000 (0.1%)
# sort and shift: Ran 1214 iterations (184 outliers).
# sort and shift: Rounded run time per iteration: 0.000634 +/- 0.000000 (0.1%)
t/008performance.t ........ ok
# with grep: Ran 1214 iterations (197 outliers).
# with grep: Rounded run time per iteration: 0.000040 +/- 0.000000 (0.1%)
# with grep and compiled regex: Ran 1214 iterations (212 outliers).
# with grep and compiled regex: Rounded run time per iteration: 0.000048 +/- 0.000000 (0.1%)
# with eq: Ran 1214 iterations (166 outliers).
# with eq: Rounded run time per iteration: 0.000035 +/- 0.000000 (0.1%)
# with enhanced eq: Ran 1274 iterations (266 outliers).
# with enhanced eq: Rounded run time per iteration: 0.000034 +/- 0.000000 (0.1%)
# with enhanced eq mark2: Ran 1214 iterations (211 outliers).
# with enhanced eq mark2: Rounded run time per iteration: 0.000035 +/- 0.000000 (0.1%)
# with enhanced eq mark3: Ran 1274 iterations (242 outliers).
# with enhanced eq mark3: Rounded run time per iteration: 0.000035 +/- 0.000000 (0.1%)
# sort and shift: Ran 1214 iterations (188 outliers).
# sort and shift: Rounded run time per iteration: 0.000033 +/- 0.000000 (0.1%)
t/009performance-small.t .. ok
All tests successful.
Test Summary Report
-------------------
t/008performance.t (Wstat: 0 Tests: 1 Failed: 0)
TODO passed: 1
t/009performance-small.t (Wstat: 0 Tests: 1 Failed: 0)
TODO passed: 1
Files=9, Tests=54, 137 wallclock secs ( 0.02 usr 0.05 sys + 57.98 cusr 25.47 csys = 83.52 CPU)
Result: PASS
------------------------------
PREREQUISITES
------------------------------
Prerequisite modules loaded:
requires:
Module Need Have
------------------- -------- --------
Cwd 0 3.74
File::Temp 0 0.2308
File::Which 0 1.22
IPC::Run 0 0.96
Log::Log4perl 0 1.49
perl 5.008001 5.026001
build_requires:
Module Need Have
------------------- -------- --------
Dumbbench 0.111 0.111
ExtUtils::MakeMaker 0 7.35_03
Test::Simple 1.302073 1.302138
configure_requires:
Module Need Have
------------------- -------- --------
ExtUtils::MakeMaker 0 7.35_03
File::Which 0 1.22
------------------------------
ENVIRONMENT AND OTHER CONTEXT
------------------------------
Environment variables:
AUTOMATED_TESTING = 1
DBD_MYSQL_TESTDB = test
DBD_MYSQL_TESTHOST = localhost
DBD_MYSQL_TESTPASSWORD =
DBD_MYSQL_TESTPORT = 3306
DBD_MYSQL_TESTUSER = vegeta
EXTENDED_TESTING = 1
PATH = /home/vegeta/perl5/perlbrew/bin:/home/vegeta/perl5/perlbrew/perls/perl-5.26.1/bin:/home/vegeta/bin:/usr/bin:/bin:/usr/sbin:/sbin:/usr/X11R6/bin:/usr/local/bin:/usr/local/sbin
PERL5LIB =
PERL5OPT =
PERL5_CPANPLUS_IS_RUNNING = 75187
PERL5_CPAN_IS_RUNNING = 75187
PERL5_CPAN_IS_RUNNING_IN_RECURSION = 20499,75187
PERLBREW_HOME = /home/vegeta/.perlbrew
PERLBREW_MANPATH = /home/vegeta/perl5/perlbrew/perls/perl-5.26.1/man
PERLBREW_PATH = /home/vegeta/perl5/perlbrew/bin:/home/vegeta/perl5/perlbrew/perls/perl-5.26.1/bin
PERLBREW_PERL = perl-5.26.1
PERLBREW_ROOT = /home/vegeta/perl5/perlbrew
PERLBREW_SHELLRC_VERSION = 0.82
PERLBREW_VERSION = 0.82
PERL_CR_SMOKER_CURRENT = Archive-Tar-Wrapper-0.33
PERL_EXTUTILS_AUTOINSTALL = --defaultdeps
PERL_MM_USE_DEFAULT = 1
SHELL = /usr/local/bin/bash
TERM = vt220
Perl special variables (and OS-specific diagnostics, for MSWin32):
$^X = /home/vegeta/perl5/perlbrew/perls/perl-5.26.1/bin/perl
$UID/$EUID = 1002 / 1002
$GID = 1002 1002 1001
$EGID = 1002 1002 1001
Perl module toolchain versions installed:
Module Have
------------------- --------
CPAN 2.16
CPAN::Meta 2.150010
Cwd 3.74
ExtUtils::CBuilder 0.280230
ExtUtils::Command 7.35_03
ExtUtils::Install 2.14
ExtUtils::MakeMaker 7.35_03
ExtUtils::Manifest 1.71
ExtUtils::ParseXS 3.35
File::Spec 3.74
JSON 2.97001
JSON::PP 2.97001
Module::Build 0.42_28
Module::Signature n/a
Parse::CPAN::Meta 2.150010
Test::Harness 3.43_01
Test::More 1.302138
YAML 1.26
YAML::Syck 1.30
version 0.9924
--
Summary of my perl5 (revision 5 version 26 subversion 1) configuration:
Platform:
osname=openbsd
osvers=6.2
archname=OpenBSD.amd64-openbsd-thread-multi-ld
uname='openbsd cpan-smoker-openbsd 6.2 generic.mp#134 amd64 '
config_args='-de -Dprefix=/home/vegeta/perl5/perlbrew/perls/perl-5.26.1 -Dman1dir=none -Dman3dir=none -Duse64bitint -Duselongdouble -Duse64bitall -Dusethreads -Dusemultiplicity -Aeval:scriptdir=/home/vegeta/perl5/perlbrew/perls/perl-5.26.1/bin'
hint=recommended
useposix=true
d_sigaction=define
useithreads=define
usemultiplicity=define
use64bitint=define
use64bitall=define
uselongdouble=define
usemymalloc=n
default_inc_excludes_dot=define
bincompat5005=undef
Compiler:
cc='cc'
ccflags ='-pthread -fno-strict-aliasing -pipe -fstack-protector-strong -I/usr/local/include -D_FORTIFY_SOURCE=2'
optimize='-O2'
cppflags='-pthread -fno-strict-aliasing -pipe -fstack-protector-strong -I/usr/local/include'
ccversion=''
gccversion='4.2.1 Compatible OpenBSD Clang 4.0.0 (tags/RELEASE_400/final)'
gccosandvers=''
intsize=4
longsize=8
ptrsize=8
doublesize=8
byteorder=12345678
doublekind=3
d_longlong=define
longlongsize=8
d_longdbl=define
longdblsize=16
longdblkind=3
ivtype='long'
ivsize=8
nvtype='long double'
nvsize=16
Off_t='off_t'
lseeksize=8
alignbytes=16
prototype=define
Linker and Libraries:
ld='cc'
ldflags ='-pthread -Wl,-E -fstack-protector-strong -L/usr/local/lib'
libpth=/usr/lib /usr/local/lib
libs=-lpthread -lm -lutil -lc
perllibs=-lpthread -lm -lutil -lc
libc=/usr/lib/libc.so.90.0
so=so
useshrplib=false
libperl=libperl.a
gnulibc_version=''
Dynamic Linking:
dlsrc=dl_dlopen.xs
dlext=so
d_dlsymun=undef
ccdlflags=' '
cccdlflags='-DPIC -fPIC '
lddlflags='-shared -fPIC -L/usr/local/lib -fstack-protector-strong'
Characteristics of this binary (from libperl):
Compile-time options:
HAS_TIMES
MULTIPLICITY
PERLIO_LAYERS
PERL_COPY_ON_WRITE
PERL_DONT_CREATE_GVSV
PERL_IMPLICIT_CONTEXT
PERL_MALLOC_WRAP
PERL_OP_PARENT
PERL_PRESERVE_IVUV
USE_64_BIT_ALL
USE_64_BIT_INT
USE_ITHREADS
USE_LARGE_FILES
USE_LOCALE
USE_LOCALE_COLLATE
USE_LOCALE_CTYPE
USE_LOCALE_NUMERIC
USE_LOCALE_TIME
USE_LONG_DOUBLE
USE_PERLIO
USE_PERL_ATOF
USE_REENTRANT_API
Locally applied patches:
Devel::PatchPerl 1.48
Built under openbsd
Compiled at Mar 6 2018 14:52:27
%ENV:
PERL5LIB=""
PERL5OPT=""
PERL5_CPANPLUS_IS_RUNNING="75187"
PERL5_CPAN_IS_RUNNING="75187"
PERL5_CPAN_IS_RUNNING_IN_RECURSION="20499,75187"
PERLBREW_HOME="/home/vegeta/.perlbrew"
PERLBREW_MANPATH="/home/vegeta/perl5/perlbrew/perls/perl-5.26.1/man"
PERLBREW_PATH="/home/vegeta/perl5/perlbrew/bin:/home/vegeta/perl5/perlbrew/perls/perl-5.26.1/bin"
PERLBREW_PERL="perl-5.26.1"
PERLBREW_ROOT="/home/vegeta/perl5/perlbrew"
PERLBREW_SHELLRC_VERSION="0.82"
PERLBREW_VERSION="0.82"
PERL_CR_SMOKER_CURRENT="Archive-Tar-Wrapper-0.33"
PERL_EXTUTILS_AUTOINSTALL="--defaultdeps"
PERL_MM_USE_DEFAULT="1"
@INC:
/home/vegeta/perl5/perlbrew/perls/perl-5.26.1/lib/site_perl/5.26.1/OpenBSD.amd64-openbsd-thread-multi-ld
/home/vegeta/perl5/perlbrew/perls/perl-5.26.1/lib/site_perl/5.26.1
/home/vegeta/perl5/perlbrew/perls/perl-5.26.1/lib/5.26.1/OpenBSD.amd64-openbsd-thread-multi-ld
/home/vegeta/perl5/perlbrew/perls/perl-5.26.1/lib/5.26.1