RPerl v3.601000 Perl 5 v5.12.5 x86_64-linux
- Status
- Pass
- From
- Slaven Rezić (SREZIC)
- Dist
-
RPerl v3.601000
- Platform
- Perl 5 v5.12.5 x86_64-linux
- Date
- 2018-03-08 09:46:13
- ID
- 89ffcdb4-22b5-11e8-a5ed-8f686a4e98ea
This distribution has been tested as part of the CPAN Testers
project, supporting the Perl programming language. See
http://wiki.cpantesters.org/ for more information or email
questions to cpan-testers-discuss@perl.org
--
Dear William N. Braswell, Jr.,
This is a computer-generated report for RPerl-3.601000
on perl 5.12.5, created by CPAN-Reporter-1.2018.
Thank you for uploading your work to CPAN. Congratulations!
All tests were successful.
Sections of this report:
* Tester comments
* Program output
* Prerequisites
* Environment and other context
------------------------------
TESTER COMMENTS
------------------------------
Additional comments from tester:
none provided
------------------------------
PROGRAM OUTPUT
------------------------------
Output from '/usr/bin/make test':
"/bbbike/perl-5.12.5/bin/perl" "-MExtUtils::Command::MM" "-MTest::Harness" "-e" "undef *Test::Harness::Switches; test_harness(0, 'blib/lib', 'blib/arch')" t/*.t
t/00_depend.t ............. ok
t/01_changes.t ............ ok
t/02_inline_c.t ........... ok
t/03_inline_cpp.t ......... ok
t/04_type_scalar.t ........ ok
t/05_type_array.t ......... ok
t/06_type_hash.t .......... ok
t/07_type_gmp.t ........... ok
t/09_interpret_execute.t .. ok
t/12_parse.t .............. ok
t/13_generate.t ........... ok
All tests successful.
Files=11, Tests=4156, 2067 wallclock secs ( 0.52 usr 0.14 sys + 1467.89 cusr 359.74 csys = 1828.29 CPU)
Result: PASS
------------------------------
PREREQUISITES
------------------------------
Prerequisite modules loaded:
requires:
Module Need Have
------------------- -------- --------
Alien::astyle 0.009 0.009000
Alien::JPCRE2 0.012 0.012000
Alien::PCRE2 0.015 0.015000
App::Pod2CpanHtml 0.04 0.04
CPAN::Meta 2.150005 2.150010
Date::Format 2.24 2.24
ExtUtils::MakeMaker 7.04 7.32
File::Which 1.21 1.22
Filter::Simple 0.91 0.94
Inline 0.80 0.80
Inline::C 0.76 0.78
Inline::CPP 0.74 0.74
Inline::Filters 0.19 0.20
IPC::Run3 0.048 0.048
List::MoreUtils 0.33 0.416
Math::BigInt::GMP 1.46 1.6003
Math::GSL 0.39 0.39
Module::Refresh 0.17 0.17
Module::ScanDeps 1.19 1.21
MongoDB v1.8.0 v1.8.0
PadWalker 2.1 2.2
Parse::Eyapp 1.21 1.21
perl 5.010000 5.012005
Perl::Critic 1.121 1.130
Perl::Tidy 20140711 20171214
Pod::PseudoPod 0.18 0.18
Test2::Suite 0.000069 0.000102
Test::CPAN::Changes 0.400002 0.400002
Test::Exception 0.43 0.43
Test::Number::Delta 1.06 1.06
Text::ASCIITable 0.20 0.22
Time::HiRes 1.9726 1.9754
build_requires:
Module Need Have
------------------- -------- --------
ExtUtils::MakeMaker 0 7.32
configure_requires:
Module Need Have
------------------- -------- --------
Alien::GMP 1.07 1.07
Alien::GSL 1.01 1.01
IO::Socket::SSL 2.043 2.055
------------------------------
ENVIRONMENT AND OTHER CONTEXT
------------------------------
Environment variables:
LANG = C
LC_ALL = de_DE.UTF-8
PATH = /usr/local/bin:/usr/bin:/bin:/usr/local/sbin:/usr/sbin:/sbin:/home/cpansand/bin/linux-gnu:/home/cpansand/bin/sh:/home/cpansand/bin:/usr/games:/home/cpansand/devel:/home/eserte/src/srezic-misc/scripts
PERL5LIB = /home/cpansand/.cpan/build/2018030809/Parse-Eyapp-1.21-0/blib/arch:/home/cpansand/.cpan/build/2018030809/Parse-Eyapp-1.21-0/blib/lib:/home/cpansand/.cpan/build/2018030809/Alien-JPCRE2-0.012000-0/blib/arch:/home/cpansand/.cpan/build/2018030809/Alien-JPCRE2-0.012000-0/blib/lib
PERL5OPT =
PERL5_CPANPLUS_IS_RUNNING = 23400
PERL5_CPAN_IS_RUNNING = 23400
PERL5_CPAN_IS_RUNNING_IN_RECURSION = 7189,23400
PERLDOC = -MPod::Perldoc::ToTextOverstrike
PERL_BATCH = yes
PERL_CANARY_STABILITY_NOPROMPT = 1
PERL_CPAN_REPORTER_CONFIG = /var/tmp/cpansmoker-1023/2018030800/cpanreporter_000_config.ini
PERL_EXTUTILS_AUTOINSTALL = --defaultdeps
PERL_PARALLEL_SMOKER = yes
PERL_USE_UNSAFE_INC = 1
SHELL = /bin/zsh
TERM = screen
TMPDIR = /var/tmp/cpansmoker-1023/2018030800
Perl special variables (and OS-specific diagnostics, for MSWin32):
$^X = /bbbike/perl-5.12.5/bin/perl
$UID/$EUID = 1023 / 1023
$GID = 1023 1023
$EGID = 1023 1023
Perl module toolchain versions installed:
Module Have
------------------- --------
CPAN 2.16
CPAN::Meta 2.150010
Cwd 3.62
ExtUtils::CBuilder 0.280230
ExtUtils::Command 7.32
ExtUtils::Install 2.12
ExtUtils::MakeMaker 7.32
ExtUtils::Manifest 1.70
ExtUtils::ParseXS 3.30
File::Spec 3.62
JSON 2.94
JSON::PP 2.27400
Module::Build 0.4224
Module::Signature 0.81
Parse::CPAN::Meta 2.150010
Test::Harness 3.41
Test::More 1.302125
YAML 1.23
YAML::Syck 1.30
version 0.9916
--
Summary of my perl5 (revision 5 version 12 subversion 5) configuration:
Platform:
osname=linux, osvers=3.16.0-4-amd64, archname=x86_64-linux
uname='linux eserte 3.16.0-4-amd64 #1 smp debian 3.16.7-ckt25-2 (2016-04-08) x86_64 gnulinux '
config_args='-ds -e -Dprefix=/opt/perl-5.12.5 -Dcf_email=srezic@cpan.org'
hint=recommended, useposix=true, d_sigaction=define
useithreads=undef, usemultiplicity=undef
useperlio=define, d_sfio=undef, uselargefiles=define, usesocks=undef
use64bitint=define, use64bitall=define, uselongdouble=undef
usemymalloc=n, bincompat5005=undef
Compiler:
cc='cc', ccflags ='-fno-strict-aliasing -pipe -fstack-protector -I/usr/local/include -D_LARGEFILE_SOURCE -D_FILE_OFFSET_BITS=64',
optimize='-O2',
cppflags='-fno-strict-aliasing -pipe -fstack-protector -I/usr/local/include'
ccversion='', gccversion='4.9.2', gccosandvers=''
intsize=4, longsize=8, ptrsize=8, doublesize=8, byteorder=12345678
d_longlong=define, longlongsize=8, d_longdbl=define, longdblsize=16
ivtype='long', ivsize=8, nvtype='double', nvsize=8, Off_t='off_t', lseeksize=8
alignbytes=8, prototype=define
Linker and Libraries:
ld='cc', ldflags =' -fstack-protector -L/usr/local/lib'
libpth=/usr/local/lib /lib/x86_64-linux-gnu /lib/../lib /usr/lib/x86_64-linux-gnu /usr/lib/../lib /lib /usr/lib
libs=-lnsl -lgdbm -ldb -ldl -lm -lcrypt -lutil -lc -lgdbm_compat
perllibs=-lnsl -ldl -lm -lcrypt -lutil -lc
libc=libc-2.19.so, so=so, useshrplib=false, libperl=libperl.a
gnulibc_version='2.19'
Dynamic Linking:
dlsrc=dl_dlopen.xs, dlext=so, d_dlsymun=undef, ccdlflags='-Wl,-E'
cccdlflags='-fPIC', lddlflags='-shared -O2 -L/usr/local/lib -fstack-protector'
Characteristics of this binary (from libperl):
Compile-time options: PERL_DONT_CREATE_GVSV PERL_MALLOC_WRAP USE_64_BIT_ALL
USE_64_BIT_INT USE_LARGE_FILES USE_PERLIO
USE_PERL_ATOF
Locally applied patches:
Devel::PatchPerl 1.42
Built under linux
Compiled at May 7 2016 10:05:30
%ENV:
PERL5LIB="/home/cpansand/.cpan/build/2018030809/Parse-Eyapp-1.21-0/blib/arch:/home/cpansand/.cpan/build/2018030809/Parse-Eyapp-1.21-0/blib/lib:/home/cpansand/.cpan/build/2018030809/Alien-JPCRE2-0.012000-0/blib/arch:/home/cpansand/.cpan/build/2018030809/Alien-JPCRE2-0.012000-0/blib/lib"
PERL5OPT=""
PERL5_CPANPLUS_IS_RUNNING="23400"
PERL5_CPAN_IS_RUNNING="23400"
PERL5_CPAN_IS_RUNNING_IN_RECURSION="7189,23400"
PERLDOC="-MPod::Perldoc::ToTextOverstrike"
PERL_BATCH="yes"
PERL_CANARY_STABILITY_NOPROMPT="1"
PERL_CPAN_REPORTER_CONFIG="/var/tmp/cpansmoker-1023/2018030800/cpanreporter_000_config.ini"
PERL_EXTUTILS_AUTOINSTALL="--defaultdeps"
PERL_PARALLEL_SMOKER="yes"
PERL_USE_UNSAFE_INC="1"
@INC:
/home/cpansand/.cpan/build/2018030809/Parse-Eyapp-1.21-0/blib/arch
/home/cpansand/.cpan/build/2018030809/Parse-Eyapp-1.21-0/blib/lib
/home/cpansand/.cpan/build/2018030809/Alien-JPCRE2-0.012000-0/blib/arch
/home/cpansand/.cpan/build/2018030809/Alien-JPCRE2-0.012000-0/blib/lib
/opt/perl-5.12.5/lib/site_perl/5.12.5/x86_64-linux
/opt/perl-5.12.5/lib/site_perl/5.12.5
/opt/perl-5.12.5/lib/5.12.5/x86_64-linux
/opt/perl-5.12.5/lib/5.12.5
.