Report for VM-EC2-1.20

Back
From: metabase:user:314402c4-2aae-11df-837a-5e0a49663a4f
Subject: PASS VM-EC2-1.20 v5.14.0 FreeBSD
Date: 2012-11-28T23:58:42Z

This distribution has been tested as part of the CPAN Testers
project, supporting the Perl programming language.  See
http://wiki.cpantesters.org/ for more information or email
questions to cpan-testers-discuss@perl.org


--
Dear Lincoln D. Stein,

This is a computer-generated report for VM-EC2-1.20
on perl 5.14.0, created by CPAN-Reporter-1.2006.

Thank you for uploading your work to CPAN.  Congratulations!
All tests were successful.

Sections of this report:

    * Tester comments
    * Program output
    * Prerequisites
    * Environment and other context

------------------------------
TESTER COMMENTS
------------------------------

Additional comments from tester:

none provided

------------------------------
PROGRAM OUTPUT
------------------------------

Output from '/usr/bin/make test':

/home2/cpansand/var/ctps/5140_1/install/perl-5.14.0/bin/perl5.14.0 Build --makefile_env_macros 1 test
# To run this test script, you must have an Amazon EC2 Access and
# Secret key pair. Please define the environment variables:
#
#   EC2_ACCESS_KEY
#   EC2_SECRET_KEY
#
# If these variables are not defined, you will be prompted for them.
# Hit return without entering any values to skip tests.
# (These prompts will timeout automatically in 10s.)
Enter your EC2 access key: Timeout!
t/01.describe.t ........ ok
t/02.keypairs.t ........ ok
# deleting test security group...
t/03.securitygroup.t ... ok
t/04.volume.t .......... ok
t/05.spot_instance.t ... ok
t/06.security_token.t .. ok
t/07.instance.t ........ ok
t/08.staging.t ......... ok
All tests successful.
Files=8, Tests=177, 13 wallclock secs ( 0.04 usr  0.05 sys +  1.74 cusr  0.39 csys =  2.23 CPU)
Result: PASS

------------------------------
PREREQUISITES
------------------------------

Prerequisite modules loaded:

requires:

    Module         Need  Have   
    -------------- ----- -------
    Digest::SHA    5.47  5.72   
    File::Path     2.08  2.08_01
    LWP            5.835 6.04   
    MIME::Base64   3.08  3.13   
    String::Approx 3.26  3.26   
    URI::URL       5.03  5.04   
    XML::Simple    2.18  2.20   

configure_requires:

    Module         Need  Have   
    -------------- ----- -------
    Module::Build  0     0.4003 


------------------------------
ENVIRONMENT AND OTHER CONTEXT
------------------------------

Environment variables:

    DBIC_NO_WARN_BAD_PERL = 1
    PATH = /usr/local/bin:/usr/X11R6/bin:/usr/X11/bin:/usr/perl5.8.0/bin:/usr/bin:/bin:/usr/local/sbin:/usr/sbin:/sbin:/usr/local/pilot/bin:/home/cpansand/bin/freebsd8.0:/home/cpansand/bin/sh:/home/cpansand/bin:/usr/X386/bin:/usr/games:/home/cpansand/devel:/usr/home/e/eserte/work/srezic-misc/scripts
    PERL5LIB = /usr/local/src/CPAN/build/Mail-Box-2.107-9pqBdL/blib/arch:/usr/local/src/CPAN/build/Mail-Box-2.107-9pqBdL/blib/lib:/usr/local/src/CPAN/build/App-TimeClock-0.05-aagsIM/blib/arch:/usr/local/src/CPAN/build/App-TimeClock-0.05-aagsIM/blib/lib:/usr/local/src/CPAN/build/Tapper-Testplan-4.1.2-eimORr/blib/arch:/usr/local/src/CPAN/build/Tapper-Testplan-4.1.2-eimORr/blib/lib:/usr/local/src/CPAN/build/Inline-0.51_03-Cy8hrG/blib/arch:/usr/local/src/CPAN/build/Inline-0.51_03-Cy8hrG/blib/lib
    PERL5OPT = 
    PERL5_CPANPLUS_IS_RUNNING = 24639
    PERL5_CPAN_IS_RUNNING = 24639
    PERL5_CPAN_IS_RUNNING_IN_RECURSION = 24617,24639
    PERL_BATCH = yes
    PERL_CPAN_REPORTER_CONFIG = /var/tmp/cpansmoker-1023/iD3Xv7J0Fl_config.ini
    PERL_CPAN_REPORTER_DIR = /home/cpansand/var/ctps/5140_1/config/perl-5.14.0/cpanreporter
    PERL_EXTUTILS_AUTOINSTALL = --defaultdeps
    PERL_HTML_DISPLAY_CLASS = HTML::Display::Mozilla
    SHELL = /usr/local/bin/zsh
    TERM = screen
    TMPDIR = /var/tmp/cpansmoker-1023

Perl special variables (and OS-specific diagnostics, for MSWin32):

    $^X = /home2/cpansand/var/ctps/5140_1/install/perl-5.14.0/bin/perl5.14.0
    $UID/$EUID = 1023 / 1023
    $GID = 1023 1023
    $EGID = 1023 1023

Perl module toolchain versions installed:

    Module              Have    
    ------------------- --------
    CPAN                1.9800  
    CPAN::Meta          2.120921
    Cwd                 3.36    
    ExtUtils::CBuilder  0.280205
    ExtUtils::Command   1.17    
    ExtUtils::Install   1.56    
    ExtUtils::MakeMaker 6.62    
    ExtUtils::Manifest  1.60    
    ExtUtils::ParseXS   3.15    
    File::Spec          3.33    
    JSON                2.53    
    JSON::PP            2.27200 
    Module::Build       0.4003  
    Module::Signature   0.68    
    Parse::CPAN::Meta   1.4403  
    Test::Harness       3.23    
    Test::More          0.98    
    YAML                0.84    
    YAML::Syck          1.20    
    version             0.9901  


--

Summary of my perl5 (revision 5 version 14 subversion 0) configuration:
   
  Platform:
    osname=freebsd, osvers=8.0-release, archname=i386-freebsd
    uname='freebsd biokovo.herceg.de 8.0-release freebsd 8.0-release #0: sat nov 21 15:48:17 utc 2009 root@almeida.cse.buffalo.edu:usrobjusrsrcsysgeneric i386 '
    config_args='-ds -e -Uversiononly -Dinstallusrbinperl=n -Dusedevel -Dprefix=/home/cpansand/var/ctps/5140_1/install/perl-5.14.0'
    hint=recommended, useposix=true, d_sigaction=define
    useithreads=undef, usemultiplicity=undef
    useperlio=define, d_sfio=undef, uselargefiles=define, usesocks=undef
    use64bitint=undef, use64bitall=undef, uselongdouble=undef
    usemymalloc=n, bincompat5005=undef
  Compiler:
    cc='cc', ccflags ='-DHAS_FPSETMASK -DHAS_FLOATINGPOINT_H -fno-strict-aliasing -pipe -fstack-protector -I/usr/local/include',
    optimize='-O',
    cppflags='-DHAS_FPSETMASK -DHAS_FLOATINGPOINT_H -fno-strict-aliasing -pipe -fstack-protector -I/usr/local/include'
    ccversion='', gccversion='4.2.1 20070719  [FreeBSD]', gccosandvers=''
    intsize=4, longsize=4, ptrsize=4, doublesize=8, byteorder=1234
    d_longlong=define, longlongsize=8, d_longdbl=define, longdblsize=12
    ivtype='long', ivsize=4, nvtype='double', nvsize=8, Off_t='off_t', lseeksize=8
    alignbytes=4, prototype=define
  Linker and Libraries:
    ld='cc', ldflags ='-Wl,-E  -fstack-protector -L/usr/local/lib'
    libpth=/usr/lib /usr/local/lib
    libs=-lgdbm -lm -lcrypt -lutil -lc
    perllibs=-lm -lcrypt -lutil -lc
    libc=, so=so, useshrplib=false, libperl=libperl.a
    gnulibc_version=''
  Dynamic Linking:
    dlsrc=dl_dlopen.xs, dlext=so, d_dlsymun=undef, ccdlflags=' '
    cccdlflags='-DPIC -fPIC', lddlflags='-shared  -L/usr/local/lib -fstack-protector'


Characteristics of this binary (from libperl): 
  Compile-time options: PERL_DONT_CREATE_GVSV PERL_MALLOC_WRAP
                        PERL_PRESERVE_IVUV PERL_USE_DEVEL USE_LARGE_FILES
                        USE_PERLIO USE_PERL_ATOF
  Built under freebsd
  Compiled at May 16 2011 22:19:43
  %ENV:
    PERL5LIB="/usr/local/src/CPAN/build/Mail-Box-2.107-9pqBdL/blib/arch:/usr/local/src/CPAN/build/Mail-Box-2.107-9pqBdL/blib/lib:/usr/local/src/CPAN/build/App-TimeClock-0.05-aagsIM/blib/arch:/usr/local/src/CPAN/build/App-TimeClock-0.05-aagsIM/blib/lib:/usr/local/src/CPAN/build/Tapper-Testplan-4.1.2-eimORr/blib/arch:/usr/local/src/CPAN/build/Tapper-Testplan-4.1.2-eimORr/blib/lib:/usr/local/src/CPAN/build/Inline-0.51_03-Cy8hrG/blib/arch:/usr/local/src/CPAN/build/Inline-0.51_03-Cy8hrG/blib/lib"
    PERL5OPT=""
    PERL5_CPANPLUS_IS_RUNNING="24639"
    PERL5_CPAN_IS_RUNNING="24639"
    PERL5_CPAN_IS_RUNNING_IN_RECURSION="24617,24639"
    PERL_BATCH="yes"
    PERL_CPAN_REPORTER_CONFIG="/var/tmp/cpansmoker-1023/iD3Xv7J0Fl_config.ini"
    PERL_CPAN_REPORTER_DIR="/home/cpansand/var/ctps/5140_1/config/perl-5.14.0/cpanreporter"
    PERL_EXTUTILS_AUTOINSTALL="--defaultdeps"
    PERL_HTML_DISPLAY_CLASS="HTML::Display::Mozilla"
  @INC:
    /usr/local/src/CPAN/build/Mail-Box-2.107-9pqBdL/blib/arch
    /usr/local/src/CPAN/build/Mail-Box-2.107-9pqBdL/blib/lib
    /usr/local/src/CPAN/build/App-TimeClock-0.05-aagsIM/blib/arch
    /usr/local/src/CPAN/build/App-TimeClock-0.05-aagsIM/blib/lib
    /usr/local/src/CPAN/build/Tapper-Testplan-4.1.2-eimORr/blib/arch
    /usr/local/src/CPAN/build/Tapper-Testplan-4.1.2-eimORr/blib/lib
    /usr/local/src/CPAN/build/Inline-0.51_03-Cy8hrG/blib/arch
    /usr/local/src/CPAN/build/Inline-0.51_03-Cy8hrG/blib/lib
    /home/cpansand/var/ctps/5140_1/install/perl-5.14.0/lib/site_perl/5.14.0/i386-freebsd
    /home/cpansand/var/ctps/5140_1/install/perl-5.14.0/lib/site_perl/5.14.0
    /home/cpansand/var/ctps/5140_1/install/perl-5.14.0/lib/5.14.0/i386-freebsd
    /home/cpansand/var/ctps/5140_1/install/perl-5.14.0/lib/5.14.0
    .