PathTools v3.75 Perl 5 v5.28.0 darwin-thread-multi-2level

Status
Pass
From
Lars Eggert
Dist
PathTools v3.75
Platform
Perl 5 v5.28.0 darwin-thread-multi-2level
Date
2018-08-30 05:57:10
ID
88b8c30a-ac19-11e8-bbe3-d1545482f841
This distribution has been tested as part of the CPAN Testers
project, supporting the Perl programming language.  See
http://wiki.cpantesters.org/ for more information or email
questions to cpan-testers-discuss@perl.org


--
Dear XSAWYERX,

This is a computer-generated report for PathTools-3.75
on perl 5.28.0, created by App::cpanminus::reporter 0.17 (1.7044).

Thank you for uploading your work to CPAN.  Congratulations!
All tests were successful.

Sections of this report:

    * Tester comments
    * Program output
    * Prerequisites
    * Environment and other context

------------------------------
TESTER COMMENTS
------------------------------

Additional comments from tester:

none provided

------------------------------
PROGRAM OUTPUT
------------------------------

Output from '':

Building and testing PathTools-3.75
cp lib/File/Spec/Mac.pm blib/lib/File/Spec/Mac.pm
cp lib/File/Spec/Win32.pm blib/lib/File/Spec/Win32.pm
cp lib/File/Spec/Unix.pm blib/lib/File/Spec/Unix.pm
cp lib/File/Spec.pm blib/lib/File/Spec.pm
cp lib/File/Spec/OS2.pm blib/lib/File/Spec/OS2.pm
cp lib/File/Spec/Functions.pm blib/lib/File/Spec/Functions.pm
cp lib/File/Spec/Epoc.pm blib/lib/File/Spec/Epoc.pm
cp lib/File/Spec/Cygwin.pm blib/lib/File/Spec/Cygwin.pm
cp lib/File/Spec/AmigaOS.pm blib/lib/File/Spec/AmigaOS.pm
cp Cwd.pm blib/lib/Cwd.pm
cp lib/File/Spec/VMS.pm blib/lib/File/Spec/VMS.pm
Running Mkbootstrap for Cwd ()
chmod 644 "Cwd.bs"
"/usr/local/perlbrew/perls/perl-5.28.0/bin/perl" -MExtUtils::Command::MM -e 'cp_nonempty' -- Cwd.bs blib/arch/auto/Cwd/Cwd.bs 644
"/usr/local/perlbrew/perls/perl-5.28.0/bin/perl" "/usr/local/perlbrew/perls/perl-5.28.0/lib/5.28.0/ExtUtils/xsubpp"  -typemap '/usr/local/perlbrew/perls/perl-5.28.0/lib/5.28.0/ExtUtils/typemap'  Cwd.xs > Cwd.xsc
mv Cwd.xsc Cwd.c
cc -c   -fno-common -DPERL_DARWIN -mmacosx-version-min=10.13 -fno-strict-aliasing -pipe -fstack-protector-strong -I/usr/local/include -DPERL_USE_SAFE_PUTENV -O3   -DVERSION=\"3.75\" -DXS_VERSION=\"3.75\"  "-I/usr/local/perlbrew/perls/perl-5.28.0/lib/5.28.0/darwin-thread-multi-2level/CORE"  -DDOUBLE_SLASHES_SPECIAL=0 Cwd.c
rm -f blib/arch/auto/Cwd/Cwd.bundle
cc  -mmacosx-version-min=10.13 -bundle -undefined dynamic_lookup -L/usr/local/lib -fstack-protector-strong  Cwd.o  -o blib/arch/auto/Cwd/Cwd.bundle  \
	      \
	  
chmod 755 blib/arch/auto/Cwd/Cwd.bundle
Manifying 11 pod documents
"/usr/local/perlbrew/perls/perl-5.28.0/bin/perl" -MExtUtils::Command::MM -e 'cp_nonempty' -- Cwd.bs blib/arch/auto/Cwd/Cwd.bs 644
PERL_DL_NONLAZY=1 "/usr/local/perlbrew/perls/perl-5.28.0/bin/perl" "-MExtUtils::Command::MM" "-MTest::Harness" "-e" "undef *Test::Harness::Switches; test_harness(0, 'blib/lib', 'blib/arch')" t/*.t
t/abs2rel.t ........ ok
t/crossplatform.t .. ok
t/cwd.t ............ ok
t/cwd_enoent.t ..... ok
t/Functions.t ...... ok
t/rel2abs2rel.t .... ok
t/Spec-taint.t ..... ok
t/Spec.t ........... ok
t/taint.t .......... ok
t/tmpdir.t ......... ok
t/win32.t .......... skipped: this is not win32
All tests successful.
Files=11, Tests=847,  2 wallclock secs ( 0.13 usr  0.03 sys +  1.22 cusr  0.25 csys =  1.63 CPU)
Result: PASS

------------------------------
PREREQUISITES
------------------------------

Prerequisite modules loaded:

    No requirements found

------------------------------
ENVIRONMENT AND OTHER CONTEXT
------------------------------

Environment variables:

    LANG = en_US.UTF-8
    PATH = /Users/lars/bin:/usr/local/perlbrew/bin:/usr/local/perlbrew/perls/perl-5.28.0/bin:/usr/local/bin:/usr/local/sbin:/usr/local/opt/ruby/bin:/usr/local/opt/llvm/bin:/opt/X11/bin:/Applications/VMware Fusion.app/Contents/Public:/usr/local/MacGPG2/bin:/Library/TeX/texbin:/Applications/Wireshark.app/Contents/MacOS:/usr/bin:/bin:/usr/sbin:/sbin
    PERLBREW_MANPATH = /usr/local/perlbrew/perls/perl-5.28.0/man
    PERLBREW_PATH = /usr/local/perlbrew/bin:/usr/local/perlbrew/perls/perl-5.28.0/bin
    PERLBREW_PERL = perl-5.28.0
    PERLBREW_ROOT = /usr/local/perlbrew
    SHELL = /usr/local/bin/fish
    TERM = screen-256color
    TMPDIR = /var/folders/2l/mj2rsdx10t93p5wsl2z45zl00019yg/T/

Perl special variables (and OS-specific diagnostics, for MSWin32):

    EGID = 20 20 501 703 12 61 79 80 81 98 702 33 100 204 250 395 398
    EUID = 42959
    EXECUTABLE_NAME = /usr/local/perlbrew/perls/perl-5.28.0/bin/perl
    GID = 20 20 501 703 12 61 79 80 81 98 702 33 100 204 250 395 398
    UID = 42959

Perl module toolchain versions installed:

    Module              Have    
    ------------------- --------
    CPAN                2.20    
    CPAN::Meta          2.150010
    Cwd                 3.75    
    ExtUtils::CBuilder  0.280230
    ExtUtils::Command   7.34    
    ExtUtils::Install   2.14    
    ExtUtils::MakeMaker 7.34    
    ExtUtils::Manifest  1.71    
    ExtUtils::ParseXS   3.39    
    File::Spec          3.75    
    JSON                2.97001 
    JSON::PP            2.97001 
    Module::Build       0.4224  
    Module::Signature   n/a     
    Parse::CPAN::Meta   2.150010
    Test::Harness       3.42    
    Test::More          1.302140
    YAML                n/a     
    YAML::Syck          n/a     
    version             0.9924  


--

Summary of my perl5 (revision 5 version 28 subversion 0) configuration:
   
  Platform:
    osname=darwin
    osvers=17.7.0
    archname=darwin-thread-multi-2level
    uname='darwin slate.hq.netapp.com 17.7.0 darwin kernel version 17.7.0: thu jun 21 22:53:14 pdt 2018; root:xnu-4570.71.2~1release_x86_64 x86_64 '
    config_args='-de -Dprefix=/usr/local/perlbrew/perls/perl-5.28.0 -Duseithreads -Aeval:scriptdir=/usr/local/perlbrew/perls/perl-5.28.0/bin'
    hint=recommended
    useposix=true
    d_sigaction=define
    useithreads=define
    usemultiplicity=define
    use64bitint=define
    use64bitall=define
    uselongdouble=undef
    usemymalloc=n
    default_inc_excludes_dot=define
    bincompat5005=undef
  Compiler:
    cc='cc'
    ccflags ='-fno-common -DPERL_DARWIN -mmacosx-version-min=10.13 -fno-strict-aliasing -pipe -fstack-protector-strong -I/usr/local/include -DPERL_USE_SAFE_PUTENV'
    optimize='-O3'
    cppflags='-fno-common -DPERL_DARWIN -mmacosx-version-min=10.13 -fno-strict-aliasing -pipe -fstack-protector-strong -I/usr/local/include'
    ccversion=''
    gccversion='4.2.1 Compatible Apple LLVM 9.1.0 (clang-902.0.39.2)'
    gccosandvers=''
    intsize=4
    longsize=8
    ptrsize=8
    doublesize=8
    byteorder=12345678
    doublekind=3
    d_longlong=define
    longlongsize=8
    d_longdbl=define
    longdblsize=16
    longdblkind=3
    ivtype='long'
    ivsize=8
    nvtype='double'
    nvsize=8
    Off_t='off_t'
    lseeksize=8
    alignbytes=8
    prototype=define
  Linker and Libraries:
    ld='cc'
    ldflags =' -mmacosx-version-min=10.13 -fstack-protector-strong -L/usr/local/lib'
    libpth=/usr/local/lib /Applications/Xcode.app/Contents/Developer/Toolchains/XcodeDefault.xctoolchain/usr/lib/clang/9.1.0/lib /Applications/Xcode.app/Contents/Developer/Toolchains/XcodeDefault.xctoolchain/usr/lib /usr/lib
    libs=-lpthread -lgdbm -ldbm -ldb -ldl -lm -lutil -lc
    perllibs=-lpthread -ldl -lm -lutil -lc
    libc=
    so=dylib
    useshrplib=false
    libperl=libperl.a
    gnulibc_version=''
  Dynamic Linking:
    dlsrc=dl_dlopen.xs
    dlext=bundle
    d_dlsymun=undef
    ccdlflags=' '
    cccdlflags=' '
    lddlflags=' -mmacosx-version-min=10.13 -bundle -undefined dynamic_lookup -L/usr/local/lib -fstack-protector-strong'


Characteristics of this binary (from libperl): 
  Compile-time options:
    HAS_TIMES
    MULTIPLICITY
    PERLIO_LAYERS
    PERL_COPY_ON_WRITE
    PERL_DONT_CREATE_GVSV
    PERL_IMPLICIT_CONTEXT
    PERL_MALLOC_WRAP
    PERL_OP_PARENT
    PERL_PRESERVE_IVUV
    PERL_USE_SAFE_PUTENV
    USE_64_BIT_ALL
    USE_64_BIT_INT
    USE_ITHREADS
    USE_LARGE_FILES
    USE_LOCALE
    USE_LOCALE_COLLATE
    USE_LOCALE_CTYPE
    USE_LOCALE_NUMERIC
    USE_LOCALE_TIME
    USE_PERLIO
    USE_PERL_ATOF
    USE_REENTRANT_API
  Locally applied patches:
    Devel::PatchPerl 1.48
  Built under darwin
  Compiled at Jul 12 2018 13:11:52
  %ENV:
    PERLBREW_MANPATH="/usr/local/perlbrew/perls/perl-5.28.0/man"
    PERLBREW_PATH="/usr/local/perlbrew/bin:/usr/local/perlbrew/perls/perl-5.28.0/bin"
    PERLBREW_PERL="perl-5.28.0"
    PERLBREW_ROOT="/usr/local/perlbrew"
  @INC:
    /usr/local/perlbrew/perls/perl-5.28.0/lib/site_perl/5.28.0/darwin-thread-multi-2level
    /usr/local/perlbrew/perls/perl-5.28.0/lib/site_perl/5.28.0
    /usr/local/perlbrew/perls/perl-5.28.0/lib/5.28.0/darwin-thread-multi-2level
    /usr/local/perlbrew/perls/perl-5.28.0/lib/5.28.0