App-perlbrew v1.01 Perl 5 v5.42.0 RC1 darwin-2level

Status
Pass
From
Dist
App-perlbrew v1.01
Platform
Perl 5 v5.42.0 RC1 darwin-2level
Date
2025-06-25 02:31:43
ID
88a70b2e-516c-11f0-b454-faca8759c0d5
This distribution has been tested as part of the CPAN Testers
project, supporting the Perl programming language.  See
http://wiki.cpantesters.org/ for more information or email
questions to cpan-testers-discuss@perl.org


--
Dear GUGOD,

This is a computer-generated report for App-perlbrew-1.01
on perl 5.42.0, created by App::cpanminus::reporter 0.22 (1.7048).

Thank you for uploading your work to CPAN.  Congratulations!
All tests were successful.

Sections of this report:

    * Tester comments
    * Program output
    * Prerequisites
    * Environment and other context

------------------------------
TESTER COMMENTS
------------------------------

Additional comments from tester:

none provided

------------------------------
PROGRAM OUTPUT
------------------------------

Output from '':

Building and testing App-perlbrew-1.01
t/02.format_perl_version.t ................ ok
t/01.options.t ............................ ok
t/00.load.t ............................... ok
t/04.find_available_perls.t ............... ok
t/03.test_get_available_versions.t ........ ok
t/05.get_current_perl.t ................... ok
t/07.argv.t ............................... ok
t/08.error_install.t ...................... ok
t/08.error_install_cpanm.t ................ ok
t/08.error_install_blead.t ................ ok
t/08.error_install_cpm.t .................. ok
t/11.editdist.t ........................... ok
t/09.exit_status.t ........................ ok
t/11.root_from_arg.t ...................... ok
t/12.destdir.t ............................ ok
t/10.resolve.t ............................ ok
t/12.sitecustomize.t ...................... ok
# Workflow build 'when the given versionis not found is CPAN::Perl::Releases' is empty at t/13.perl_release.t around lines 27 -> 44.
t/13.perl_release.t ....................... ok
t/14.perl_version_parsing.t ............... ok
# /tmp/TThmmh6bQx/build/test/test
t/15.no-reuse-build-dir.t ................. ok
t/16.release-detail.t ..................... ok
t/18.release-detail-perl-local.t .......... ok
t/18.release-detail-perl-remote.t ......... skipped: These tests send HTTP requests. Set env TEST_LIVE=1 to really run them.
# alias, available, clean, clone-modules, compgen, display-bashrc, display-cshrc, display-installation-failure-message, display-pristine-manpath, display-pristine-path, display-system-perl-executable, display-system-perl-shebang, download, env, exec, help, info, init, init-in-bash, install, install-cpanm, install-cpm, install-multiple, install-patchperl, lib, lib-create, lib-delete, lib-list, list, list-modules, make-pp, make-shim, off, self-install, self-upgrade, switch, switch-off, symlink-executables, uninstall, upgrade-perl, use, version
t/19.find_similar_commands.t .............. ok
t/app-perlbrew-path-installation.t ........ ok
t/bashrc_content.t ........................ ok
t/app-perlbrew-path.t ..................... ok
t/builddir.t .............................. ok
t/command-alias.t ......................... ok
t/command-available.t ..................... ok
t/command-display-rc.t .................... ok
t/command-clone-modules.t ................. ok
t/command-compgen.t ....................... ok
t/08.error_available.t .................... ok
t/06.installed_perls.t .................... ok
sort (...) interpreted as function at t/command-exec.t line 386.
sort (...) interpreted as function at t/command-exec.t line 410.
t/command-env.t ........................... ok
t/command-install-cpanm.t ................. ok
t/command-install-cpm.t ................... ok
t/command-info.t .......................... ok
            # Command [perl -E 'say 42'] terminated with exit code 3 ($? = 768) under the following perl environment:
            # Command [perl -E 'say 42'] terminated with exit code 3 ($? = 768) under the following perl environment:
            # Command [perl -E 'somesub 42'] terminated with exit code 7 ($? = 1792) under the following perl environment:
            # format_info_output_value
            # Command [perl -E 'say 42'] terminated with exit code 255 ($? = -1) under the following perl environment:
            # Command [perl -E 'say 42'] terminated with exit code 7 ($? = 1792) under the following perl environment:
            # Command [perl -E 'say 42'] terminated with exit code 3 ($? = 768) under the following perl environment:
t/command-exec.t .......................... ok
t/command-install-from-archive.t .......... ok
t/command-install-patchperl.t ............. ok
t/bashrc_executes.t ....................... ok
t/command-install.t ....................... ok
t/command-lib.t ........................... ok
        # 
        # The content of shim:
        # ----
        # #!/bin/bash
        # export PERL5LIB="/Volumes/chambord/Users/ether/.cpanm/work/1750816948.6461/App-perlbrew-1.01/blib/arch:/Volumes/chambord/Users/ether/.cpanm/work/1750816948.6461/App-perlbrew-1.01/blib/lib:/Volumes/chambord/Users/ether/.cpanm/work/1750816948.6461/App-perlbrew-1.01/blib/arch:/Volumes/chambord/Users/ether/.cpanm/work/1750816948.6461/App-perlbrew-1.01/blib/lib:/Volumes/chambord/Users/ether/.perlbrew/libs/42.0-RC1@std/lib/perl5"
        # unset PERLBREW_LIB
        # export PERLBREW_MANPATH="/tmp/V2lMj12Faz/perls/perl-5.36.1/man"
        # export PERLBREW_PATH="/tmp/V2lMj12Faz/bin:/tmp/V2lMj12Faz/perls/perl-5.36.1/bin"
        # export PERLBREW_PERL="perl-5.36.1"
        # export PERLBREW_ROOT="/tmp/V2lMj12Faz"
        # export PERLBREW_VERSION="1.01"
        # unset PERL_LOCAL_LIB_ROOT
        # 
        # export PATH="/tmp/V2lMj12Faz/bin:/tmp/V2lMj12Faz/perls/perl-5.36.1/bin:/Volumes/chambord/Users/ether/.perlbrew/libs/42.0-RC1@std/bin:/Volumes/chambord/Users/ether/perl5/perlbrew/bin:/Volumes/chambord/Users/ether/perl5/perlbrew/perls/42.0-RC1/bin:/Volumes/chambord/Users/ether/bin:/Volumes/chambord/Users/ether/git/misc/install/advocaat/bin:/Volumes/chambord/Users/ether/git/misc/install/generic/bin:/opt/local/bin:/opt/local/sbin:/Volumes/chambord/Users/ether/git/git-hub/lib:/usr/local/bin:/System/Cryptexes/App/usr/bin:/usr/bin:/bin:/usr/sbin:/sbin:/var/run/com.apple.security.cryptexd/codex.system/bootstrap/usr/local/bin:/var/run/com.apple.security.cryptexd/codex.system/bootstrap/usr/bin:/var/run/com.apple.security.cryptexd/codex.system/bootstrap/usr/appleinternal/bin:/Library/Apple/usr/bin:/opt/local/share/git-core/contrib/workdir"
        # 
        # exec bar "$@"
        # 
        # 
        # ----
        # 
        # The content of shim:
        # ----
        # #!/bin/bash
        # export PERL5LIB="/Volumes/chambord/Users/ether/.cpanm/work/1750816948.6461/App-perlbrew-1.01/blib/arch:/Volumes/chambord/Users/ether/.cpanm/work/1750816948.6461/App-perlbrew-1.01/blib/lib:/Volumes/chambord/Users/ether/.cpanm/work/1750816948.6461/App-perlbrew-1.01/blib/arch:/Volumes/chambord/Users/ether/.cpanm/work/1750816948.6461/App-perlbrew-1.01/blib/lib:/Volumes/chambord/Users/ether/.perlbrew/libs/42.0-RC1@std/lib/perl5"
        # unset PERLBREW_LIB
        # export PERLBREW_MANPATH="/tmp/V2lMj12Faz/perls/perl-5.36.1/man"
        # export PERLBREW_PATH="/tmp/V2lMj12Faz/bin:/tmp/V2lMj12Faz/perls/perl-5.36.1/bin"
        # export PERLBREW_PERL="perl-5.36.1"
        # export PERLBREW_ROOT="/tmp/V2lMj12Faz"
        # export PERLBREW_VERSION="1.01"
        # unset PERL_LOCAL_LIB_ROOT
        # 
        # export PATH="/tmp/V2lMj12Faz/bin:/tmp/V2lMj12Faz/perls/perl-5.36.1/bin:/Volumes/chambord/Users/ether/.perlbrew/libs/42.0-RC1@std/bin:/Volumes/chambord/Users/ether/perl5/perlbrew/bin:/Volumes/chambord/Users/ether/perl5/perlbrew/perls/42.0-RC1/bin:/Volumes/chambord/Users/ether/bin:/Volumes/chambord/Users/ether/git/misc/install/advocaat/bin:/Volumes/chambord/Users/ether/git/misc/install/generic/bin:/opt/local/bin:/opt/local/sbin:/Volumes/chambord/Users/ether/git/git-hub/lib:/usr/local/bin:/System/Cryptexes/App/usr/bin:/usr/bin:/bin:/usr/sbin:/sbin:/var/run/com.apple.security.cryptexd/codex.system/bootstrap/usr/local/bin:/var/run/com.apple.security.cryptexd/codex.system/bootstrap/usr/bin:/var/run/com.apple.security.cryptexd/codex.system/bootstrap/usr/appleinternal/bin:/Library/Apple/usr/bin:/opt/local/share/git-core/contrib/workdir"
        # 
        # exec foo "$@"
        # 
        # 
        # ----
t/command-make-shim.t ..................... ok
t/current_shell.t ......................... ok
# Workflow build 'when `--no-decoration` is given' is empty at t/command-list.t around lines 90 -> 98.
t/command-list.t .......................... ok
t/current_perl.t .......................... ok
t/command-help.t .......................... ok
t/error-http_download-exec-error.t ........ ok
t/do_system.t ............................. ok
t/error-http_download-exit-nonzero.t ...... ok
t/error-http_download-param-validation.t .. ok
t/error-install-before-init.t ............. ok
t/failure-command-install-cpm.t ........... ok
t/home.t .................................. ok
t/failure-command-install-cpanm.t ......... ok
t/failure-command-install-patchperl.t ..... ok
# PATH=/Volumes/chambord/Users/ether/.cpanm/work/1750816948.6461/App-perlbrew-1.01/t/fake-bin:/Volumes/chambord/Users/ether/.perlbrew/libs/42.0-RC1@std/bin:/Volumes/chambord/Users/ether/perl5/perlbrew/bin:/Volumes/chambord/Users/ether/perl5/perlbrew/perls/42.0-RC1/bin:/Volumes/chambord/Users/ether/bin:/Volumes/chambord/Users/ether/git/misc/install/advocaat/bin:/Volumes/chambord/Users/ether/git/misc/install/generic/bin:/opt/local/bin:/opt/local/sbin:/Volumes/chambord/Users/ether/git/git-hub/lib:/usr/local/bin:/System/Cryptexes/App/usr/bin:/usr/bin:/bin:/usr/sbin:/sbin:/var/run/com.apple.security.cryptexd/codex.system/bootstrap/usr/local/bin:/var/run/com.apple.security.cryptexd/codex.system/bootstrap/usr/bin:/var/run/com.apple.security.cryptexd/codex.system/bootstrap/usr/appleinternal/bin:/Library/Apple/usr/bin:/opt/local/share/git-core/contrib/workdir
# curl = /Volumes/chambord/Users/ether/.cpanm/work/1750816948.6461/App-perlbrew-1.01/t/fake-bin/curl
t/http-program-control.t .................. ok
t/http-ua-detect-non-curl.t ............... ok
t/http-ua-detect.t ........................ ok
t/http.t .................................. skipped: (no reason given)
t/installation-perlbrew.t ................. ok
t/installation.t .......................... ok
t/sys.t ................................... ok
t/unit-files-are-the-same.t ............... ok
t/util-find-similar-tokens.t .............. ok
t/installation2.t ......................... ok
t/installation3.t ......................... ok
t/list_modules.t .......................... ok
t/util-looks-like.t ....................... ok
All tests successful.
Files=72, Tests=449,  2 wallclock secs ( 0.14 usr  0.09 sys +  6.43 cusr  2.77 csys =  9.43 CPU)
Result: PASS

------------------------------
PREREQUISITES
------------------------------

Prerequisite modules loaded:

runtime:

    Module               Need       Have      
    -------------------- ---------- ----------
    Capture::Tiny        0.48       0.50      
    CPAN::Perl::Releases 5.20240920 5.20250528
    Devel::PatchPerl     2.08       2.12      
    ExtUtils::MakeMaker  7.22       7.76      
    File::Copy           0          2.41      
    File::Temp           0.2304     0.2311    
    JSON::PP             0          4.17_01   
    local::lib           2.000014   2.000029  
    Pod::Usage           1.69       2.05      

configure:

    Module               Need       Have      
    -------------------- ---------- ----------
    Module::Build::Tiny  0.039      0.052     


------------------------------
ENVIRONMENT AND OTHER CONTEXT
------------------------------

Environment variables:

    HARNESS_OPTIONS = j6:c
    LANG = en_CA.UTF-8
    LC_ALL = en_CA.UTF-8
    LC_CTYPE = en_CA.UTF-8
    NO_NETWORK_TESTING = 1
    PATH = /Volumes/chambord/Users/ether/.perlbrew/libs/42.0-RC1@std/bin:/Volumes/chambord/Users/ether/perl5/perlbrew/bin:/Volumes/chambord/Users/ether/perl5/perlbrew/perls/42.0-RC1/bin:/Volumes/chambord/Users/ether/bin:/Volumes/chambord/Users/ether/git/misc/install/advocaat/bin:/Volumes/chambord/Users/ether/git/misc/install/generic/bin:/opt/local/bin:/opt/local/sbin:/Volumes/chambord/Users/ether/git/git-hub/lib:/usr/local/bin:/System/Cryptexes/App/usr/bin:/usr/bin:/bin:/usr/sbin:/sbin:/var/run/com.apple.security.cryptexd/codex.system/bootstrap/usr/local/bin:/var/run/com.apple.security.cryptexd/codex.system/bootstrap/usr/bin:/var/run/com.apple.security.cryptexd/codex.system/bootstrap/usr/appleinternal/bin:/Library/Apple/usr/bin:/opt/local/share/git-core/contrib/workdir
    PERL5LIB = /Volumes/chambord/Users/ether/.perlbrew/libs/42.0-RC1@std/lib/perl5
    PERLBREW_HOME = /Volumes/chambord/Users/ether/.perlbrew
    PERLBREW_LIB = std
    PERLBREW_MANPATH = /Volumes/chambord/Users/ether/.perlbrew/libs/42.0-RC1@std/man:/Volumes/chambord/Users/ether/perl5/perlbrew/perls/42.0-RC1/man
    PERLBREW_PATH = /Volumes/chambord/Users/ether/.perlbrew/libs/42.0-RC1@std/bin:/Volumes/chambord/Users/ether/perl5/perlbrew/bin:/Volumes/chambord/Users/ether/perl5/perlbrew/perls/42.0-RC1/bin
    PERLBREW_PERL = 42.0-RC1
    PERLBREW_ROOT = /Volumes/chambord/Users/ether/perl5/perlbrew
    PERLBREW_SHELLRC_VERSION = 1.01
    PERLBREW_VERSION = 1.01
    PERLDOC = -oansi
    PERLDOC_PAGER = less -sicMr
    PERL_AUTOINSTALL_PREFER_CPAN = 1
    PERL_INSTALL_QUIET = 1
    PERL_LOCAL_LIB_ROOT = /Volumes/chambord/Users/ether/.perlbrew/libs/42.0-RC1@std
    PERL_MB_OPT = --install_base /Volumes/chambord/Users/ether/.perlbrew/libs/42.0-RC1@std
    PERL_MM_OPT = INSTALL_BASE=/Volumes/chambord/Users/ether/.perlbrew/libs/42.0-RC1@std
    PERL_TEST_HARNESS_ASAP = 1
    PERL_USE_UNSAFE_INC = 0
    SHELL = /bin/bash
    TERM = xterm-color

Perl special variables (and OS-specific diagnostics, for MSWin32):

    EGID = 20 20 12 61 79 80 81 98 701 704 703 702 705 33 100 204 250
    EUID = 502
    EXECUTABLE_NAME = /Volumes/chambord/Users/ether/perl5/perlbrew/perls/42.0-RC1/bin/perl
    GID = 20 20 12 61 79 80 81 98 701 704 703 702 705 33 100 204 250
    UID = 502

Perl module toolchain versions installed:

    Module              Have    
    ------------------- --------
    CPAN                2.38    
    CPAN::Meta          2.150010
    Cwd                 3.94    
    ExtUtils::CBuilder  0.280241
    ExtUtils::Command   7.76    
    ExtUtils::Install   2.22    
    ExtUtils::MakeMaker 7.76    
    ExtUtils::Manifest  1.75    
    ExtUtils::ParseXS   3.57    
    File::Spec          3.94    
    JSON                4.10    
    JSON::PP            4.17_01 
    Module::Build       0.4234  
    Module::Signature   n/a     
    Parse::CPAN::Meta   2.150010
    Test::Harness       3.50    
    Test::More          1.302210
    YAML                1.31    
    YAML::Syck          1.34    
    version             0.9933  


--

Summary of my perl5 (revision 5 version 42 subversion 0) configuration:
   
  Platform:
    osname=darwin
    osvers=24.5.0
    archname=darwin-2level
    uname='darwin advocaat 24.5.0 darwin kernel version 24.5.0: tue apr 22 19:54:26 pdt 2025; root:xnu-11417.121.6~2release_arm64_t8112 arm64 '
    config_args='-de -Dprefix=/Volumes/chambord/Users/ether/perl5/perlbrew/perls/42.0-RC1 -Ddefault_inc_excludes_do -Dman1dir=none -Dman3dir=none -Aeval:scriptdir=/Volumes/chambord/Users/ether/perl5/perlbrew/perls/42.0-RC1/bin'
    hint=recommended
    useposix=true
    d_sigaction=define
    useithreads=undef
    usemultiplicity=undef
    use64bitint=define
    use64bitall=define
    uselongdouble=undef
    usemymalloc=n
    default_inc_excludes_dot=define
  Compiler:
    cc='cc'
    ccflags ='-fno-common -DPERL_DARWIN -DNO_THREAD_SAFE_QUERYLOCALE -DNO_POSIX_2008_LOCALE -DHAS_BROKEN_LANGINFO_CODESET -DNO_LOCALE_COLLATE -fno-strict-aliasing -pipe -fstack-protector-strong -I/opt/local/include'
    optimize='-O3'
    cppflags='-fno-common -DPERL_DARWIN -DNO_THREAD_SAFE_QUERYLOCALE -DNO_POSIX_2008_LOCALE -DHAS_BROKEN_LANGINFO_CODESET -DNO_LOCALE_COLLATE -fno-strict-aliasing -pipe -fstack-protector-strong -I/opt/local/include'
    ccversion=''
    gccversion='Apple LLVM 17.0.0 (clang-1700.0.13.5)'
    gccosandvers=''
    intsize=4
    longsize=8
    ptrsize=8
    doublesize=8
    byteorder=12345678
    doublekind=3
    d_longlong=define
    longlongsize=8
    d_longdbl=define
    longdblsize=8
    longdblkind=0
    ivtype='long'
    ivsize=8
    nvtype='double'
    nvsize=8
    Off_t='off_t'
    lseeksize=8
    alignbytes=8
    prototype=define
  Linker and Libraries:
    ld='cc'
    ldflags =' -fstack-protector-strong -L/opt/local/lib'
    libpth=/Applications/Xcode.app/Contents/Developer/Toolchains/XcodeDefault.xctoolchain/usr/lib/clang/17/lib /Applications/Xcode.app/Contents/Developer/Platforms/MacOSX.platform/Developer/SDKs/MacOSX.sdk/usr/lib /Applications/Xcode.app/Contents/Developer/Toolchains/XcodeDefault.xctoolchain/usr/lib /opt/local/lib /usr/lib
    libs=-lgdbm
    perllibs=
    libc=
    so=dylib
    useshrplib=false
    libperl=libperl.a
    gnulibc_version=''
  Dynamic Linking:
    dlsrc=dl_dlopen.xs
    dlext=bundle
    d_dlsymun=undef
    ccdlflags=' '
    cccdlflags=' '
    lddlflags='-bundle -undefined dynamic_lookup -L/opt/local/lib -fstack-protector-strong'


Characteristics of this binary (from libperl): 
  Compile-time options:
    HAS_LONG_DOUBLE
    HAS_STRTOLD
    HAS_TIMES
    PERLIO_LAYERS
    PERL_COPY_ON_WRITE
    PERL_DONT_CREATE_GVSV
    PERL_HASH_FUNC_SIPHASH13
    PERL_HASH_USE_SBOX32
    PERL_MALLOC_WRAP
    PERL_OP_PARENT
    PERL_PRESERVE_IVUV
    PERL_USE_SAFE_PUTENV
    USE_64_BIT_ALL
    USE_64_BIT_INT
    USE_LARGE_FILES
    USE_LOCALE
    USE_LOCALE_CTYPE
    USE_LOCALE_NUMERIC
    USE_LOCALE_TIME
    USE_PERLIO
    USE_PERL_ATOF
  Locally applied patches:
    RC1
  Built under darwin
  Compiled at Jun 24 2025 09:32:44
  %ENV:
    PERL5LIB="/Volumes/chambord/Users/ether/.perlbrew/libs/42.0-RC1@std/lib/perl5"
    PERLBREW_HOME="/Volumes/chambord/Users/ether/.perlbrew"
    PERLBREW_LIB="std"
    PERLBREW_MANPATH="/Volumes/chambord/Users/ether/.perlbrew/libs/42.0-RC1@std/man:/Volumes/chambord/Users/ether/perl5/perlbrew/perls/42.0-RC1/man"
    PERLBREW_PATH="/Volumes/chambord/Users/ether/.perlbrew/libs/42.0-RC1@std/bin:/Volumes/chambord/Users/ether/perl5/perlbrew/bin:/Volumes/chambord/Users/ether/perl5/perlbrew/perls/42.0-RC1/bin"
    PERLBREW_PERL="42.0-RC1"
    PERLBREW_ROOT="/Volumes/chambord/Users/ether/perl5/perlbrew"
    PERLBREW_SHELLRC_VERSION="1.01"
    PERLBREW_VERSION="1.01"
    PERLDOC="-oansi"
    PERLDOC_PAGER="less -sicMr"
    PERL_AUTOINSTALL_PREFER_CPAN="1"
    PERL_INSTALL_QUIET="1"
    PERL_LOCAL_LIB_ROOT="/Volumes/chambord/Users/ether/.perlbrew/libs/42.0-RC1@std"
    PERL_MB_OPT="--install_base /Volumes/chambord/Users/ether/.perlbrew/libs/42.0-RC1@std"
    PERL_MM_OPT="INSTALL_BASE=/Volumes/chambord/Users/ether/.perlbrew/libs/42.0-RC1@std"
    PERL_TEST_HARNESS_ASAP="1"
    PERL_USE_UNSAFE_INC="0"
  @INC:
    /Volumes/chambord/Users/ether/.perlbrew/libs/42.0-RC1@std/lib/perl5/darwin-2level
    /Volumes/chambord/Users/ether/.perlbrew/libs/42.0-RC1@std/lib/perl5
    /Volumes/chambord/Users/ether/perl5/perlbrew/perls/42.0-RC1/lib/site_perl/5.42.0/darwin-2level
    /Volumes/chambord/Users/ether/perl5/perlbrew/perls/42.0-RC1/lib/site_perl/5.42.0
    /Volumes/chambord/Users/ether/perl5/perlbrew/perls/42.0-RC1/lib/5.42.0/darwin-2level
    /Volumes/chambord/Users/ether/perl5/perlbrew/perls/42.0-RC1/lib/5.42.0