Report for Module-Build-Deprecated-0.4209

Back
From: metabase:user:8206d902-f723-11e3-91f5-cb63aa9cbf73
Subject: PASS Module-Build-Deprecated-0.4209 v5.20.0 Mac OS X
Date: 2014-08-17T15:52:46Z

This distribution has been tested as part of the CPAN Testers
project, supporting the Perl programming language.  See
http://wiki.cpantesters.org/ for more information or email
questions to cpan-testers-discuss@perl.org


--
Dear Leon Timmermans,

This is a computer-generated report for Module-Build-Deprecated-0.4209
on perl 5.20.0, created by CPAN-Reporter-1.2011.

Thank you for uploading your work to CPAN.  Congratulations!
All tests were successful.

Sections of this report:

    * Tester comments
    * Program output
    * Prerequisites
    * Environment and other context

------------------------------
TESTER COMMENTS
------------------------------

Additional comments from tester:

none provided

------------------------------
PROGRAM OUTPUT
------------------------------

Output from './Build test':

t/00-compile.t ............ ok
t/release-pod-coverage.t .. skipped: these tests are for release candidate testing
t/release-pod-syntax.t .... skipped: these tests are for release candidate testing
All tests successful.
Files=3, Tests=4,  0 wallclock secs ( 0.02 usr  0.02 sys +  0.15 cusr  0.04 csys =  0.23 CPU)
Result: PASS

------------------------------
PREREQUISITES
------------------------------

Prerequisite modules loaded:

requires:

    Module           Need   Have    
    ---------------- ------ --------
    base             0      2.22    
    CPAN::Meta::YAML 0.002  0.012   
    Module::Metadata 0      1.000024
    parent           0      0.228   
    perl             5.006  5.020000
    strict           0      1.08    
    version          0.87   0.9909  
    warnings         0      1.23    

build_requires:

    Module           Need   Have    
    ---------------- ------ --------
    File::Spec       0      3.47    
    IO::Handle       0      1.35    
    IPC::Open3       0      1.16    
    Module::Build    0.3601 0.4206  
    perl             5.006  5.020000
    Test::More       0      1.001003

configure_requires:

    Module           Need   Have    
    ---------------- ------ --------
    Module::Build    0.3601 0.4206  


------------------------------
ENVIRONMENT AND OTHER CONTEXT
------------------------------

Environment variables:

    LANG = en_US.UTF-8
    LC_COLLATE = pt_PT.UTF-8
    LC_CTYPE = pt_PT.UTF-8
    PATH = .:/Users/ambs/bin:/opt/perl/bin:/usr/local/bin/:/usr/texbin:/opt/ccache:/Users/ambs/Library/Haskell/bin/:/usr/bin:/bin:/usr/sbin:/sbin:/usr/local/bin:/opt/X11/bin:/usr/texbin
    PERL5LIB = 
    PERL5OPT = 
    PERL5_CPANPLUS_IS_RUNNING = 99594
    PERL5_CPAN_IS_RUNNING = 99594
    PERL_AUTOINSTALL_PREFER_CPAN = 1
    SHELL = /bin/bash
    TERM = xterm-256color
    TMPDIR = /var/folders/3h/8h7stdp57hx4fms5l_g5g9n80000gn/T/

Perl special variables (and OS-specific diagnostics, for MSWin32):

    $^X = /opt/perl/bin/perl
    $UID/$EUID = 501 / 501
    $GID = 20 20 402 12 61 79 80 81 98 33 100 204 398 399
    $EGID = 20 20 402 12 61 79 80 81 98 33 100 204 398 399

Perl module toolchain versions installed:

    Module              Have    
    ------------------- --------
    CPAN                2.05    
    CPAN::Meta          2.142060
    Cwd                 3.47    
    ExtUtils::CBuilder  0.280216
    ExtUtils::Command   1.18    
    ExtUtils::Install   1.68    
    ExtUtils::MakeMaker 6.98    
    ExtUtils::Manifest  1.65    
    ExtUtils::ParseXS   3.24    
    File::Spec          3.47    
    JSON                2.90    
    JSON::PP            2.27203 
    Module::Build       0.4206  
    Module::Signature   n/a     
    Parse::CPAN::Meta   1.4414  
    Test::Harness       3.32    
    Test::More          1.001003
    YAML                1.01    
    YAML::Syck          n/a     
    version             0.9909  


--

Summary of my perl5 (revision 5 version 20 subversion 0) configuration:
   
  Platform:
    osname=darwin, osvers=13.2.0, archname=darwin-thread-multi-2level
    uname='darwin stravinski.local 13.2.0 darwin kernel version 13.2.0: thu apr 17 23:03:13 pdt 2014; root:xnu-2422.100.13~1release_x86_64 x86_64 '
    config_args=''
    hint=recommended, useposix=true, d_sigaction=define
    useithreads=define, usemultiplicity=define
    use64bitint=define, use64bitall=define, uselongdouble=undef
    usemymalloc=n, bincompat5005=undef
  Compiler:
    cc='cc', ccflags ='-fno-common -DPERL_DARWIN -fno-strict-aliasing -pipe -fstack-protector -I/usr/local/include',
    optimize='-O3',
    cppflags='-fno-common -DPERL_DARWIN -fno-strict-aliasing -pipe -fstack-protector -I/usr/local/include'
    ccversion='', gccversion='4.2.1 Compatible Apple LLVM 5.1 (clang-503.0.40)', gccosandvers=''
    intsize=4, longsize=8, ptrsize=8, doublesize=8, byteorder=12345678
    d_longlong=define, longlongsize=8, d_longdbl=define, longdblsize=16
    ivtype='long', ivsize=8, nvtype='double', nvsize=8, Off_t='off_t', lseeksize=8
    alignbytes=8, prototype=define
  Linker and Libraries:
    ld='env MACOSX_DEPLOYMENT_TARGET=10.3 cc', ldflags =' -fstack-protector -L/usr/local/lib'
    libpth=/usr/local/lib /Applications/Xcode.app/Contents/Developer/Toolchains/XcodeDefault.xctoolchain/usr/bin/../lib/clang/5.1/lib /Applications/Xcode.app/Contents/Developer/Toolchains/XcodeDefault.xctoolchain/usr/lib /usr/lib
    libs=-ldbm -ldl -lm -lutil -lc
    perllibs=-ldl -lm -lutil -lc
    libc=, so=dylib, useshrplib=false, libperl=libperl.a
    gnulibc_version=''
  Dynamic Linking:
    dlsrc=dl_dlopen.xs, dlext=bundle, d_dlsymun=undef, ccdlflags=' '
    cccdlflags=' ', lddlflags=' -bundle -undefined dynamic_lookup -L/usr/local/lib -fstack-protector'


Characteristics of this binary (from libperl): 
  Compile-time options: HAS_TIMES MULTIPLICITY PERLIO_LAYERS
                        PERL_DONT_CREATE_GVSV
                        PERL_HASH_FUNC_ONE_AT_A_TIME_HARD
                        PERL_IMPLICIT_CONTEXT PERL_MALLOC_WRAP
                        PERL_NEW_COPY_ON_WRITE PERL_PRESERVE_IVUV
                        USE_64_BIT_ALL USE_64_BIT_INT USE_ITHREADS
                        USE_LARGE_FILES USE_LOCALE USE_LOCALE_COLLATE
                        USE_LOCALE_CTYPE USE_LOCALE_NUMERIC USE_PERLIO
                        USE_PERL_ATOF
  Built under darwin
  Compiled at May 27 2014 11:12:29
  %ENV:
    PERL5LIB=""
    PERL5OPT=""
    PERL5_CPANPLUS_IS_RUNNING="99594"
    PERL5_CPAN_IS_RUNNING="99594"
    PERL_AUTOINSTALL_PREFER_CPAN="1"
  @INC:
    /opt/perl/lib/site_perl/5.20.0/darwin-thread-multi-2level
    /opt/perl/lib/site_perl/5.20.0
    /opt/perl/lib/5.20.0/darwin-thread-multi-2level
    /opt/perl/lib/5.20.0
    .