Tags-HTML-Element v0.15 Perl 5 v5.36.1 x86_64-linux-ld
- Status
- Pass
- From
- Andreas J. König (ANDK)
- Dist
-
Tags-HTML-Element v0.15
- Platform
- Perl 5 v5.36.1 x86_64-linux-ld
- Date
- 2024-06-20 10:33:28
- ID
- 885e66c0-2ef0-11ef-ab4e-fe7c85e9959f
This distribution has been tested as part of the CPAN Testers
project, supporting the Perl programming language. See
http://wiki.cpantesters.org/ for more information or email
questions to cpan-testers-discuss@perl.org
--
Dear Michal Josef Spacek,
This is a computer-generated report for Tags-HTML-Element-0.15
on perl 5.36.1, created by CPAN-Reporter-1.2018.
Thank you for uploading your work to CPAN. Congratulations!
All tests were successful.
Sections of this report:
* Tester comments
* Program output
* Prerequisites
* Environment and other context
------------------------------
TESTER COMMENTS
------------------------------
Additional comments from tester:
this report is from an automated smoke testing program
and was not reviewed by a human for accuracy
------------------------------
PROGRAM OUTPUT
------------------------------
Output from '/usr/bin/make test':
PERL_DL_NONLAZY=1 "/home/sand/src/perl/repoperls/installed-perls/host/k93msid/v5.36.1/af11/bin/perl" "-MExtUtils::Command::MM" "-MTest::Harness" "-e" "undef *Test::Harness::Switches; test_harness(0, 'inc', 'blib/lib', 'blib/arch')" t/Tags-HTML-Element-A/*.t t/Tags-HTML-Element-Button/*.t t/Tags-HTML-Element-Form/*.t t/Tags-HTML-Element-Input/*.t t/Tags-HTML-Element-Option/*.t t/Tags-HTML-Element-Select/*.t t/Tags-HTML-Element-Textarea/*.t t/Tags-HTML-Element-Utils/*.t t/Tags-HTML-Element/*.t
t/Tags-HTML-Element-A/01-use.t ................. ok
t/Tags-HTML-Element-A/02-version.t ............. ok
t/Tags-HTML-Element-A/03-new.t ................. ok
t/Tags-HTML-Element-A/04-cleanup.t ............. ok
t/Tags-HTML-Element-A/05-init.t ................ ok
t/Tags-HTML-Element-A/06-process.t ............. ok
t/Tags-HTML-Element-A/07-process_css.t ......... ok
t/Tags-HTML-Element-Button/01-use.t ............ ok
t/Tags-HTML-Element-Button/02-version.t ........ ok
t/Tags-HTML-Element-Button/03-new.t ............ ok
t/Tags-HTML-Element-Button/04-cleanup.t ........ ok
t/Tags-HTML-Element-Button/05-init.t ........... ok
t/Tags-HTML-Element-Button/06-process.t ........ ok
t/Tags-HTML-Element-Button/07-process_css.t .... ok
t/Tags-HTML-Element-Form/01-use.t .............. ok
t/Tags-HTML-Element-Form/02-version.t .......... ok
t/Tags-HTML-Element-Form/03-new.t .............. ok
t/Tags-HTML-Element-Form/04-cleanup.t .......... ok
t/Tags-HTML-Element-Form/05-init.t ............. ok
t/Tags-HTML-Element-Form/06-process.t .......... ok
t/Tags-HTML-Element-Form/07-process_css.t ...... ok
t/Tags-HTML-Element-Input/01-use.t ............. ok
t/Tags-HTML-Element-Input/02-version.t ......... ok
t/Tags-HTML-Element-Input/03-new.t ............. ok
t/Tags-HTML-Element-Input/04-init.t ............ ok
t/Tags-HTML-Element-Input/05-process.t ......... ok
t/Tags-HTML-Element-Input/06-process_css.t ..... ok
t/Tags-HTML-Element-Option/01-use.t ............ ok
t/Tags-HTML-Element-Option/02-version.t ........ ok
t/Tags-HTML-Element-Option/03-new.t ............ ok
t/Tags-HTML-Element-Option/04-cleanup.t ........ ok
t/Tags-HTML-Element-Option/05-init.t ........... ok
t/Tags-HTML-Element-Option/06-process.t ........ ok
t/Tags-HTML-Element-Option/07-process_css.t .... ok
t/Tags-HTML-Element-Select/01-use.t ............ ok
t/Tags-HTML-Element-Select/02-version.t ........ ok
t/Tags-HTML-Element-Select/03-new.t ............ ok
t/Tags-HTML-Element-Select/04-cleanup.t ........ ok
t/Tags-HTML-Element-Select/05-init.t ........... ok
t/Tags-HTML-Element-Select/06-process.t ........ ok
t/Tags-HTML-Element-Select/07-process_css.t .... ok
t/Tags-HTML-Element-Textarea/01-use.t .......... ok
t/Tags-HTML-Element-Textarea/02-version.t ...... ok
t/Tags-HTML-Element-Textarea/03-new.t .......... ok
t/Tags-HTML-Element-Textarea/04-cleanup.t ...... ok
t/Tags-HTML-Element-Textarea/05-init.t ......... ok
t/Tags-HTML-Element-Textarea/06-process.t ...... ok
t/Tags-HTML-Element-Textarea/07-process_css.t .. ok
t/Tags-HTML-Element-Utils/01-use.t ............. ok
t/Tags-HTML-Element-Utils/02-version.t ......... ok
t/Tags-HTML-Element-Utils/03-tags_boolean.t .... ok
t/Tags-HTML-Element-Utils/04-tags_data.t ....... ok
t/Tags-HTML-Element-Utils/05-tags_label.t ...... ok
t/Tags-HTML-Element-Utils/06-tags_value.t ...... ok
t/Tags-HTML-Element/01-use.t ................... ok
t/Tags-HTML-Element/02-version.t ............... ok
All tests successful.
Files=56, Tests=243, 9 wallclock secs ( 0.16 usr 0.06 sys + 3.95 cusr 1.06 csys = 5.23 CPU)
Result: PASS
------------------------------
PREREQUISITES
------------------------------
Prerequisite modules loaded:
requires:
Module Need Have
------------------------------ ----- ----------
Class::Utils 0 0.14
Error::Pure 0 0.34
perl 5.008 5.036001
Scalar::Util 0 1.63
Tags::HTML 0.06 0.08
build_requires:
Module Need Have
------------------------------ ----- ----------
CSS::Struct::Output::Structure 0.03 0.04
Data::HTML::Element::Button 0.1 0.15
Data::HTML::Element::Form 0.1 0.15
Data::HTML::Element::Input 0.13 0.15
Data::HTML::Element::Select 0.14 0.15
Data::HTML::Element::Textarea 0.1 0.15
English 0 1.11
Error::Pure::Utils 0 0.34
ExtUtils::MakeMaker 6.59 7.70
Tags::Output::Structure 0 0.08
Test::MockObject 0 1.20200122
Test::More 0 1.302195
Test::NoWarnings 0 1.06
configure_requires:
Module Need Have
------------------------------ ----- ----------
ExtUtils::MakeMaker 6.59 7.70
------------------------------
ENVIRONMENT AND OTHER CONTEXT
------------------------------
Environment variables:
AUTOMATED_TESTING = 1
LANG = en_US.UTF-8
LANGUAGE = en_US:en
PATH = /home/sand/bin:/usr/local/bin:/usr/bin:/bin:/usr/games:/usr/local/perl/bin:/usr/X11/bin:/sbin:/usr/sbin
PERL5LIB =
PERL5OPT =
PERL5_CPANPLUS_IS_RUNNING = 1482068
PERL5_CPAN_IS_RUNNING = 1482068
PERL_CANARY_STABILITY_NOPROMPT = 1
PERL_MM_USE_DEFAULT = 1
PERL_USE_UNSAFE_INC = 1
SHELL = /usr/bin/zsh
TERM = screen
Perl special variables (and OS-specific diagnostics, for MSWin32):
$^X = /home/sand/src/perl/repoperls/installed-perls/host/k93msid/v5.36.1/af11/bin/perl
$UID/$EUID = 1005 / 1005
$GID = 1005 1005
$EGID = 1005 1005
Perl module toolchain versions installed:
Module Have
------------------- --------
CPAN 2.34
CPAN::Meta 2.150010
Cwd 3.84
ExtUtils::CBuilder 0.280236
ExtUtils::Command 7.70
ExtUtils::Install 2.20
ExtUtils::MakeMaker 7.70
ExtUtils::Manifest 1.75
ExtUtils::ParseXS 3.51
File::Spec 3.84
JSON 4.10
JSON::PP 4.17_01
Module::Build 0.42_35
Module::Signature 0.88
Parse::CPAN::Meta 2.150010
Test::Harness 3.44
Test::More 1.302195
YAML 1.30
YAML::Syck 1.34
version 0.9929
--
Summary of my perl5 (revision 5 version 36 subversion 1) configuration:
Commit id: 42e3343be621a2b9cdb98befd92de43cc0b7ef3e
Platform:
osname=linux
osvers=6.1.0-7-amd64
archname=x86_64-linux-ld
uname='linux k93msid 6.1.0-7-amd64 #1 smp preempt_dynamic debian 6.1.20-1 (2023-03-19) x86_64 gnulinux '
config_args='-Dprefix=/home/sand/src/perl/repoperls/installed-perls/host/k93msid/v5.36.1/af11 -Dmyhostname=k93msid -Dinstallusrbinperl=n -Uversiononly -Dusedevel -des -Ui_db -Dlibswanted=cl pthread socket inet nsl gdbm dbm malloc dl ld sun m crypt sec util c cposix posix ucb BSD gdbm_compat -Uuseithreads -Duselongdouble -DEBUGGING=-g'
hint=recommended
useposix=true
d_sigaction=define
useithreads=undef
usemultiplicity=undef
use64bitint=define
use64bitall=define
uselongdouble=define
usemymalloc=n
default_inc_excludes_dot=define
Compiler:
cc='cc'
ccflags ='-fwrapv -fno-strict-aliasing -pipe -fstack-protector-strong -I/usr/local/include -D_LARGEFILE_SOURCE -D_FILE_OFFSET_BITS=64 -D_FORTIFY_SOURCE=2'
optimize='-O2 -g'
cppflags='-fwrapv -fno-strict-aliasing -pipe -fstack-protector-strong -I/usr/local/include'
ccversion=''
gccversion='12.2.0'
gccosandvers=''
intsize=4
longsize=8
ptrsize=8
doublesize=8
byteorder=12345678
doublekind=3
d_longlong=define
longlongsize=8
d_longdbl=define
longdblsize=16
longdblkind=3
ivtype='long'
ivsize=8
nvtype='long double'
nvsize=16
Off_t='off_t'
lseeksize=8
alignbytes=16
prototype=define
Linker and Libraries:
ld='cc'
ldflags =' -fstack-protector-strong -L/usr/local/lib'
libpth=/usr/local/lib /usr/lib/x86_64-linux-gnu /usr/lib /usr/lib64
libs=-lpthread -lnsl -ldl -lm -lcrypt -lutil -lc
perllibs=-lpthread -lnsl -ldl -lm -lcrypt -lutil -lc
libc=/lib/x86_64-linux-gnu/libc.so.6
so=so
useshrplib=false
libperl=libperl.a
gnulibc_version='2.36'
Dynamic Linking:
dlsrc=dl_dlopen.xs
dlext=so
d_dlsymun=undef
ccdlflags='-Wl,-E'
cccdlflags='-fPIC'
lddlflags='-shared -O2 -g -L/usr/local/lib -fstack-protector-strong'
Characteristics of this binary (from libperl):
Compile-time options:
HAS_TIMES
PERLIO_LAYERS
PERL_COPY_ON_WRITE
PERL_DONT_CREATE_GVSV
PERL_MALLOC_WRAP
PERL_OP_PARENT
PERL_PRESERVE_IVUV
PERL_USE_DEVEL
USE_64_BIT_ALL
USE_64_BIT_INT
USE_LARGE_FILES
USE_LOCALE
USE_LOCALE_COLLATE
USE_LOCALE_CTYPE
USE_LOCALE_NUMERIC
USE_LOCALE_TIME
USE_LONG_DOUBLE
USE_PERLIO
USE_PERL_ATOF
Built under linux
Compiled at Apr 24 2023 00:16:43
%ENV:
PERL5LIB=""
PERL5OPT=""
PERL5_CPANPLUS_IS_RUNNING="1482068"
PERL5_CPAN_IS_RUNNING="1482068"
PERL_CANARY_STABILITY_NOPROMPT="1"
PERL_MM_USE_DEFAULT="1"
PERL_USE_UNSAFE_INC="1"
@INC:
/home/sand/src/perl/repoperls/installed-perls/host/k93msid/v5.36.1/af11/lib/site_perl/5.36.1/x86_64-linux-ld
/home/sand/src/perl/repoperls/installed-perls/host/k93msid/v5.36.1/af11/lib/site_perl/5.36.1
/home/sand/src/perl/repoperls/installed-perls/host/k93msid/v5.36.1/af11/lib/5.36.1/x86_64-linux-ld
/home/sand/src/perl/repoperls/installed-perls/host/k93msid/v5.36.1/af11/lib/5.36.1
.