Module-Provision v0.42.1 Perl 5 v5.27.5 amd64-freebsd

Status
Pass
From
Slaven Rezić (SREZIC)
Dist
Module-Provision v0.42.1
Platform
Perl 5 v5.27.5 amd64-freebsd
Date
2017-10-27 08:40:47
ID
876159c2-baf2-11e7-96be-c3cd568f3d51
This distribution has been tested as part of the CPAN Testers
project, supporting the Perl programming language.  See
http://wiki.cpantesters.org/ for more information or email
questions to cpan-testers-discuss@perl.org


--
Dear Peter Flanigan,

This is a computer-generated report for Module-Provision-0.42.1
on perl 5.27.5, created by CPAN-Reporter-1.2018.

Thank you for uploading your work to CPAN.  Congratulations!
All tests were successful.

Sections of this report:

    * Tester comments
    * Program output
    * Prerequisites
    * Environment and other context

------------------------------
TESTER COMMENTS
------------------------------

Additional comments from tester:

none provided

------------------------------
PROGRAM OUTPUT
------------------------------

Output from './Build test':


OS: freebsd, Host: ali3.bbbike.org

=== Environment variables ===

    $AUTHOR_TESTING                   undef
    $AUTOMATED_TESTING                undef
    $EXTENDED_TESTING                 undef
    $NONINTERACTIVE_TESTING           undef
    $PERL_CPAN_REPORTER_CONFIG        /var/tmp/cpansmoker-1023/2017102712/cpanreporter_003_config.ini
    $PERL_CR_SMOKER_CURRENT           undef
    $PERL5_CPAN_IS_RUNNING            53142
    $PERL5_CPANPLUS_IS_VERSION        undef
    $TEST_CRITIC                      undef
    $TEST_SPELLING                    undef

Versions for all modules listed in MYMETA.json (including optional ones):

=== Configure Requires ===

    Module          Want   Have
    ------------- ------ ------
    Module::Build 0.4004 0.4224
    version         0.88 0.9918

=== Build Requires ===

    Module          Want   Have
    ------------- ------ ------
    Module::Build 0.4004 0.4224
    version         0.88 0.9918

=== Test Requires ===

    Module               Want     Have
    ---------------- -------- --------
    File::Spec            any     3.68
    Module::Build      0.4004   0.4224
    Module::Metadata 1.000011 1.000033
    Sys::Hostname         any     1.21
    Test::Requires       0.08     0.10
    version              0.88   0.9918

=== Test Recommends ===

    Module         Want     Have
    ---------- -------- --------
    CPAN::Meta 2.120900 2.150010

=== Runtime Requires ===

    Module                                         Want     Have
    ------------------------------------------ -------- --------
    CPAN::Meta                                 2.150005 2.150010
    CPAN::Uploader                             0.103004 0.103013
    Class::Null                                2.110730 2.110730
    Class::Usul                                 v0.73.0   0.83.1
    Config::Tiny                                   2.22     2.23
    Date::Format                                   2.24     2.24
    Dist::Zilla                                   5.037    6.010
    Dist::Zilla::Plugin::AbstractFromPOD         v0.3.0    0.3.1
    Dist::Zilla::Plugin::LicenseFromModule         0.05     0.05
    Dist::Zilla::Plugin::ManifestInRoot         v0.13.0   0.16.1
    Dist::Zilla::Plugin::Meta::Dynamic::Config     0.04     0.04
    Dist::Zilla::Plugin::ModuleBuild::Custom       4.26  missing
    Dist::Zilla::Plugin::ReadmeAnyFromPod      0.150250 0.163250
    Dist::Zilla::Plugin::Signature             1.100930 1.100930
    Dist::Zilla::Plugin::Test::ReportMetadata    v0.4.0    0.5.1
    Dist::Zilla::Plugin::VersionFromModule         0.08  missing
    File::DataClass                             v0.68.0   0.73.1
    File::ShareDir                                1.102    1.104
    HTTP::Message                                  6.06     6.13
    LWP                                            6.13     6.27
    LWP::Protocol::https                            any     6.07
    Module::Metadata                           1.000011 1.000033
    Moo                                        2.000001 2.003002
    Perl::Version                                 1.013    1.013
    Pod::Eventual                              0.094001 0.094001
    Software::License                          0.103010 0.103012
    Template                                       2.26     2.27
    Test::Requires                                 0.08     0.10
    Try::Tiny                                      0.22     0.28
    Type::Tiny                                 1.000004 1.002001
    Unexpected                                  v0.43.0    1.0.1
    local::lib                                 2.000014 2.000024
    namespace::autoclean                           0.26     0.28


*** WARNING WARNING WARNING WARNING WARNING WARNING ***

The following REQUIRED prerequisites were not satisfied:

Dist::Zilla::Plugin::ModuleBuild::Custom is not installed (version '4.26' required)
Dist::Zilla::Plugin::VersionFromModule is not installed (version '0.08' required)

t/00report-metadata.t .. ok
t/02pod.t .............. skipped: POD test only for developers
t/03podcoverage.t ...... skipped: POD coverage test only for developers
t/05kwalitee.t ......... skipped: Kwalitee test only for developers
t/06yaml.t ............. skipped: YAML test only for developers
t/07podspelling.t ...... skipped: POD spelling test only for developers
t/10test_script.t ...... ok
All tests successful.
Files=7, Tests=4,  2 wallclock secs ( 0.03 usr  0.02 sys +  1.30 cusr  0.27 csys =  1.62 CPU)
Result: PASS

------------------------------
PREREQUISITES
------------------------------

Prerequisite modules loaded:

requires:

    Module                                     Need     Have    
    ------------------------------------------ -------- --------
    Class::Null                                2.110730 2.110730
    Class::Usul                                v0.73.0  0.83.1  
    Config::Tiny                               2.22     2.23    
    CPAN::Meta                                 2.150005 2.150010
    CPAN::Uploader                             0.103004 0.103013
    Date::Format                               2.24     2.24    
    Dist::Zilla                                5.037    6.010   
    Dist::Zilla::Plugin::AbstractFromPOD       v0.3.0   0.3.1   
    Dist::Zilla::Plugin::LicenseFromModule     0.05     0.05    
    Dist::Zilla::Plugin::ManifestInRoot        v0.13.0  0.16.1  
    Dist::Zilla::Plugin::Meta::Dynamic::Config 0.04     0.04    
  ! Dist::Zilla::Plugin::ModuleBuild::Custom   4.26     n/a     
    Dist::Zilla::Plugin::ReadmeAnyFromPod      0.150250 0.163250
    Dist::Zilla::Plugin::Signature             1.100930 1.100930
    Dist::Zilla::Plugin::Test::ReportMetadata  v0.4.0   0.5.1   
  ! Dist::Zilla::Plugin::VersionFromModule     0.08     n/a     
    File::DataClass                            v0.68.0  0.73.1  
    File::ShareDir                             1.102    1.104   
    HTTP::Message                              6.06     6.13    
    local::lib                                 2.000014 2.000024
    LWP                                        6.13     6.27    
    LWP::Protocol::https                       0        6.07    
    Module::Metadata                           1.000011 1.000033
    Moo                                        2.000001 2.003002
    namespace::autoclean                       0.26     0.28    
    perl                                       5.010001 5.027005
    Perl::Version                              1.013    1.013   
    Pod::Eventual                              0.094001 0.094001
    Software::License                          0.103010 0.103012
    Template                                   2.26     2.27    
    Test::Requires                             0.08     0.10    
    Try::Tiny                                  0.22     0.28    
    Type::Tiny                                 1.000004 1.002001
    Unexpected                                 v0.43.0  1.0.1   

build_requires:

    Module                                     Need     Have    
    ------------------------------------------ -------- --------
    File::Spec                                 0        3.68    
    Module::Build                              0.4004   0.4224  
    Module::Metadata                           1.000011 1.000033
    Sys::Hostname                              0        1.21    
    Test::Requires                             0.08     0.10    
    version                                    0.88     0.9918  

configure_requires:

    Module                                     Need     Have    
    ------------------------------------------ -------- --------
    Module::Build                              0.4004   0.4224  
    version                                    0.88     0.9918  


------------------------------
ENVIRONMENT AND OTHER CONTEXT
------------------------------

Environment variables:

    LC_ALL = de_DE.UTF-8
    PATH = /usr/local/bin:/usr/bin:/bin:/usr/local/sbin:/usr/sbin:/sbin:/home/cpansand/bin/freebsd11.0:/home/cpansand/bin/sh:/home/cpansand/bin:/usr/games:/home/cpansand/devel:/home/eserte/src/srezic-misc/scripts
    PERL5LIB = 
    PERL5OPT = 
    PERL5_CPANPLUS_IS_RUNNING = 53142
    PERL5_CPAN_IS_RUNNING = 53142
    PERL5_CPAN_IS_RUNNING_IN_RECURSION = 17370,53142
    PERLDOC = -MPod::Perldoc::ToTextOverstrike
    PERL_BATCH = yes
    PERL_CANARY_STABILITY_NOPROMPT = 1
    PERL_CPAN_REPORTER_CONFIG = /var/tmp/cpansmoker-1023/2017102712/cpanreporter_003_config.ini
    PERL_EXTUTILS_AUTOINSTALL = --defaultdeps
    PERL_PARALLEL_SMOKER = yes
    PERL_USE_UNSAFE_INC = 1
    SHELL = /usr/local/bin/zsh
    TERM = screen
    TMPDIR = /var/tmp/cpansmoker-1023/2017102712

Perl special variables (and OS-specific diagnostics, for MSWin32):

    $^X = /usr/perl5.27.5p/bin/perl5.27.5
    $UID/$EUID = 1023 / 1023
    $GID = 1023 1023
    $EGID = 1023 1023

Perl module toolchain versions installed:

    Module              Have    
    ------------------- --------
    CPAN                2.18    
    CPAN::Meta          2.150010
    Cwd                 3.68    
    ExtUtils::CBuilder  0.280228
    ExtUtils::Command   7.30    
    ExtUtils::Install   2.14    
    ExtUtils::MakeMaker 7.30    
    ExtUtils::Manifest  1.70    
    ExtUtils::ParseXS   3.35    
    File::Spec          3.68    
    JSON                2.94    
    JSON::PP            2.94    
    Module::Build       0.4224  
    Module::Signature   0.81    
    Parse::CPAN::Meta   2.150010
    Test::Harness       3.39    
    Test::More          1.302106
    YAML                1.23    
    YAML::Syck          1.30    
    version             0.9918  


--

Summary of my perl5 (revision 5 version 27 subversion 5) configuration:
   
  Platform:
    osname=freebsd
    osvers=11.1-stable
    archname=amd64-freebsd
    uname='freebsd ali3.bbbike.org 11.1-stable freebsd 11.1-stable #1 21e3b2eb0af(stable11): thu oct 19 19:30:51 utc 2017 root@ali3.bbbike.org:usrobjhomeprojectsfreebsdsysgeneric amd64 '
    config_args='-ds -e -Dprefix=/usr/perl5.27.5p -Dusedevel -Dusemallocwrap=no -Dcf_email=srezic@cpan.org -Doptimize=-O2 -pipe'
    hint=recommended
    useposix=true
    d_sigaction=define
    useithreads=undef
    usemultiplicity=undef
    use64bitint=define
    use64bitall=define
    uselongdouble=undef
    usemymalloc=n
    default_inc_excludes_dot=define
    bincompat5005=undef
  Compiler:
    cc='cc'
    ccflags ='-DHAS_FPSETMASK -DHAS_FLOATINGPOINT_H -fno-strict-aliasing -pipe -fstack-protector-strong -I/usr/local/include -D_FORTIFY_SOURCE=2'
    optimize='-O2 -pipe'
    cppflags='-DHAS_FPSETMASK -DHAS_FLOATINGPOINT_H -fno-strict-aliasing -pipe -fstack-protector-strong -I/usr/local/include'
    ccversion=''
    gccversion='4.2.1 Compatible FreeBSD Clang 5.0.0 (tags/RELEASE_500/final 312559)'
    gccosandvers=''
    intsize=4
    longsize=8
    ptrsize=8
    doublesize=8
    byteorder=12345678
    doublekind=3
    d_longlong=define
    longlongsize=8
    d_longdbl=define
    longdblsize=16
    longdblkind=3
    ivtype='long'
    ivsize=8
    nvtype='double'
    nvsize=8
    Off_t='off_t'
    lseeksize=8
    alignbytes=8
    prototype=define
  Linker and Libraries:
    ld='cc'
    ldflags ='-pthread -Wl,-E  -fstack-protector-strong -L/usr/local/lib'
    libpth=/usr/lib /usr/local/lib /usr/lib/clang/5.0.0/lib /usr/lib
    libs=-lpthread -lgdbm -lm -lcrypt -lutil -lc
    perllibs=-lpthread -lm -lcrypt -lutil -lc
    libc=
    so=so
    useshrplib=false
    libperl=libperl.a
    gnulibc_version=''
  Dynamic Linking:
    dlsrc=dl_dlopen.xs
    dlext=so
    d_dlsymun=undef
    ccdlflags=' '
    cccdlflags='-DPIC -fPIC'
    lddlflags='-shared  -L/usr/local/lib -fstack-protector-strong'


Characteristics of this binary (from libperl): 
  Compile-time options:
    HAS_TIMES
    PERLIO_LAYERS
    PERL_COPY_ON_WRITE
    PERL_DONT_CREATE_GVSV
    PERL_OP_PARENT
    PERL_PRESERVE_IVUV
    PERL_USE_DEVEL
    USE_64_BIT_ALL
    USE_64_BIT_INT
    USE_LARGE_FILES
    USE_LOCALE
    USE_LOCALE_COLLATE
    USE_LOCALE_CTYPE
    USE_LOCALE_NUMERIC
    USE_LOCALE_TIME
    USE_PERLIO
    USE_PERL_ATOF
  Built under freebsd
  Compiled at Oct 26 2017 00:04:06
  %ENV:
    PERL5LIB=""
    PERL5OPT=""
    PERL5_CPANPLUS_IS_RUNNING="53142"
    PERL5_CPAN_IS_RUNNING="53142"
    PERL5_CPAN_IS_RUNNING_IN_RECURSION="17370,53142"
    PERLDOC="-MPod::Perldoc::ToTextOverstrike"
    PERL_BATCH="yes"
    PERL_CANARY_STABILITY_NOPROMPT="1"
    PERL_CPAN_REPORTER_CONFIG="/var/tmp/cpansmoker-1023/2017102712/cpanreporter_003_config.ini"
    PERL_EXTUTILS_AUTOINSTALL="--defaultdeps"
    PERL_PARALLEL_SMOKER="yes"
    PERL_USE_UNSAFE_INC="1"
  @INC:
    /usr/perl5.27.5p/lib/site_perl/5.27.5/amd64-freebsd
    /usr/perl5.27.5p/lib/site_perl/5.27.5
    /usr/perl5.27.5p/lib/5.27.5/amd64-freebsd
    /usr/perl5.27.5p/lib/5.27.5
    .