args v0.02 Perl 5 v5.10.1 i386-linux-thread-multi

Status
Pass
From
Nigel Horne
Dist
args v0.02
Platform
Perl 5 v5.10.1 i386-linux-thread-multi
Date
2010-07-17T15:46:55
ID
86eff25a-91ba-11df-a322-f7547ffa121e
This distribution has been tested as part of the CPAN Testers
project, supporting the Perl programming language.  See
http://wiki.cpantesters.org/ for more information or email
questions to cpan-testers-discuss@perl.org


--
Dear Tokuhiro Matsuno,

This is a computer-generated report for args-0.02
on perl 5.10.1, created by CPAN-Reporter-1.1711.

Thank you for uploading your work to CPAN.  Congratulations!
All tests were successful.

Sections of this report:

    * Tester comments
    * Program output
    * Prerequisites
    * Environment and other context

------------------------------
TESTER COMMENTS
------------------------------

Additional comments from tester:

this report is from an automated smoke testing program
and was not reviewed by a human for accuracy

------------------------------
PROGRAM OUTPUT
------------------------------

Output from '/usr/bin/make test':

PERL_DL_NONLAZY=1 /usr/bin/perl "-MExtUtils::Command::MM" "-e" "test_harness(0, 'inc', 'blib/lib', 'blib/arch')" t/*.t t/*/*.t t/*/*/*.t
t/00_compile.t ................. ok
t/010_simple/01_basic.t ........ ok
t/010_simple/02_type.t ......... ok
t/010_simple/03_optional.t ..... ok
t/010_simple/04_default.t ...... ok
t/010_simple/05_methods.t ...... ok
t/010_simple/06_optional_tc.t .. ok
t/010_simple/07_create_tc.t .... ok
All tests successful.
Files=8, Tests=21,  1 wallclock secs ( 0.06 usr  0.01 sys +  0.57 cusr  0.09 csys =  0.73 CPU)
Result: PASS

------------------------------
PREREQUISITES
------------------------------

Prerequisite modules loaded:

requires:

    Module              Need Have
    ------------------- ---- ----
    ExtUtils::MakeMaker 6.42 6.56
    Filter::Util::Call  0    1.08
    Mouse               0.62 0.62
    PadWalker           1.91 1.92
    Scalar::Util        1.21 1.23
    Test::More          0    0.94

configure_requires:

    Module              Need Have
    ------------------- ---- ----
    ExtUtils::MakeMaker 6.42 6.56


------------------------------
ENVIRONMENT AND OTHER CONTEXT
------------------------------

Environment variables:

    AUTOMATED_TESTING = 1
    LANG = en_GB.UTF-8
    PATH = /home/njh/bin:/usr/lib/qt-3.3/bin:/usr/kerberos/sbin:/usr/kerberos/bin:/usr/lib/ccache:/usr/local/bin:/usr/bin:/bin:/usr/local/sbin:/usr/sbin:/sbin::
    PERL5LIB = /root/.cpan/build/Mouse-0.62-sfVKc8/blib/arch:/root/.cpan/build/Mouse-0.62-sfVKc8/blib/lib:/root/.cpan/build/Test-Requires-0.05-WsLDqJ/blib/arch:/root/.cpan/build/Test-Requires-0.05-WsLDqJ/blib/lib
    PERL5OPT = 
    PERL5_CPANPLUS_IS_RUNNING = 18436
    PERL5_CPAN_IS_RUNNING = 18436
    PERL5_CPAN_IS_RUNNING_IN_RECURSION = 11243,18436
    PERL_CR_SMOKER_CURRENT = args-0.02
    PERL_EXTUTILS_AUTOINSTALL = --defaultdeps
    PERL_MM_USE_DEFAULT = 1
    SHELL = /bin/bash
    TERM = xterm

Perl special variables (and OS-specific diagnostics, for MSWin32):

    $^X = /usr/bin/perl
    $UID/$EUID = 0 / 0
    $GID = 0 0 1 2 3 4 6 10
    $EGID = 0 0 1 2 3 4 6 10

Perl module toolchain versions installed:

    Module              Have  
    ------------------- ------
    CPAN                1.9402
    Cwd                 3.31  
    ExtUtils::CBuilder  0.2703
    ExtUtils::Command   1.16  
    ExtUtils::Install   1.54  
    ExtUtils::MakeMaker 6.56  
    ExtUtils::Manifest  1.58  
    ExtUtils::ParseXS   2.2206
    File::Spec          3.31  
    Module::Build       0.3607
    Module::Signature   0.64  
    Test::Harness       3.21  
    Test::More          0.94  
    YAML                0.71  
    YAML::Syck          1.10  
    version             0.82  


--

Summary of my perl5 (revision 5 version 10 subversion 1) configuration:
   
  Platform:
    osname=linux, osvers=2.6.32-44.el6.x86_64, archname=i386-linux-thread-multi
    uname='linux x86-18.phx2.fedoraproject.org 2.6.32-44.el6.x86_64 #1 smp wed jul 7 15:47:50 edt 2010 i686 i686 i386 gnulinux '
    config_args='-des -Doptimize=-O2 -g -pipe -Wall -Wp,-D_FORTIFY_SOURCE=2 -fexceptions -fstack-protector --param=ssp-buffer-size=4 -m32 -march=i686 -mtune=atom -fasynchronous-unwind-tables -DDEBUGGING=-g -Accflags=-DPERL_USE_SAFE_PUTENV -Dversion=5.10.1 -Dmyhostname=localhost -Dperladmin=root@localhost -Dcc=gcc -Dcf_by=Red Hat, Inc. -Dprefix=/usr -Dvendorprefix=/usr -Dsiteprefix=/usr/local -Dsitelib=/usr/local/share/perl5 -Dsitearch=/usr/local/lib/perl5 -Dprivlib=/usr/share/perl5 -Dvendorlib=/usr/share/perl5 -Darchlib=/usr/lib/perl5 -Dvendorarch=/usr/lib/perl5 -Dinc_version_list=5.10.0 -Darchname=i386-linux-thread-multi -Duseshrplib -Dusethreads -Duseithreads -Duselargefiles -Dd_dosuid -Dd_semctl_semun -Di_db -Ui_ndbm -Di_gdbm -Di_shadow -Di_syslog -Dman3ext=3pm -Duseperlio -Dinstallusrbinperl=n -Ubincompat5005 -Uversiononly -Dpager=/usr/bin/less -isr -Dd_gethostent_r_proto -Ud_endhostent_r_proto -Ud_sethostent_r_proto -Ud_endprotoent_r_proto -Ud_setprotoent_r_proto -Ud_endservent_r_proto -Ud_setservent_r_proto -Dscriptdir=/usr/bin -Dotherlibdirs=/usr/local/lib/perl5/site_perl/5.10.0/i386-linux-thread-multi:/usr/local/lib/perl5/site_perl/5.10.0:/usr/lib/perl5/vendor_perl/5.10.0/i386-linux-thread-multi:/usr/lib/perl5/vendor_perl:/usr/lib/perl5/site_perl'
    hint=recommended, useposix=true, d_sigaction=define
    useithreads=define, usemultiplicity=define
    useperlio=define, d_sfio=undef, uselargefiles=define, usesocks=undef
    use64bitint=undef, use64bitall=undef, uselongdouble=undef
    usemymalloc=n, bincompat5005=undef
  Compiler:
    cc='gcc', ccflags ='-D_REENTRANT -D_GNU_SOURCE -DPERL_USE_SAFE_PUTENV -fno-strict-aliasing -pipe -fstack-protector -I/usr/local/include -D_LARGEFILE_SOURCE -D_FILE_OFFSET_BITS=64',
    optimize='-O2 -g -pipe -Wall -Wp,-D_FORTIFY_SOURCE=2 -fexceptions -fstack-protector --param=ssp-buffer-size=4 -m32 -march=i686 -mtune=atom -fasynchronous-unwind-tables',
    cppflags='-D_REENTRANT -D_GNU_SOURCE -DPERL_USE_SAFE_PUTENV -fno-strict-aliasing -pipe -fstack-protector -I/usr/local/include'
    ccversion='', gccversion='4.4.4 20100630 (Red Hat 4.4.4-10)', gccosandvers=''
    intsize=4, longsize=4, ptrsize=4, doublesize=8, byteorder=1234
    d_longlong=define, longlongsize=8, d_longdbl=define, longdblsize=12
    ivtype='long', ivsize=4, nvtype='double', nvsize=8, Off_t='off_t', lseeksize=8
    alignbytes=4, prototype=define
  Linker and Libraries:
    ld='gcc', ldflags =' -fstack-protector -L/usr/local/lib'
    libpth=/usr/local/lib /lib /usr/lib
    libs=-lresolv -lnsl -lgdbm -ldb -ldl -lm -lcrypt -lutil -lpthread -lc
    perllibs=-lresolv -lnsl -ldl -lm -lcrypt -lutil -lpthread -lc
    libc=/lib/libc-2.12.so, so=so, useshrplib=true, libperl=libperl.so
    gnulibc_version='2.12'
  Dynamic Linking:
    dlsrc=dl_dlopen.xs, dlext=so, d_dlsymun=undef, ccdlflags='-Wl,-E -Wl,-rpath,/usr/lib/perl5/CORE'
    cccdlflags='-fPIC', lddlflags='-shared -O2 -g -pipe -Wall -Wp,-D_FORTIFY_SOURCE=2 -fexceptions -fstack-protector --param=ssp-buffer-size=4 -m32 -march=i686 -mtune=atom -fasynchronous-unwind-tables -L/usr/local/lib'


Characteristics of this binary (from libperl): 
  Compile-time options: MULTIPLICITY PERL_DONT_CREATE_GVSV
                        PERL_IMPLICIT_CONTEXT PERL_MALLOC_WRAP
                        PERL_USE_SAFE_PUTENV USE_ITHREADS USE_LARGE_FILES
                        USE_PERLIO USE_REENTRANT_API
  Built under linux
  Compiled at Jul  9 2010 09:17:29
  %ENV:
    PERL5LIB="/root/.cpan/build/Mouse-0.62-sfVKc8/blib/arch:/root/.cpan/build/Mouse-0.62-sfVKc8/blib/lib:/root/.cpan/build/Test-Requires-0.05-WsLDqJ/blib/arch:/root/.cpan/build/Test-Requires-0.05-WsLDqJ/blib/lib"
    PERL5OPT=""
    PERL5_CPANPLUS_IS_RUNNING="18436"
    PERL5_CPAN_IS_RUNNING="18436"
    PERL5_CPAN_IS_RUNNING_IN_RECURSION="11243,18436"
    PERL_CR_SMOKER_CURRENT="args-0.02"
    PERL_EXTUTILS_AUTOINSTALL="--defaultdeps"
    PERL_MM_USE_DEFAULT="1"
  @INC:
    /root/.cpan/build/Mouse-0.62-sfVKc8/blib/arch
    /root/.cpan/build/Mouse-0.62-sfVKc8/blib/lib
    /root/.cpan/build/Test-Requires-0.05-WsLDqJ/blib/arch
    /root/.cpan/build/Test-Requires-0.05-WsLDqJ/blib/lib
    /usr/local/lib/perl5
    /usr/local/share/perl5
    /usr/local/share/perl5
    /usr/lib/perl5
    /usr/share/perl5
    /usr/share/perl5
    /usr/lib/perl5
    /usr/share/perl5
    /usr/local/lib/perl5/site_perl/5.10.0/i386-linux-thread-multi
    /usr/local/lib/perl5/site_perl/5.10.0/i386-linux-thread-multi
    /usr/local/lib/perl5/site_perl/5.10.0
    /usr/lib/perl5/vendor_perl/5.10.0/i386-linux-thread-multi
    /usr/lib/perl5/vendor_perl/5.10.0
    /usr/lib/perl5/vendor_perl
    /usr/lib/perl5/site_perl
    .