Markdown-Perl v1.11 Perl 5 v5.26.2 darwin-thread-multi-2level
- Status
- Pass
- From
- David Cantrell (DCANTRELL)
- Dist
-
Markdown-Perl v1.11
- Platform
- Perl 5 v5.26.2 darwin-thread-multi-2level
- Date
- 2025-04-22 22:09:57
- ID
- 86c4fe92-1fc6-11f0-9377-8472618cf63c
This distribution has been tested as part of the CPAN Testers
project, supporting the Perl programming language. See
http://wiki.cpantesters.org/ for more information or email
questions to cpan-testers-discuss@perl.org
--
Dear Mathias Kende,
This is a computer-generated report for Markdown-Perl-1.11
on perl 5.26.2, created by CPAN-Reporter-1.2019.
Thank you for uploading your work to CPAN. Congratulations!
All tests were successful.
Sections of this report:
* Tester comments
* Program output
* Prerequisites
* Environment and other context
------------------------------
TESTER COMMENTS
------------------------------
Additional comments from tester:
this report is from an automated smoke testing program
and was not reviewed by a human for accuracy
------------------------------
PROGRAM OUTPUT
------------------------------
Output from '/usr/bin/make test':
PERL_DL_NONLAZY=1 "/Users/cpantesting/cpantesting/perl-5.26.2/bin/perl" "-MExtUtils::Command::MM" "-MTest::Harness" "-e" "undef *Test::Harness::Switches; test_harness(0, 'blib/lib', 'blib/arch')" t/*.t
t/000-load.t ................................... ok
t/001-cpanfile.t ............................... skipped: Extended test. Run manually or set $ENV{EXTENDED_TESTING} to a true value to run.
t/001-podsyntax.t .............................. skipped: Extended test. Run manually or set $ENV{EXTENDED_TESTING} to a true value to run.
t/100-util.t ................................... ok
t/101-inline-tree.t ............................ ok
t/102-html.t ................................... ok
t/200-basic-leaf-blocks.t ...................... ok
t/201-basic-container-blocks.t ................. ok
t/202-basic-inline-rendering.t ................. ok
t/203-options.t ................................ ok
t/300-containers.t ............................. ok
t/301-inlines.t ................................ ok
t/302-reference-links.t ........................ ok
t/303-lists.t .................................. ok
YAML Metadata (Markdown frontmatter) is invalid at /Users/cpantesting/cpantesting/perl-5.26.2/.cpan/build/Markdown-Perl-1.11-0/blib/lib/Markdown/Perl.pm line 116.
t/304-file_metadata.t .......................... ok
t/305-block-directives.t ....................... ok
t/400-opt-allow_spaces_in_links.t .............. ok
t/400-opt-allow_task_list_markers.t ............ ok
t/400-opt-disallowed_html_tags.t ............... ok
t/400-opt-fenced_code_blocks_must_be_closed.t .. ok
t/400-opt-inline_delimiters.t .................. ok
t/400-opt-inline_delimiters_max_run_length.t ... ok
t/400-opt-lists_can_interrupt_paragraph.t ...... ok
t/400-opt-multi_lines_setext_headings.t ........ ok
t/400-opt-render_naked_paragraphs.t ............ ok
t/400-opt-two_spaces_hard_line_breaks.t ........ ok
t/400-opt-use_fenced_code_blocks.t ............. ok
t/500-hooks-resolve_link_ref.t ................. ok
t/500-hooks-yaml_metadata.t .................... ok
t/800-bugs.t ................................... ok
t/801-fuzzing.t ................................ ok
t/900-cmark-test-suite.t ....................... ok
t/901-github-test-suite.t ...................... ok
t/902-markdown-test-suite.t .................... skipped: MMD-Test-Suite must be checked out.
t/903-mmd-test-suite.t ......................... skipped: MMD-Test-Suite must be checked out.
t/904-pmarkdown.t .............................. skipped: The Syntax.md file is not part of this distribution
All tests successful.
Files=36, Tests=2167, 28 wallclock secs ( 0.57 usr 0.16 sys + 20.83 cusr 2.43 csys = 23.99 CPU)
Result: PASS
------------------------------
PREREQUISITES
------------------------------
Prerequisite modules loaded:
requires:
Module Need Have
--------------------------------- ------- --------
Encode::Locale 0 1.05
List::MoreUtils 0 0.430
List::Util 1.45 1.46_02
perl 5.026 5.026002
Readonly 0 2.05
Unicode::CaseFold 0 1.01
YAML::Tiny 0 1.76
build_requires:
Module Need Have
--------------------------------- ------- --------
ExtUtils::MakeMaker 0 7.58
JSON 0 4.10
Readonly 0 2.05
Test2::V0 0 1.302210
Test::CPANfile 0 0.08
Test::More 0 1.302210
Text::Diff 0 1.45
YAML::PP 0 v0.39.0
configure_requires:
Module Need Have
--------------------------------- ------- --------
ExtUtils::MakeMaker::CPANfile 0.09 0.09
perl v5.26.0 5.026002
opt_build_requires:
Module Need Have
--------------------------------- ------- --------
CPAN::Common::Index::Mux::Ordered 0 0.010
Test::Pod 1.22 1.52
------------------------------
ENVIRONMENT AND OTHER CONTEXT
------------------------------
Environment variables:
AUTOMATED_TESTING = 1
LANG = en_GB.UTF-8
LC_TERMINAL = iTerm2
LC_TERMINAL_VERSION = 3.5.13
NONINTERACTIVE_TESTING = 1
PATH = /Users/cpantesting/perl5/perlbrew/bin:/Users/cpantesting/perl5/perlbrew/perls/perl-5.32.0/bin:/usr/local/bin:/System/Cryptexes/App/usr/bin:/usr/bin:/bin:/usr/sbin:/sbin:/var/run/com.apple.security.cryptexd/codex.system/bootstrap/usr/local/bin:/var/run/com.apple.security.cryptexd/codex.system/bootstrap/usr/bin:/var/run/com.apple.security.cryptexd/codex.system/bootstrap/usr/appleinternal/bin:/opt/X11/bin:/Library/Apple/usr/bin:/Applications/VMware Fusion.app/Contents/Public:/usr/local/zfs/bin:/Users/cpantesting/.cargo/bin
PERL = 5.26.2
PERL5LIB =
PERL5OPT =
PERL5_CPANPLUS_IS_RUNNING = 58518
PERL5_CPAN_IS_RUNNING = 58518
PERLBREW_HOME = /Users/cpantesting/.perlbrew
PERLBREW_MANPATH = /Users/cpantesting/perl5/perlbrew/perls/perl-5.32.0/man
PERLBREW_PATH = /Users/cpantesting/perl5/perlbrew/bin:/Users/cpantesting/perl5/perlbrew/perls/perl-5.32.0/bin
PERLBREW_PERL = perl-5.32.0
PERLBREW_ROOT = /Users/cpantesting/perl5/perlbrew
PERLBREW_SHELLRC_VERSION = 0.94
PERLBREW_VERSION = 0.94
PERLVER = 5.26.2
PERL_INLINE_DIRECTORY = /Users/cpantesting/.Inline-5.26.2
PERL_MM_USE_DEFAULT = 1
PERL_USE_UNSAFE_INC = 0
SHELL = /bin/bash
TERM = screen
TMPDIR = /var/folders/zy/47mkymr176b35xhyp425tk7h0000gq/T/
Perl special variables (and OS-specific diagnostics, for MSWin32):
$^X = /Users/cpantesting/cpantesting/perl-5.26.2/bin/perl
$UID/$EUID = 503 / 503
$GID = 20 20 12 61 399 703 702 701 100
$EGID = 20 20 12 61 399 703 702 701 100
Perl module toolchain versions installed:
Module Have
------------------- ----------
CPAN 2.18
CPAN::Meta 2.150010
Cwd 3.67
ExtUtils::CBuilder 0.280235
ExtUtils::Command 7.58
ExtUtils::Install 2.06
ExtUtils::MakeMaker 7.58
ExtUtils::Manifest 1.70
ExtUtils::ParseXS 3.34
File::Spec 3.67
JSON 4.10
JSON::PP 2.27400_02
Module::Build 0.4231
Module::Signature n/a
Parse::CPAN::Meta 2.150010
Test2 1.302210
Test::Harness 3.38
Test::More 1.302210
YAML n/a
YAML::Syck n/a
version 0.9917
--
Summary of my perl5 (revision 5 version 26 subversion 2) configuration:
Platform:
osname=darwin
osvers=19.6.0
archname=darwin-thread-multi-2level
uname='darwin harrow.local 19.6.0 darwin kernel version 19.6.0: thu oct 29 22:56:45 pdt 2020; root:xnu-6153.141.2.2~1release_x86_64 x86_64 '
config_args='-de -Dusethreads -Dprefix=/Users/cpantesting/cpantesting/perl-5.26.2'
hint=recommended
useposix=true
d_sigaction=define
useithreads=define
usemultiplicity=define
use64bitint=define
use64bitall=define
uselongdouble=undef
usemymalloc=n
default_inc_excludes_dot=define
bincompat5005=undef
Compiler:
cc='cc'
ccflags ='-fno-common -DPERL_DARWIN -mmacosx-version-min=10.15 -fno-strict-aliasing -pipe -fstack-protector-strong -I/usr/local/include -DPERL_USE_SAFE_PUTENV'
optimize='-O3'
cppflags='-fno-common -DPERL_DARWIN -mmacosx-version-min=10.15 -fno-strict-aliasing -pipe -fstack-protector-strong -I/usr/local/include'
ccversion=''
gccversion='Apple LLVM 12.0.0 (clang-1200.0.32.27)'
gccosandvers=''
intsize=4
longsize=8
ptrsize=8
doublesize=8
byteorder=12345678
doublekind=3
d_longlong=define
longlongsize=8
d_longdbl=define
longdblsize=16
longdblkind=3
ivtype='long'
ivsize=8
nvtype='double'
nvsize=8
Off_t='off_t'
lseeksize=8
alignbytes=8
prototype=define
Linker and Libraries:
ld='cc'
ldflags =' -mmacosx-version-min=10.15 -fstack-protector-strong -L/usr/local/lib'
libpth=/usr/local/lib /Library/Developer/CommandLineTools/usr/lib/clang/12.0.0/lib /Library/Developer/CommandLineTools/SDKs/MacOSX10.15.sdk/usr/lib /Library/Developer/CommandLineTools/usr/lib /usr/lib
libs=-lpthread -lgdbm -ldbm -ldl -lm -lutil -lc
perllibs=-lpthread -ldl -lm -lutil -lc
libc=
so=dylib
useshrplib=false
libperl=libperl.a
gnulibc_version=''
Dynamic Linking:
dlsrc=dl_dlopen.xs
dlext=bundle
d_dlsymun=undef
ccdlflags=' '
cccdlflags=' '
lddlflags=' -mmacosx-version-min=10.15 -bundle -undefined dynamic_lookup -L/usr/local/lib -fstack-protector-strong'
Characteristics of this binary (from libperl):
Compile-time options:
HAS_TIMES
MULTIPLICITY
PERLIO_LAYERS
PERL_COPY_ON_WRITE
PERL_DONT_CREATE_GVSV
PERL_IMPLICIT_CONTEXT
PERL_MALLOC_WRAP
PERL_OP_PARENT
PERL_PRESERVE_IVUV
PERL_USE_SAFE_PUTENV
USE_64_BIT_ALL
USE_64_BIT_INT
USE_ITHREADS
USE_LARGE_FILES
USE_LOCALE
USE_LOCALE_COLLATE
USE_LOCALE_CTYPE
USE_LOCALE_NUMERIC
USE_LOCALE_TIME
USE_PERLIO
USE_PERL_ATOF
USE_REENTRANT_API
Built under darwin
Compiled at Dec 29 2020 22:52:38
%ENV:
PERL="5.26.2"
PERL5LIB=""
PERL5OPT=""
PERL5_CPANPLUS_IS_RUNNING="58518"
PERL5_CPAN_IS_RUNNING="58518"
PERLBREW_HOME="/Users/cpantesting/.perlbrew"
PERLBREW_MANPATH="/Users/cpantesting/perl5/perlbrew/perls/perl-5.32.0/man"
PERLBREW_PATH="/Users/cpantesting/perl5/perlbrew/bin:/Users/cpantesting/perl5/perlbrew/perls/perl-5.32.0/bin"
PERLBREW_PERL="perl-5.32.0"
PERLBREW_ROOT="/Users/cpantesting/perl5/perlbrew"
PERLBREW_SHELLRC_VERSION="0.94"
PERLBREW_VERSION="0.94"
PERLVER="5.26.2"
PERL_INLINE_DIRECTORY="/Users/cpantesting/.Inline-5.26.2"
PERL_MM_USE_DEFAULT="1"
PERL_USE_UNSAFE_INC="0"
@INC:
/Users/cpantesting/cpantesting/perl-5.26.2/lib/site_perl/5.26.2/darwin-thread-multi-2level
/Users/cpantesting/cpantesting/perl-5.26.2/lib/site_perl/5.26.2
/Users/cpantesting/cpantesting/perl-5.26.2/lib/5.26.2/darwin-thread-multi-2level
/Users/cpantesting/cpantesting/perl-5.26.2/lib/5.26.2